Workbook
Name aa: #REF!
Name aa: #REF!
Name aa: #REF!
Name aa: #REF!
Name aa: #REF!
Name aa: #REF!
Name ddd: #REF!
Name FGFGF: #REF!
Name FGFGF: #REF!
Name FGFGF: #REF!
Name FGFGF: #REF!
Name FGFGF: #REF!
Name FGFGF: #REF!
Name GHGH: #REF!
Name GHGH: #REF!
Name GHGH: #REF!
Name GHGH: #REF!
Name GHGH: #REF!
Name GHGH: #REF!

Sheet ROSALPI 
A1: EMPRESA SOCIAL DEL ESTADO
A2: BELLOSALUD
A3: MUNICIPIO DE BELLO
A4: Nit. 811.007.148-5
A5: Carrera 42 No 20E 91
A6: Tel: 465 01 10 - 448 20 30
A8: ORDEN DE COMPRA | C8: ORDEN DE COMPRA
D10: EMPRESA SOCIAL DEL ESTADO BELLOSALUD
D11: FORMATO NECESIDAD DE MEDICAMENTOS SERVICIO FARMACEUTICO ROSALPI | S11: Versión: 02 | V11: Fecha: | W11: 46266
V12: Codigo: | W12: FA-F-006
S13: Elaborado por : Farmacia
A14: MES: | S14: AÑO:
A15: TIEMPO DE REPOSICIÓN (Tr): | D15: 8
A16: TIEMPO DE ADQUISICIÓN: | D16: 40
A17: TIEMPO DE ADQUISICIÓN: | D17: 40
A18: CODIGO DINAMICA | B18: CODIGO SAFIX | C18: Medicamento | D18: U. MANEJO | E18: NOVIEMBRE | F18: DICIEMBRE | G18: ENERO | H18: FEBRERO | I18: MARZO | J18: ABRIL | K18: CONS.PROM. | L18: EXIST. | M18: NmE | N18: PR. | O18: Ctrl | P18: NME | Q18: DE MAS | R18: CONSUMO MES | S18: CAP | T18: CANT | U18: RECIBIDO | V18: PENDIENTE | W18: PROVEEDOR

Sheet ZAMORA
B1: EMPRESA SOCIAL DEL ESTADO
B2: BELLOSALUD
B3: MUNICIPIO DE BELLO
B4: Nit. 811.007.148-5
B5: Carrera 42 No 20E 91
B6: Tel: 465 01 10 - 448 20 30
B8: ORDEN DE COMPRA | D8: ORDEN DE COMPRA
E10: EMPRESA SOCIAL DEL ESTADO BELLOSALUD
E11: NECESIDAD DE MEDICAMENTOS SERVICIO FARMACEUTICO ZAMORA | T11: Versión: 02 | W11: Fecha: | X11: 46266
W12: Codigo: | X12: FA-F-006
T13: Elaborado por : farmacia
B14: MES: | T14: AÑO:
B16: TIEMPO DE REPOSICIÓN (Tr): | E16: 8
B17: TIEMPO DE ADQUISICIÓN: | E17: 35
B18: TIEMPO DE ADQUISICIÓN: | E18: 35
B20: CODIGO DINAMICA | C20: CODIGO SAFIX | D20: ARTICULO | E20: U. MANEJO | F20: NOVI | G20: DIC | H20: ENERO | I20: FEBRERO | J20: MARZO | K20: ABRIL | L20: CONS.PROM. | M20: EXIST. | N20: SOBRA DIC | O20: MEDIO MES | P20: NmE | Q20: PR. | R20: Ctrl | S20: NME | T20: CAP | U20: CANT | V20: RECIBIDO | W20: PENDIENTE | X20: PROVEEDOR | Y20: proveedor
C21: 103100535 | D21: ACETAMINOFEN 1.5% 150MG/60ML JARABE | E21: FCO X 60 ML | F21: 27 | G21: 15 | H21: 11 | I21: 57 | J21: 37 | K21: 28 | L21: =AVERAGE(F21:K21,) -> 25 | M21: 36 | N21: =M21-L21 -> 11 | O21: =L21/2 -> 12.5 | P21: =+L21*(0.0333333333333333)*$E$16 -> 6.6666667 | Q21: =+P21+((L21/30)*$E$16) -> 13.333333 | R21: =IF(L21=0,"",IF(M21-Q21<=0,"*","")) | S21: =+P21+((L21/30)*$E$17) -> 35.833333 | T21: =+(S21-P21)+(Q21-M21) -> 6.5 | U21: 20 | W21: =U21-V21 -> 20 | X21: SYD COLOMBIA S.A | Z21: 10
C22: 103100001 | D22: ACETAMINOFEN 100 mg/ml SOLUCIÓN ORAL (GOTAS) | E22: FCO X 30 ML | F22: 0 | G22: 0 | H22: 0 | I22: 0 | J22: 1 | K22: 0 | L22: =AVERAGE(F22:K22,) -> 0.14285714 | M22: 0 | N22: =M22-L22 -> -0.14285714 | O22: =L22/2 -> 0.071428571 | P22: =+L22*(0.0333333333333333)*$E$16 -> 0.038095238 | Q22: =+P22+((L22/30)*$E$16) -> 0.076190476 | R22: =IF(L22=0,"",IF(M22-Q22<=0,"*","")) -> * | S22: =+P22+((L22/30)*$E$17) -> 0.2047619 | T22: =+(S22-P22)+(Q22-M22) -> 0.24285714 | U22: 0 | W22: =U22-V22 -> 0 | X22: CLINICAL PHARMA SAS | Z22: 0
C23: 103100002 | D23: ACETAMINOFEN 500 mg TABLETA | E23: UNIDAD | F23: 13557 | G23: 11507 | H23: 11907 | I23: 11758 | J23: 10641 | K23: 12677 | L23: =AVERAGE(F23:K23,) -> 10292.429 | M23: 13356 | N23: =M23-L23 -> 3063.5714 | O23: =L23/2 -> 5146.2143 | P23: =+L23*(0.0333333333333333)*$E$16 -> 2744.6476 | Q23: =+P23+((L23/30)*$E$16) -> 5489.2952 | R23: =IF(L23=0,"",IF(M23-Q23<=0,"*","")) | S23: =+P23+((L23/30)*$E$17) -> 14752.481 | T23: =+(S23-P23)+(Q23-M23) -> 4141.1286 | U23: 8000 | W23: =U23-V23 -> 8000 | X23: DISMERQ SAS | Z23: 4000
C24: 103100006 | D24: ACIDO ACETIL SALICILICO 100 mg TABLETA | E24: UNIDAD | F24: 7635 | G24: 7290 | H24: 7575 | I24: 6524 | J24: 6330 | K24: 8325 | L24: =AVERAGE(F24:K24,) -> 6239.8571 | M24: 9361 | N24: =M24-L24 -> 3121.1429 | O24: =L24/2 -> 3119.9286 | P24: =+L24*(0.0333333333333333)*$E$16 -> 1663.9619 | Q24: =+P24+((L24/30)*$E$16) -> 3327.9238 | R24: =IF(L24=0,"",IF(M24-Q24<=0,"*","")) | S24: =+P24+((L24/30)*$E$17) -> 8943.7952 | T24: =+(S24-P24)+(Q24-M24) -> 1246.7571 | U24: 3000 | W24: =U24-V24 -> 3000 | X24: DISMERQ SAS | Z24: 1500
C25: 103100007 | D25: ACIDO ASCORBICO 10% SOLUCIÓN ORAL | E25: FCO X 30 ML | F25: 1 | G25: 0 | H25: 0 | I25: 0 | J25: 2 | K25: 3 | L25: =AVERAGE(F25:K25,) -> 0.85714286 | M25: 1 | N25: =M25-L25 -> 0.14285714 | O25: =L25/2 -> 0.42857143 | P25: =+L25*(0.0333333333333333)*$E$16 -> 0.22857143 | Q25: =+P25+((L25/30)*$E$16) -> 0.45714286 | R25: =IF(L25=0,"",IF(M25-Q25<=0,"*","")) | S25: =+P25+((L25/30)*$E$17) -> 1.2285714 | T25: =+(S25-P25)+(Q25-M25) -> 0.45714286 | U25: 0 | W25: =U25-V25 -> 0 | X25: comercializadora mediflash | Z25: 0
C26: 103100009 | D26: ACIDO ASCORBICO 500 mg TABLETA | E26: UNIDAD | F26: 60 | G26: 105 | H26: 150 | I26: 165 | J26: 202 | K26: 195 | L26: =AVERAGE(F26:K26,) -> 125.28571 | M26: 148 | N26: =M26-L26 -> 22.714286 | O26: =L26/2 -> 62.642857 | P26: =+L26*(0.0333333333333333)*$E$16 -> 33.409524 | Q26: =+P26+((L26/30)*$E$16) -> 66.819048 | R26: =IF(L26=0,"",IF(M26-Q26<=0,"*","")) | S26: =+P26+((L26/30)*$E$17) -> 179.57619 | T26: =+(S26-P26)+(Q26-M26) -> 64.985714 | U26: 200 | W26: =U26-V26 -> 200 | X26: SYD COLOMBIA S.A | Z26: 0
C27: 103100010 | D27: ACIDO ASCORBICO 500 MG TABLETA MASTICABLE | E27: UNIDAD | F27: 110 | G27: 55 | H27: 135 | I27: 140 | J27: 90 | K27: 70 | L27: =AVERAGE(F27:K27,) -> 85.714286 | M27: 283 | N27: =M27-L27 -> 197.28571 | O27: =L27/2 -> 42.857143 | P27: =+L27*(0.0333333333333333)*$E$16 -> 22.857143 | Q27: =+P27+((L27/30)*$E$16) -> 45.714286 | R27: =IF(L27=0,"",IF(M27-Q27<=0,"*","")) | S27: =+P27+((L27/30)*$E$17) -> 122.85714 | T27: =+(S27-P27)+(Q27-M27) -> -137.28571 | U27: =IF(T27>8999,(CEILING(T27,1000)),IF(T27>4999,(CEILING(T27,500)),IF(T27>899,(CEILING(T27,300)),IF(T27>99,(CEILING(T27,50)),IF(T27>49,(CEILING(T27,30)),IF(T27>9,(CEILING(T27,5)),IF(T27<=0,0,T27))))))) -> 0 | W27: =U27-V27 -> 0 | X27: SYD COLOMBIA S.A | Z27: 0
C28: 103100012 | D28: ACIDO FOLICO 1 mg TABLETA | E28: UNIDAD | F28: 1615 | G28: 1380 | H28: 1455 | I28: 1845 | J28: 1350 | K28: 1834 | L28: =AVERAGE(F28:K28,) -> 1354.1429 | M28: 2291 | N28: =M28-L28 -> 936.85714 | O28: =L28/2 -> 677.07143 | P28: =+L28*(0.0333333333333333)*$E$16 -> 361.10476 | Q28: =+P28+((L28/30)*$E$16) -> 722.20952 | R28: =IF(L28=0,"",IF(M28-Q28<=0,"*","")) | S28: =+P28+((L28/30)*$E$17) -> 1940.9381 | T28: =+(S28-P28)+(Q28-M28) -> 11.042857 | U28: 500 | W28: =U28-V28 -> 500 | X28: SYD COLOMBIA S.A | Z28: 1000
C29: 103100013 | D29: ACIDO FOLICO 5MG TABLETAS | E29: UNIDAD | F29: 0 | G29: 30 | H29: 30 | I29: 0 | J29: 30 | K29: 30 | L29: =AVERAGE(F29:K29,) -> 17.142857 | M29: 119 | N29: =M29-L29 -> 101.85714 | O29: =L29/2 -> 8.5714286 | P29: =+L29*(0.0333333333333333)*$E$16 -> 4.5714286 | Q29: =+P29+((L29/30)*$E$16) -> 9.1428571 | R29: =IF(L29=0,"",IF(M29-Q29<=0,"*","")) | S29: =+P29+((L29/30)*$E$17) -> 24.571429 | T29: =+(S29-P29)+(Q29-M29) -> -89.857143 | U29: =IF(T29>8999,(CEILING(T29,1000)),IF(T29>4999,(CEILING(T29,500)),IF(T29>899,(CEILING(T29,300)),IF(T29>99,(CEILING(T29,50)),IF(T29>49,(CEILING(T29,30)),IF(T29>9,(CEILING(T29,5)),IF(T29<=0,0,T29))))))) -> 0 | W29: =U29-V29 -> 0 | X29: SYD COLOMBIA S.A | Z29: 0
C30: 103100014 | D30: ACIDO RETINOICO 0.05% CREMA | E30: POTE X 30 g | F30: 6 | G30: 5 | H30: 5 | I30: 5 | J30: 2 | K30: 16 | L30: =AVERAGE(F30:K30,) -> 5.5714286 | M30: 9 | N30: =M30-L30 -> 3.4285714 | O30: =L30/2 -> 2.7857143 | P30: =+L30*(0.0333333333333333)*$E$16 -> 1.4857143 | Q30: =+P30+((L30/30)*$E$16) -> 2.9714286 | R30: =IF(L30=0,"",IF(M30-Q30<=0,"*","")) | S30: =+P30+((L30/30)*$E$17) -> 7.9857143 | T30: =+(S30-P30)+(Q30-M30) -> 0.47142857 | U30: 5 | W30: =U30-V30 -> 5 | X30: DISMERQ SAS | Z30: 0
C31: 103100015 | D31: ACIDO RETINOICO 0.05% LOCIÓN | E31: FCO X 60 ML | F31: 3 | G31: 2 | H31: 2 | I31: 0 | J31: 0 | K31: 0 | L31: =AVERAGE(F31:K31,) -> 1 | M31: 6 | N31: =M31-L31 -> 5 | O31: =L31/2 -> 0.5 | P31: =+L31*(0.0333333333333333)*$E$16 -> 0.26666667 | Q31: =+P31+((L31/30)*$E$16) -> 0.53333333 | R31: =IF(L31=0,"",IF(M31-Q31<=0,"*","")) | S31: =+P31+((L31/30)*$E$17) -> 1.4333333 | T31: =+(S31-P31)+(Q31-M31) -> -4.3 | U31: =IF(T31>8999,(CEILING(T31,1000)),IF(T31>4999,(CEILING(T31,500)),IF(T31>899,(CEILING(T31,300)),IF(T31>99,(CEILING(T31,50)),IF(T31>49,(CEILING(T31,30)),IF(T31>9,(CEILING(T31,5)),IF(T31<=0,0,T31))))))) -> 0 | W31: =U31-V31 -> 0 | X31: DISMERQ SAS | Z31: 0
C32: 103100017 | D32: ACIDO VALPROICO 250 mg CAPSULA | E32: UNIDAD | F32: 3360 | G32: 2950 | H32: 2440 | I32: 2160 | J32: 2550 | K32: 3330 | L32: =AVERAGE(F32:K32,) -> 2398.5714 | M32: 2909 | N32: =M32-L32 -> 510.42857 | O32: =L32/2 -> 1199.2857 | P32: =+L32*(0.0333333333333333)*$E$16 -> 639.61905 | Q32: =+P32+((L32/30)*$E$16) -> 1279.2381 | R32: =IF(L32=0,"",IF(M32-Q32<=0,"*","")) | S32: =+P32+((L32/30)*$E$17) -> 3437.9524 | T32: =+(S32-P32)+(Q32-M32) -> 1168.5714 | U32: 2000 | W32: =U32-V32 -> 2000 | X32: DISMERQ SAS | Z32: 1200
C33: 103100018 | D33: ACIDO VALPROICO 250 mg/5ml JARABE | E33: FCO X 120 ML | F33: 2 | G33: 0 | H33: 0 | I33: 1 | J33: 5 | K33: 8 | L33: =AVERAGE(F33:K33,) -> 2.2857143 | M33: 7 | N33: 15 | O33: =L33/2 -> 1.1428571 | P33: =+L33*(0.0333333333333333)*$E$16 -> 0.60952381 | Q33: =+P33+((L33/30)*$E$16) -> 1.2190476 | R33: =IF(L33=0,"",IF(M33-Q33<=0,"*","")) | S33: =+P33+((L33/30)*$E$17) -> 3.2761905 | T33: =+(S33-P33)+(Q33-M33) -> -3.1142857 | U33: 10 | W33: =U33-V33 -> 10 | X33: DISMERQ SAS | Z33: 0
C34: 103100016 | D34: ACIDO TRANEXANICO AMPOLLA 500 MG /5ML | E34: AMPOLLA 500/5ML | F34: 0 | G34: 0 | H34: 0 | I34: 0 | J34: 0 | K34: 0 | L34: 0 | M34: 0 | O34: =L34/2 -> 0 | P34: =+L34*(0.0333333333333333)*$E$16 -> 0 | Q34: =+P34+((L34/30)*$E$16) -> 0 | S34: =+P34+((L34/30)*$E$17) -> 0 | T34: =+(S34-P34)+(Q34-M34) -> 0 | U34: =IF(T34>8999,(CEILING(T34,1000)),IF(T34>4999,(CEILING(T34,500)),IF(T34>899,(CEILING(T34,300)),IF(T34>99,(CEILING(T34,50)),IF(T34>49,(CEILING(T34,30)),IF(T34>9,(CEILING(T34,5)),IF(T34<=0,0,T34))))))) -> 0 | W34: =U34-V34 -> 0 | X34: DISMERQ SAS | Z34: 0
C35: 103100004 | D35: ACICLOVIR 200 mg TABLETA | E35: UNIDAD | F35: 476 | G35: 330 | H35: 240 | I35: 240 | J35: 240 | K35: 420 | L35: =AVERAGE(F35:K35,) -> 278 | M35: 438 | N35: =M35-L35 -> 160 | O35: =L35/2 -> 139 | P35: =+L35*(0.0333333333333333)*$E$16 -> 74.133333 | Q35: =+P35+((L35/30)*$E$16) -> 148.26667 | R35: =IF(L35=0,"",IF(M35-Q35<=0,"*","")) | S35: =+P35+((L35/30)*$E$17) -> 398.46667 | T35: =+(S35-P35)+(Q35-M35) -> 34.6 | U35: 200 | W35: =U35-V35 -> 200 | X35: SYD COLOMBIA S.A | Z35: 0
C36: 103100005 | D36: ACICLOVIR 800 mg TABLETA | E36: UNIDAD | F36: 0 | G36: 69 | H36: 93 | I36: 39 | J36: 15 | K36: 51 | L36: =AVERAGE(F36:K36,) -> 38.142857 | M36: 68 | N36: =M36-L36 -> 29.857143 | O36: =L36/2 -> 19.071429 | P36: =+L36*(0.0333333333333333)*$E$16 -> 10.171429 | Q36: =+P36+((L36/30)*$E$16) -> 20.342857 | R36: =IF(L36=0,"",IF(M36-Q36<=0,"*","")) | S36: =+P36+((L36/30)*$E$17) -> 54.671429 | T36: =+(S36-P36)+(Q36-M36) -> -3.1571429 | U36: =IF(T36>8999,(CEILING(T36,1000)),IF(T36>4999,(CEILING(T36,500)),IF(T36>899,(CEILING(T36,300)),IF(T36>99,(CEILING(T36,50)),IF(T36>49,(CEILING(T36,30)),IF(T36>9,(CEILING(T36,5)),IF(T36<=0,0,T36))))))) -> 0 | W36: =U36-V36 -> 0 | X36: SYD COLOMBIA S.A | Z36: 0
C37: 103100019 | D37: ADENOSINA 6 mg/2 ml AMPOLLA | E37: INYECTABLE | F37: 0 | G37: 0 | H37: 0 | I37: 0 | J37: 0 | K37: 0 | L37: =AVERAGE(F37:K37,) -> 0 | M37: 0 | N37: =M37-L37 -> 0 | O37: =L37/2 -> 0 | P37: =+L37*(0.0333333333333333)*$E$16 -> 0 | Q37: =+P37+((L37/30)*$E$16) -> 0 | R37: =IF(L37=0,"",IF(M37-Q37<=0,"*","")) | S37: =+P37+((L37/30)*$E$17) -> 0 | T37: =+(S37-P37)+(Q37-M37) -> 0 | U37: =IF(T37>8999,(CEILING(T37,1000)),IF(T37>4999,(CEILING(T37,500)),IF(T37>899,(CEILING(T37,300)),IF(T37>99,(CEILING(T37,50)),IF(T37>49,(CEILING(T37,30)),IF(T37>9,(CEILING(T37,5)),IF(T37<=0,0,T37))))))) -> 0 | W37: =U37-V37 -> 0 | X37: SYD COLOMBIA S.A | Z37: 0
C38: 103100020 | D38: ADRENALINA 1mg/ml AMPOLLA | E38: UNIDAD | F38: 0 | G38: 0 | H38: 0 | I38: 0 | J38: 0 | K38: 0 | L38: =AVERAGE(F38:K38,) -> 0 | M38: 0 | N38: =M38-L38 -> 0 | O38: =L38/2 -> 0 | P38: =+L38*(0.0333333333333333)*$E$16 -> 0 | Q38: =+P38+((L38/30)*$E$16) -> 0 | R38: =IF(L38=0,"",IF(M38-Q38<=0,"*","")) | S38: =+P38+((L38/30)*$E$17) -> 0 | T38: =+(S38-P38)+(Q38-M38) -> 0 | U38: =IF(T38>8999,(CEILING(T38,1000)),IF(T38>4999,(CEILING(T38,500)),IF(T38>899,(CEILING(T38,300)),IF(T38>99,(CEILING(T38,50)),IF(T38>49,(CEILING(T38,30)),IF(T38>9,(CEILING(T38,5)),IF(T38<=0,0,T38))))))) -> 0 | W38: =U38-V38 -> 0 | X38: SYD COLOMBIA S.A | Z38: 0
C39: 103100021 | D39: AGUA ESTERIL 5 ml AMPOLLA | E39: UNIDAD | F39: 70 | G39: 0 | H39: 0 | I39: 10 | J39: 81 | K39: 82 | L39: =AVERAGE(F39:K39,) -> 34.714286 | M39: 83 | N39: =M39-L39 -> 48.285714 | O39: =L39/2 -> 17.357143 | P39: =+L39*(0.0333333333333333)*$E$16 -> 9.2571429 | Q39: =+P39+((L39/30)*$E$16) -> 18.514286 | R39: =IF(L39=0,"",IF(M39-Q39<=0,"*","")) | S39: =+P39+((L39/30)*$E$17) -> 49.757143 | T39: =+(S39-P39)+(Q39-M39) -> -23.985714 | U39: =IF(T39>8999,(CEILING(T39,1000)),IF(T39>4999,(CEILING(T39,500)),IF(T39>899,(CEILING(T39,300)),IF(T39>99,(CEILING(T39,50)),IF(T39>49,(CEILING(T39,30)),IF(T39>9,(CEILING(T39,5)),IF(T39<=0,0,T39))))))) -> 0 | W39: =U39-V39 -> 0 | X39: comercializadora mediflash | Z39: 0
C40: 103100022 | D40: AGUA ESTERIL USP BOLSA X 500ML - UNIDAD | E40: UNIDAD | F40: 0 | G40: 0 | H40: 0 | I40: 0 | J40: 0 | K40: 0 | L40: =AVERAGE(F40:K40,) -> 0 | M40: 0 | N40: 0 | O40: =L40/2 -> 0 | P40: =+L40*(0.0333333333333333)*$E$16 -> 0 | Q40: =+P40+((L40/30)*$E$16) -> 0 | R40: =IF(L40=0,"",IF(M40-Q40<=0,"*","")) | S40: =+P40+((L40/30)*$E$17) -> 0 | T40: =+(S40-P40)+(Q40-M40) -> 0 | U40: =IF(T40>8999,(CEILING(T40,1000)),IF(T40>4999,(CEILING(T40,500)),IF(T40>899,(CEILING(T40,300)),IF(T40>99,(CEILING(T40,50)),IF(T40>49,(CEILING(T40,30)),IF(T40>9,(CEILING(T40,5)),IF(T40<=0,0,T40))))))) -> 0 | W40: =U40-V40 -> 0 | X40: comercializadora mediflash | Z40: 0
C41: 103100024 | D41: ALBENDAZOL 400mg/20 ml SUSPENSIÓN ORAL | E41: FRASCO | F41: 67 | G41: 34 | H41: 34 | I41: 72 | J41: 72 | K41: 92 | L41: =AVERAGE(F41:K41,) -> 53 | M41: 87 | N41: =M41-L41 -> 34 | O41: =L41/2 -> 26.5 | P41: =+L41*(0.0333333333333333)*$E$16 -> 14.133333 | Q41: =+P41+((L41/30)*$E$16) -> 28.266667 | R41: =IF(L41=0,"",IF(M41-Q41<=0,"*","")) | S41: =+P41+((L41/30)*$E$17) -> 75.966667 | T41: =+(S41-P41)+(Q41-M41) -> 3.1 | U41: 30 | W41: =U41-V41 -> 30 | X41: comercializadora mediflash | Z41: 0
C42: 103100023 | D42: ALBENDAZOL 200 mg TABLETA | E42: UNIDAD | F42: 71 | G42: 61 | H42: 58 | I42: 78 | J42: 90 | K42: 88 | L42: =AVERAGE(F42:K42,) -> 63.714286 | M42: 88 | N42: =M42-L42 -> 24.285714 | O42: =L42/2 -> 31.857143 | P42: =+L42*(0.0333333333333333)*$E$16 -> 16.990476 | Q42: =+P42+((L42/30)*$E$16) -> 33.980952 | R42: =IF(L42=0,"",IF(M42-Q42<=0,"*","")) | S42: =+P42+((L42/30)*$E$17) -> 91.32381 | T42: =+(S42-P42)+(Q42-M42) -> 20.314286 | U42: 60 | W42: =U42-V42 -> 60 | X42: comercializadora mediflash | Z42: 120
C43: 103100712 | D43: ALCOHOL ANTISEPTICO MK 700ML - FRASCO | E43: FRASCO | F43: 46 | G43: 38 | H43: 38 | I43: 40 | J43: 43 | K43: 46 | L43: =AVERAGE(F43:K43,) -> 35.857143 | M43: 57 | N43: =M43-L43 -> 21.142857 | O43: =L43/2 -> 17.928571 | P43: =+L43*(0.0333333333333333)*$E$16 -> 9.5619048 | Q43: =+P43+((L43/30)*$E$16) -> 19.12381 | R43: =IF(L43=0,"",IF(M43-Q43<=0,"*","")) | S43: =+P43+((L43/30)*$E$17) -> 51.395238 | T43: =+(S43-P43)+(Q43-M43) -> 3.9571429 | U43: 30 | W43: =U43-V43 -> 30 | X43: SYD COLOMBIA S.A | Z43: 40
C44: 103100025 | D44: ALFAMETILDOPA 250 mg TABLETA | E44: UNIDAD | F44: 180 | G44: 390 | H44: 480 | I44: 210 | J44: 330 | K44: 240 | L44: =AVERAGE(F44:K44,) -> 261.42857 | M44: 270 | N44: =M44-L44 -> 8.5714286 | O44: =L44/2 -> 130.71429 | P44: =+L44*(0.0333333333333333)*$E$16 -> 69.714286 | Q44: =+P44+((L44/30)*$E$16) -> 139.42857 | R44: =IF(L44=0,"",IF(M44-Q44<=0,"*","")) | S44: =+P44+((L44/30)*$E$17) -> 374.71429 | T44: =+(S44-P44)+(Q44-M44) -> 174.42857 | U44: 300 | W44: =U44-V44 -> 300 | X44: SYD COLOMBIA S.A | Z44: 0
...

Sheet PARIS
B1: EMPRESA SOCIAL DEL ESTADO
B2: BELLOSALUD
B3: MUNICIPIO DE BELLO
B4: Nit. 811.007.148-5
B5: Carrera 42 No 20E 91
B6: Tel: 465 01 10 - 448 20 30
B8: ORDEN DE COMPRA | D8: ORDEN DE COMPRA
E10: EMPRESA SOCIAL DEL ESTADO BELLOSALUD
E11: NECESIDAD DE MEDICAMENTOS SERVICIO FARMACEUTICO PARIS | T11: Versión: 02 | V11: Fecha: | W11: 46266
V12: Codigo: | W12: FA-F-006
T13: Elaborado por : Farmacia
B14: MES: | T14: AÑO:
B16: TIEMPO DE REPOSICIÓN (Tr): | E16: 8
B17: TIEMPO DE ADQUISICIÓN: | E17: 35
B18: TIEMPO DE ADQUISICIÓN: | E18: 35
B20: CODIGO DINAMICA | C20: CODIGO SAFIX | D20: ARTICULO | E20: U. MANEJO | F20: NOVIEMBRE | G20: DICIEMBRE | H20: ENERO | I20: FEBRERO | J20: MARZO | K20: ABRIL | L20: CONS.PROM. | M20: EXIST. | N20: SOBRA PARA DIC | O20: NmE | P20: PR. | Q20: Ctrl | R20: NME | S20: CAP | T20: CANT | U20: RECIBIDO | V20: PENDIENTE | W20: PROVEEDOR
C21: 103100535 | D21: ACETAMINOFEN 1.5% 150MG/60ML JARABE | E21: FCO X 60 ML | F21: 30 | G21: 16 | H21: 16 | I21: 21 | J21: 26 | K21: 25 | L21: =AVERAGE(F21:K21) -> 22.333333 | M21: 44 | N21: =M21-L21 -> 21.666667 | O21: =+L21*(0.0333333333333333)*$E$16 -> 5.9555556 | P21: =+O21+((L21/30)*$E$16) -> 11.911111 | Q21: =IF(L21=0,"",IF(M21-P21<=0,"*","")) | R21: =+O21+((L21/30)*$E$17) -> 32.011111 | S21: =+(R21-O21)+(P21-M21) -> -6.0333333 | T21: 10 | V21: =T21-U21 -> 10 | W21: SYD COLOMBIA S.A
C22: 103100001 | D22: ACETAMINOFEN 100 mg/ml SOLUCIÓN ORAL (GOTAS) | E22: FCO X 30 ML | F22: 0 | G22: 0 | H22: 0 | I22: 0 | J22: 0 | K22: 0 | L22: =AVERAGE(F22:K22) -> 0 | M22: 3 | N22: 2 | O22: =+L22*(0.0333333333333333)*$E$16 -> 0 | P22: =+O22+((L22/30)*$E$16) -> 0 | Q22: =IF(L22=0,"",IF(M22-P22<=0,"*","")) | R22: =+O22+((L22/30)*$E$17) -> 0 | S22: =+(R22-O22)+(P22-M22) -> -3 | T22: =IF(S22>8999,(CEILING(S22,1000)),IF(S22>4999,(CEILING(S22,500)),IF(S22>899,(CEILING(S22,300)),IF(S22>99,(CEILING(S22,50)),IF(S22>49,(CEILING(S22,30)),IF(S22>9,(CEILING(S22,5)),IF(S22<=0,0,S22))))))) -> 0 | V22: =T22-U22 -> 0 | W22: CLINICAL PHARMA SAS
C23: 103100002 | D23: ACETAMINOFEN 500 mg TABLETA | E23: UNIDAD | F23: 28665 | G23: 22942 | H23: 22632 | I23: 23120 | J23: 21885 | K23: 40344 | L23: =AVERAGE(F23:K23) -> 26598 | M23: 29071 | N23: =M23-L23 -> 2473 | O23: =+L23*(0.0333333333333333)*$E$16 -> 7092.8 | P23: =+O23+((L23/30)*$E$16) -> 14185.6 | Q23: =IF(L23=0,"",IF(M23-P23<=0,"*","")) | R23: =+O23+((L23/30)*$E$17) -> 38123.8 | S23: =+(R23-O23)+(P23-M23) -> 16145.6 | T23: 25000 | V23: =T23-U23 -> 25000 | W23: DISMERQ SAS
C24: 103100006 | D24: ACIDO ACETIL SALICILICO 100 mg TABLETA | E24: UNIDAD | F24: 7707 | G24: 6528 | H24: 6398 | I24: 6656 | J24: 7036 | K24: 9225 | L24: =AVERAGE(F24:K24) -> 7258.3333 | M24: 7727 | N24: =M24-L24 -> 468.66667 | O24: =+L24*(0.0333333333333333)*$E$16 -> 1935.5556 | P24: =+O24+((L24/30)*$E$16) -> 3871.1111 | Q24: =IF(L24=0,"",IF(M24-P24<=0,"*","")) | R24: =+O24+((L24/30)*$E$17) -> 10403.611 | S24: =+(R24-O24)+(P24-M24) -> 4612.1667 | T24: 6000 | V24: =T24-U24 -> 6000 | W24: DISMERQ SAS
C25: 103100007 | D25: ACIDO ASCORBICO 10% SOLUCIÓN ORAL | E25: FCO X 30 ML | F25: 0 | G25: 0 | H25: 0 | I25: 0 | J25: 0 | K25: 0 | L25: =AVERAGE(F25:K25) -> 0 | M25: 0 | N25: =M25-L25 -> 0 | O25: =+L25*(0.0333333333333333)*$E$16 -> 0 | P25: =+O25+((L25/30)*$E$16) -> 0 | Q25: =IF(L25=0,"",IF(M25-P25<=0,"*","")) | R25: =+O25+((L25/30)*$E$17) -> 0 | S25: =+(R25-O25)+(P25-M25) -> 0 | T25: =IF(S25>8999,(CEILING(S25,1000)),IF(S25>4999,(CEILING(S25,500)),IF(S25>899,(CEILING(S25,300)),IF(S25>99,(CEILING(S25,50)),IF(S25>49,(CEILING(S25,30)),IF(S25>9,(CEILING(S25,5)),IF(S25<=0,0,S25))))))) -> 0 | V25: =T25-U25 -> 0 | W25: comercializadora mediflash
C26: 103100009 | D26: ACIDO ASCORBICO 500 mg TABLETA | E26: UNIDAD | F26: 140 | G26: 70 | H26: 60 | I26: 30 | J26: 70 | K26: 30 | L26: =AVERAGE(F26:K26) -> 66.666667 | M26: 111 | N26: =M26-L26 -> 44.333333 | O26: =+L26*(0.0333333333333333)*$E$16 -> 17.777778 | P26: =+O26+((L26/30)*$E$16) -> 35.555556 | Q26: =IF(L26=0,"",IF(M26-P26<=0,"*","")) | R26: =+O26+((L26/30)*$E$17) -> 95.555556 | S26: =+(R26-O26)+(P26-M26) -> 2.3333333 | T26: 0 | V26: =T26-U26 -> 0 | W26: SYD COLOMBIA S.A
C27: 103100010 | D27: ACIDO ASCORBICO 500 MG TABLETA MASTICABLE | E27: UNIDAD | F27: 30 | G27: 98 | H27: 84 | I27: 90 | J27: 70 | K27: 45 | L27: =AVERAGE(F27:K27) -> 69.5 | M27: 331 | N27: =M27-L27 -> 261.5 | O27: =+L27*(0.0333333333333333)*$E$16 -> 18.533333 | P27: =+O27+((L27/30)*$E$16) -> 37.066667 | Q27: =IF(L27=0,"",IF(M27-P27<=0,"*","")) | R27: =+O27+((L27/30)*$E$17) -> 99.616667 | S27: =+(R27-O27)+(P27-M27) -> -212.85 | T27: =IF(S27>8999,(CEILING(S27,1000)),IF(S27>4999,(CEILING(S27,500)),IF(S27>899,(CEILING(S27,300)),IF(S27>99,(CEILING(S27,50)),IF(S27>49,(CEILING(S27,30)),IF(S27>9,(CEILING(S27,5)),IF(S27<=0,0,S27))))))) -> 0 | V27: =T27-U27 -> 0 | W27: SYD COLOMBIA S.A
C28: 103100012 | D28: ACIDO FOLICO 1 mg TABLETA | E28: UNIDAD | F28: 1054 | G28: 1054 | H28: 1294 | I28: 1227 | J28: 1234 | K28: 1397 | L28: =AVERAGE(F28:K28) -> 1210 | M28: 2239 | N28: =M28-L28 -> 1029 | O28: =+L28*(0.0333333333333333)*$E$16 -> 322.66667 | P28: =+O28+((L28/30)*$E$16) -> 645.33333 | Q28: =IF(L28=0,"",IF(M28-P28<=0,"*","")) | R28: =+O28+((L28/30)*$E$17) -> 1734.3333 | S28: =+(R28-O28)+(P28-M28) -> -182 | T28: 1000 | V28: =T28-U28 -> 1000 | W28: SYD COLOMBIA S.A
C29: 103100013 | D29: ACIDO FOLICO 5MG TABLETAS | E29: UNIDAD | F29: 0 | G29: 70 | H29: 60 | I29: 103 | J29: 138 | K29: 150 | L29: =AVERAGE(F29:K29) -> 86.833333 | M29: 397 | N29: =M29-L29 -> 310.16667 | O29: =+L29*(0.0333333333333333)*$E$16 -> 23.155556 | P29: =+O29+((L29/30)*$E$16) -> 46.311111 | Q29: =IF(L29=0,"",IF(M29-P29<=0,"*","")) | R29: =+O29+((L29/30)*$E$17) -> 124.46111 | S29: =+(R29-O29)+(P29-M29) -> -249.38333 | T29: =IF(S29>8999,(CEILING(S29,1000)),IF(S29>4999,(CEILING(S29,500)),IF(S29>899,(CEILING(S29,300)),IF(S29>99,(CEILING(S29,50)),IF(S29>49,(CEILING(S29,30)),IF(S29>9,(CEILING(S29,5)),IF(S29<=0,0,S29))))))) -> 0 | V29: =T29-U29 -> 0 | W29: SYD COLOMBIA S.A
C30: 103100014 | D30: ACIDO RETINOICO 0.05% CREMA | E30: POTE X 30 g | F30: 4 | G30: 3 | H30: 2 | I30: 1 | J30: 1 | K30: 10 | L30: =AVERAGE(F30:K30) -> 3.5 | M30: 3 | N30: =M30-L30 -> -0.5 | O30: =+L30*(0.0333333333333333)*$E$16 -> 0.93333333 | P30: =+O30+((L30/30)*$E$16) -> 1.8666667 | Q30: =IF(L30=0,"",IF(M30-P30<=0,"*","")) | R30: =+O30+((L30/30)*$E$17) -> 5.0166667 | S30: =+(R30-O30)+(P30-M30) -> 2.95 | T30: 3 | V30: =T30-U30 -> 3 | W30: DISMERQ SAS
C31: 103100015 | D31: ACIDO RETINOICO 0.05% LOCIÓN | E31: FCO X 60 ML | F31: 3 | G31: 1 | H31: 1 | I31: 0 | J31: 1 | K31: 2 | L31: =AVERAGE(F31:K31) -> 1.3333333 | M31: 9 | N31: =M31-L31 -> 7.6666667 | O31: =+L31*(0.0333333333333333)*$E$16 -> 0.35555556 | P31: =+O31+((L31/30)*$E$16) -> 0.71111111 | Q31: =IF(L31=0,"",IF(M31-P31<=0,"*","")) | R31: =+O31+((L31/30)*$E$17) -> 1.9111111 | S31: =+(R31-O31)+(P31-M31) -> -6.7333333 | T31: =IF(S31>8999,(CEILING(S31,1000)),IF(S31>4999,(CEILING(S31,500)),IF(S31>899,(CEILING(S31,300)),IF(S31>99,(CEILING(S31,50)),IF(S31>49,(CEILING(S31,30)),IF(S31>9,(CEILING(S31,5)),IF(S31<=0,0,S31))))))) -> 0 | V31: =T31-U31 -> 0 | W31: DISMERQ SAS
C32: 103100017 | D32: ACIDO VALPROICO 250 mg CAPSULA | E32: UNIDAD | F32: 4320 | G32: 3530 | H32: 4020 | I32: 3690 | J32: 3450 | K32: 4560 | L32: =AVERAGE(F32:K32) -> 3928.3333 | M32: 4060 | N32: =M32-L32 -> 131.66667 | O32: =+L32*(0.0333333333333333)*$E$16 -> 1047.5556 | P32: =+O32+((L32/30)*$E$16) -> 2095.1111 | Q32: =IF(L32=0,"",IF(M32-P32<=0,"*","")) | R32: =+O32+((L32/30)*$E$17) -> 5630.6111 | S32: =+(R32-O32)+(P32-M32) -> 2618.1667 | T32: 4500 | V32: =T32-U32 -> 4500 | W32: DISMERQ SAS
C33: 103100018 | D33: ACIDO VALPROICO 250 mg/5ml JARABE | E33: FCO X 120 ML | F33: 5 | G33: 16 | H33: 17 | I33: 11 | J33: 11 | K33: 6 | L33: =AVERAGE(F33:K33) -> 11 | M33: 17 | N33: =M33-L33 -> 6 | O33: =+L33*(0.0333333333333333)*$E$16 -> 2.9333333 | P33: =+O33+((L33/30)*$E$16) -> 5.8666667 | Q33: =IF(L33=0,"",IF(M33-P33<=0,"*","")) | R33: =+O33+((L33/30)*$E$17) -> 15.766667 | S33: =+(R33-O33)+(P33-M33) -> 1.7 | T33: 10 | V33: =T33-U33 -> 10 | W33: DISMERQ SAS
C34: 103100016 | D34: ACIDO TRANEXANICO AMPOLLA 500 MG /5ML | E34: AMPOLLA 500/5ML | F34: 0 | G34: 0 | H34: 0 | I34: 0 | J34: 0 | K34: 0 | L34: 0 | M34: 0 | O34: =+L34*(0.0333333333333333)*$E$16 -> 0 | P34: =+O34+((L34/30)*$E$16) -> 0 | R34: =+O34+((L34/30)*$E$17) -> 0 | S34: =+(R34-O34)+(P34-M34) -> 0 | T34: =IF(S34>8999,(CEILING(S34,1000)),IF(S34>4999,(CEILING(S34,500)),IF(S34>899,(CEILING(S34,300)),IF(S34>99,(CEILING(S34,50)),IF(S34>49,(CEILING(S34,30)),IF(S34>9,(CEILING(S34,5)),IF(S34<=0,0,S34))))))) -> 0 | V34: =T34-U34 -> 0 | W34: DISMERQ SAS
C35: 103100004 | D35: ACICLOVIR 200 mg TABLETA | E35: UNIDAD | F35: 60 | G35: 129 | H35: 157 | I35: 90 | J35: 22 | K35: 0 | L35: =AVERAGE(F35:K35) -> 76.333333 | M35: 536 | N35: =M35-L35 -> 459.66667 | O35: =+L35*(0.0333333333333333)*$E$16 -> 20.355556 | P35: =+O35+((L35/30)*$E$16) -> 40.711111 | Q35: =IF(L35=0,"",IF(M35-P35<=0,"*","")) | R35: =+O35+((L35/30)*$E$17) -> 109.41111 | S35: =+(R35-O35)+(P35-M35) -> -406.23333 | T35: =IF(S35>8999,(CEILING(S35,1000)),IF(S35>4999,(CEILING(S35,500)),IF(S35>899,(CEILING(S35,300)),IF(S35>99,(CEILING(S35,50)),IF(S35>49,(CEILING(S35,30)),IF(S35>9,(CEILING(S35,5)),IF(S35<=0,0,S35))))))) -> 0 | V35: =T35-U35 -> 0 | W35: SYD COLOMBIA S.A
C36: 103100005 | D36: ACICLOVIR 800 mg TABLETA | E36: UNIDAD | F36: 92 | G36: 38 | H36: 35 | I36: 111 | J36: 40 | K36: 30 | L36: =AVERAGE(F36:K36) -> 57.666667 | M36: 259 | N36: =M36-L36 -> 201.33333 | O36: =+L36*(0.0333333333333333)*$E$16 -> 15.377778 | P36: =+O36+((L36/30)*$E$16) -> 30.755556 | Q36: =IF(L36=0,"",IF(M36-P36<=0,"*","")) | R36: =+O36+((L36/30)*$E$17) -> 82.655556 | S36: =+(R36-O36)+(P36-M36) -> -160.96667 | T36: 0 | V36: =T36-U36 -> 0 | W36: SYD COLOMBIA S.A
C37: 103100019 | D37: ADENOSINA 6 mg/2 ml AMPOLLA | E37: INYECTABLE | F37: 0 | G37: 0 | H37: 0 | I37: 0 | J37: 0 | K37: 0 | L37: =AVERAGE(F37:K37) -> 0 | M37: 0 | N37: =M37-L37 -> 0 | O37: =+L37*(0.0333333333333333)*$E$16 -> 0 | P37: =+O37+((L37/30)*$E$16) -> 0 | Q37: =IF(L37=0,"",IF(M37-P37<=0,"*","")) | R37: =+O37+((L37/30)*$E$17) -> 0 | S37: =+(R37-O37)+(P37-M37) -> 0 | T37: =IF(S37>8999,(CEILING(S37,1000)),IF(S37>4999,(CEILING(S37,500)),IF(S37>899,(CEILING(S37,300)),IF(S37>99,(CEILING(S37,50)),IF(S37>49,(CEILING(S37,30)),IF(S37>9,(CEILING(S37,5)),IF(S37<=0,0,S37))))))) -> 0 | V37: =T37-U37 -> 0 | W37: SYD COLOMBIA S.A
C38: 103100020 | D38: ADRENALINA 1mg/ml AMPOLLA | E38: UNIDAD | F38: 0 | G38: 0 | H38: 0 | I38: 0 | J38: 0 | K38: 0 | L38: =AVERAGE(F38:K38) -> 0 | M38: 0 | N38: =M38-L38 -> 0 | O38: =+L38*(0.0333333333333333)*$E$16 -> 0 | P38: =+O38+((L38/30)*$E$16) -> 0 | Q38: =IF(L38=0,"",IF(M38-P38<=0,"*","")) | R38: =+O38+((L38/30)*$E$17) -> 0 | S38: =+(R38-O38)+(P38-M38) -> 0 | T38: =IF(S38>8999,(CEILING(S38,1000)),IF(S38>4999,(CEILING(S38,500)),IF(S38>899,(CEILING(S38,300)),IF(S38>99,(CEILING(S38,50)),IF(S38>49,(CEILING(S38,30)),IF(S38>9,(CEILING(S38,5)),IF(S38<=0,0,S38))))))) -> 0 | V38: =T38-U38 -> 0 | W38: SYD COLOMBIA S.A
C39: 103100021 | D39: AGUA ESTERIL 5 ml AMPOLLA | E39: UNIDAD | F39: 39 | G39: 16 | H39: 21 | I39: 32 | J39: 26 | K39: 36 | L39: =AVERAGE(F39:K39) -> 28.333333 | M39: 104 | N39: =M39-L39 -> 75.666667 | O39: =+L39*(0.0333333333333333)*$E$16 -> 7.5555556 | P39: =+O39+((L39/30)*$E$16) -> 15.111111 | Q39: =IF(L39=0,"",IF(M39-P39<=0,"*","")) | R39: =+O39+((L39/30)*$E$17) -> 40.611111 | S39: =+(R39-O39)+(P39-M39) -> -55.833333 | T39: =IF(S39>8999,(CEILING(S39,1000)),IF(S39>4999,(CEILING(S39,500)),IF(S39>899,(CEILING(S39,300)),IF(S39>99,(CEILING(S39,50)),IF(S39>49,(CEILING(S39,30)),IF(S39>9,(CEILING(S39,5)),IF(S39<=0,0,S39))))))) -> 0 | V39: =T39-U39 -> 0 | W39: comercializadora mediflash
C40: 103100022 | D40: AGUA ESTERIL USP BOLSA X 500ML - UNIDAD | E40: UNIDAD | F40: 1 | G40: 0 | H40: 1 | I40: 1 | J40: 0 | K40: 2 | L40: =AVERAGE(F40:K40) -> 0.83333333 | M40: 8 | N40: =M40-L40 -> 7.1666667 | O40: =+L40*(0.0333333333333333)*$E$16 -> 0.22222222 | P40: =+O40+((L40/30)*$E$16) -> 0.44444444 | Q40: =IF(L40=0,"",IF(M40-P40<=0,"*","")) | R40: =+O40+((L40/30)*$E$17) -> 1.1944444 | S40: =+(R40-O40)+(P40-M40) -> -6.5833333 | T40: =IF(S40>8999,(CEILING(S40,1000)),IF(S40>4999,(CEILING(S40,500)),IF(S40>899,(CEILING(S40,300)),IF(S40>99,(CEILING(S40,50)),IF(S40>49,(CEILING(S40,30)),IF(S40>9,(CEILING(S40,5)),IF(S40<=0,0,S40))))))) -> 0 | V40: =T40-U40 -> 0 | W40: comercializadora mediflash | X40: solicitar a rosalpi
C41: 103100024 | D41: ALBENDAZOL 400mg/20 ml SUSPENSIÓN ORAL | E41: FRASCO | F41: 77 | G41: 39 | H41: 35 | I41: 73 | J41: 68 | K41: 85 | L41: =AVERAGE(F41:K41) -> 62.833333 | M41: 60 | N41: =M41-L41 -> -2.8333333 | O41: =+L41*(0.0333333333333333)*$E$16 -> 16.755556 | P41: =+O41+((L41/30)*$E$16) -> 33.511111 | Q41: =IF(L41=0,"",IF(M41-P41<=0,"*","")) | R41: =+O41+((L41/30)*$E$17) -> 90.061111 | S41: =+(R41-O41)+(P41-M41) -> 46.816667 | T41: 100 | V41: =T41-U41 -> 100 | W41: comercializadora mediflash
C42: 103100023 | D42: ALBENDAZOL 200 mg TABLETA | E42: UNIDAD | F42: 48 | G42: 31 | H42: 31 | I42: 44 | J42: 40 | K42: 38 | L42: =AVERAGE(F42:K42) -> 38.666667 | M42: 199 | N42: =M42-L42 -> 160.33333 | O42: =+L42*(0.0333333333333333)*$E$16 -> 10.311111 | P42: =+O42+((L42/30)*$E$16) -> 20.622222 | Q42: =IF(L42=0,"",IF(M42-P42<=0,"*","")) | R42: =+O42+((L42/30)*$E$17) -> 55.422222 | S42: =+(R42-O42)+(P42-M42) -> -133.26667 | T42: =IF(S42>8999,(CEILING(S42,1000)),IF(S42>4999,(CEILING(S42,500)),IF(S42>899,(CEILING(S42,300)),IF(S42>99,(CEILING(S42,50)),IF(S42>49,(CEILING(S42,30)),IF(S42>9,(CEILING(S42,5)),IF(S42<=0,0,S42))))))) -> 0 | V42: =T42-U42 -> 0 | W42: comercializadora mediflash
C43: 103100712 | D43: ALCOHOL ANTISEPTICO MK 700ML - FRASCO | E43: FRASCO | F43: 20 | G43: 15 | H43: 14 | I43: 27 | J43: 23 | K43: 25 | L43: =AVERAGE(F43:K43) -> 20.666667 | M43: 32 | N43: =M43-L43 -> 11.333333 | O43: =+L43*(0.0333333333333333)*$E$16 -> 5.5111111 | P43: =+O43+((L43/30)*$E$16) -> 11.022222 | Q43: =IF(L43=0,"",IF(M43-P43<=0,"*","")) | R43: =+O43+((L43/30)*$E$17) -> 29.622222 | S43: =+(R43-O43)+(P43-M43) -> 3.1333333 | T43: 12 | V43: =T43-U43 -> 12 | W43: SYD COLOMBIA S.A
C44: 103100025 | D44: ALFAMETILDOPA 250 mg TABLETA | E44: UNIDAD | F44: 180 | G44: 90 | H44: 360 | I44: 180 | J44: 60 | K44: 0 | L44: =AVERAGE(F44:K44) -> 145 | M44: 270 | N44: =M44-L44 -> 125 | O44: =+L44*(0.0333333333333333)*$E$16 -> 38.666667 | P44: =+O44+((L44/30)*$E$16) -> 77.333333 | Q44: =IF(L44=0,"",IF(M44-P44<=0,"*","")) | R44: =+O44+((L44/30)*$E$17) -> 207.83333 | S44: =+(R44-O44)+(P44-M44) -> -23.5 | T44: =IF(S44>8999,(CEILING(S44,1000)),IF(S44>4999,(CEILING(S44,500)),IF(S44>899,(CEILING(S44,300)),IF(S44>99,(CEILING(S44,50)),IF(S44>49,(CEILING(S44,30)),IF(S44>9,(CEILING(S44,5)),IF(S44<=0,0,S44))))))) -> 0 | V44: =T44-U44 -> 0 | W44: SYD COLOMBIA S.A
...

Sheet CONSOLIDADO
B1: EMPRESA SOCIAL DEL ESTADO
B2: BELLOSALUD
B3: MUNICIPIO DE BELLO
B4: Nit. 811.007.148-5
B5: Carrera 42 No 20E 91
B6: Tel: 465 01 10 - 448 20 30
B8: ORDEN DE COMPRA | C8: ORDEN DE COMPRA
D9: EMPRESA SOCIAL DEL ESTADO BELLOSALUD
D10: NECESIDAD DE MEDICAMENTOS SERVICIOS FARMACEUTICOS RZP | Q10: Version: 1 | S10: Fecha: | T10: 46266
S11: Codigo: | T11: FA-F-006
Q12: Elaborado por: Farmacia
B13: MES: | Q13: AÑO:
B15: TIEMPO DE REPOSICIÓN (Tr): | D15: 15
B16: TIEMPO DE ADQUISICIÓN: | D16: 40
B17: TIEMPO DE ADQUISICIÓN: | D17: 40
B19: CODIGO | C19: ARTICULO | D19: U. MANEJO | E19: FEB | F19: MAR | G19: ABR | H19: MAY | I19: JUN | J19: JUL | K19: CONS.PROM. | L19: EXIST. | M19: NmE | N19: PR. | O19: Ctrl | P19: NME | Q19: CAP | R19: CANT
B20: 103118099 | C20: ACETAMINOFEN 1.5% (150mg/5ml) JARABE | D20: FCO X 60 ML | E20: ='ROSALPI '!E19+ZAMORA!F21+PARIS!F21 -> 57 | F20: ='ROSALPI '!F19+ZAMORA!G21+PARIS!G21 -> 31 | G20: ='ROSALPI '!G19+ZAMORA!H21+PARIS!H21 -> 27 | H20: ='ROSALPI '!H19+ZAMORA!I21+PARIS!I21 -> 78 | I20: ='ROSALPI '!I19+ZAMORA!J21+PARIS!J21 -> 63 | J20: ='ROSALPI '!J19+ZAMORA!K21+PARIS!K21 -> 53 | K20: =AVERAGE(E20,F20,G20,H20,I20,J20) -> 51.5 | L20: ='ROSALPI '!L19+ZAMORA!M21+PARIS!M21 -> 80 | M20: =+K20*(0.0333333333333333)*$D$15 -> 25.75 | N20: =+M20+((K20/30)*$D$15) -> 51.5 | O20: =IF(K20=0,"",IF(L20-N20<=0,"*","")) | P20: =+M20+((K20/30)*$D$16) -> 94.416667 | Q20: =+(P20-M20)+(N20-L20) -> 40.166667 | R20: =+'ROSALPI '!T19+ZAMORA!U21+PARIS!T21 -> 30 | S20: 1550 | T20: 286750
B21: 103118093 | C21: ACETAMINOFEN 100 mg/ml SOLUCIÓN ORAL (GOTAS) | D21: FCO X 30 ML | E21: ='ROSALPI '!E20+ZAMORA!F22+PARIS!F22 -> 0 | F21: ='ROSALPI '!F20+ZAMORA!G22+PARIS!G22 -> 0 | G21: ='ROSALPI '!G20+ZAMORA!H22+PARIS!H22 -> 0 | H21: ='ROSALPI '!H20+ZAMORA!I22+PARIS!I22 -> 0 | I21: ='ROSALPI '!I20+ZAMORA!J22+PARIS!J22 -> 1 | J21: ='ROSALPI '!J20+ZAMORA!K22+PARIS!K22 -> 0 | K21: =AVERAGE(E21,F21,G21,H21,I21,J21) -> 0.16666667 | L21: ='ROSALPI '!L20+ZAMORA!M22+PARIS!M22 -> 3 | M21: =+K21*(0.0333333333333333)*$D$15 -> 0.083333333 | N21: =+M21+((K21/30)*$D$15) -> 0.16666667 | O21: =IF(K21=0,"",IF(L21-N21<=0,"*","")) | P21: =+M21+((K21/30)*$D$16) -> 0.30555556 | Q21: =+(P21-M21)+(N21-L21) -> -2.6111111 | R21: =+'ROSALPI '!T20+ZAMORA!U22+PARIS!T22 -> 0 | S21: 1710 | T21: 0
B22: 103118092 | C22: ACETAMINOFEN 500 mg TABLETA | D22: UNIDAD | E22: ='ROSALPI '!E21+ZAMORA!F23+PARIS!F23 -> 42222 | F22: ='ROSALPI '!F21+ZAMORA!G23+PARIS!G23 -> 34449 | G22: ='ROSALPI '!G21+ZAMORA!H23+PARIS!H23 -> 34539 | H22: ='ROSALPI '!H21+ZAMORA!I23+PARIS!I23 -> 34878 | I22: ='ROSALPI '!I21+ZAMORA!J23+PARIS!J23 -> 32526 | J22: ='ROSALPI '!J21+ZAMORA!K23+PARIS!K23 -> 53021 | K22: =AVERAGE(E22,F22,G22,H22,I22,J22) -> 38605.833 | L22: ='ROSALPI '!L21+ZAMORA!M23+PARIS!M23 -> 42427 | M22: =+K22*(0.0333333333333333)*$D$15 -> 19302.917 | N22: =+M22+((K22/30)*$D$15) -> 38605.833 | O22: =IF(K22=0,"",IF(L22-N22<=0,"*","")) | P22: =+M22+((K22/30)*$D$16) -> 70777.361 | Q22: =+(P22-M22)+(N22-L22) -> 47653.278 | R22: =+'ROSALPI '!T21+ZAMORA!U23+PARIS!T23 -> 33000 | S22: 37 | T22: 3330000
B23: 103113026 | C23: ACETATO DE ALUMINIO POLVO x 5mg SOB | D23: SOBRES | E23: ='ROSALPI '!#REF!+ZAMORA!#REF!+PARIS!F24 -> #REF! | F23: ='ROSALPI '!#REF!+ZAMORA!#REF!+PARIS!G24 -> #REF! | G23: ='ROSALPI '!#REF!+ZAMORA!#REF!+PARIS!H24 -> #REF! | H23: ='ROSALPI '!#REF!+ZAMORA!#REF!+PARIS!I24 -> #REF! | I23: ='ROSALPI '!#REF!+ZAMORA!#REF!+PARIS!J24 -> #REF! | J23: ='ROSALPI '!#REF!+ZAMORA!#REF!+PARIS!K24 -> #REF! | K23: =AVERAGE(E23,F23,G23,H23,I23,J23) -> #REF! | L23: ='ROSALPI '!#REF!+ZAMORA!#REF!+PARIS!M24 -> #REF! | M23: =+K23*(0.0333333333333333)*$D$15 -> #REF! | N23: =+M23+((K23/30)*$D$15) -> #REF! | O23: =IF(K23=0,"",IF(L23-N23<=0,"*","")) -> #REF! | P23: =+M23+((K23/30)*$D$16) -> #REF! | Q23: =+(P23-M23)+(N23-L23) -> #REF! | R23: =+'ROSALPI '!#REF!+ZAMORA!#REF!+PARIS!T24 -> #REF! | S23: 0 | T23: 0
B24: 103112150 | C24: ACETAZOLAMIDA 250 mg TAB | D24: TABLETA | E24: ='ROSALPI '!#REF!+ZAMORA!#REF!+PARIS!F25 -> #REF! | F24: ='ROSALPI '!#REF!+ZAMORA!#REF!+PARIS!G25 -> #REF! | G24: ='ROSALPI '!#REF!+ZAMORA!#REF!+PARIS!H25 -> #REF! | H24: ='ROSALPI '!#REF!+ZAMORA!#REF!+PARIS!I25 -> #REF! | I24: ='ROSALPI '!#REF!+ZAMORA!#REF!+PARIS!J25 -> #REF! | J24: ='ROSALPI '!#REF!+ZAMORA!#REF!+PARIS!K25 -> #REF! | K24: =AVERAGE(E24,F24,G24,H24,I24,J24) -> #REF! | L24: ='ROSALPI '!#REF!+ZAMORA!#REF!+PARIS!M25 -> #REF! | M24: =+K24*(0.0333333333333333)*$D$15 -> #REF! | N24: =+M24+((K24/30)*$D$15) -> #REF! | O24: =IF(K24=0,"",IF(L24-N24<=0,"*","")) -> #REF! | P24: =+M24+((K24/30)*$D$16) -> #REF! | Q24: =+(P24-M24)+(N24-L24) -> #REF! | R24: =+'ROSALPI '!#REF!+ZAMORA!#REF!+PARIS!T25 -> #REF! | S24: 0 | T24: 0
B25: 103118100 | C25: ACETILCISTEINA 200 mg POLVO | D25: SOBRE | E25: ='ROSALPI '!#REF!+ZAMORA!#REF!+PARIS!F26 -> #REF! | F25: ='ROSALPI '!#REF!+ZAMORA!#REF!+PARIS!G26 -> #REF! | G25: ='ROSALPI '!#REF!+ZAMORA!#REF!+PARIS!H26 -> #REF! | H25: ='ROSALPI '!#REF!+ZAMORA!#REF!+PARIS!I26 -> #REF! | I25: ='ROSALPI '!#REF!+ZAMORA!#REF!+PARIS!J26 -> #REF! | J25: ='ROSALPI '!#REF!+ZAMORA!#REF!+PARIS!K26 -> #REF! | K25: =AVERAGE(E25,F25,G25,H25,I25,J25) -> #REF! | L25: ='ROSALPI '!#REF!+ZAMORA!#REF!+PARIS!M26 -> #REF! | M25: =+K25*(0.0333333333333333)*$D$15 -> #REF! | N25: =+M25+((K25/30)*$D$15) -> #REF! | O25: =IF(K25=0,"",IF(L25-N25<=0,"*","")) -> #REF! | P25: =+M25+((K25/30)*$D$16) -> #REF! | Q25: =+(P25-M25)+(N25-L25) -> #REF! | R25: =+'ROSALPI '!#REF!+ZAMORA!#REF!+PARIS!T26 -> #REF! | S25: 0 | T25: 0
B26: 103104477 | C26: ACIDO NALIDIXICO 250 mg SUSP. | D26: FRASCO | E26: ='ROSALPI '!#REF!+ZAMORA!#REF!+PARIS!F27 -> #REF! | F26: ='ROSALPI '!#REF!+ZAMORA!#REF!+PARIS!G27 -> #REF! | G26: ='ROSALPI '!#REF!+ZAMORA!#REF!+PARIS!H27 -> #REF! | H26: ='ROSALPI '!#REF!+ZAMORA!#REF!+PARIS!I27 -> #REF! | I26: ='ROSALPI '!#REF!+ZAMORA!#REF!+PARIS!J27 -> #REF! | J26: ='ROSALPI '!#REF!+ZAMORA!#REF!+PARIS!K27 -> #REF! | K26: =AVERAGE(E26,F26,G26,H26,I26,J26) -> #REF! | L26: ='ROSALPI '!#REF!+ZAMORA!#REF!+PARIS!M27 -> #REF! | M26: =+K26*(0.0333333333333333)*$D$15 -> #REF! | N26: =+M26+((K26/30)*$D$15) -> #REF! | O26: =IF(K26=0,"",IF(L26-N26<=0,"*","")) -> #REF! | P26: =+M26+((K26/30)*$D$16) -> #REF! | Q26: =+(P26-M26)+(N26-L26) -> #REF! | R26: =+'ROSALPI '!#REF!+ZAMORA!#REF!+PARIS!T27 -> #REF! | S26: 0 | T26: 0
B27: 103107271 | C27: ACIDO TRICLOROACETICO 85% x 10 ml SLN. | D27: FRASCO X 50 ML | E27: ='ROSALPI '!#REF!+ZAMORA!#REF!+PARIS!F28 -> #REF! | F27: ='ROSALPI '!#REF!+ZAMORA!#REF!+PARIS!G28 -> #REF! | G27: ='ROSALPI '!#REF!+ZAMORA!#REF!+PARIS!H28 -> #REF! | H27: ='ROSALPI '!#REF!+ZAMORA!#REF!+PARIS!I28 -> #REF! | I27: ='ROSALPI '!#REF!+ZAMORA!#REF!+PARIS!J28 -> #REF! | J27: ='ROSALPI '!#REF!+ZAMORA!#REF!+PARIS!K28 -> #REF! | K27: =AVERAGE(E27,F27,G27,H27,I27,J27) -> #REF! | L27: ='ROSALPI '!#REF!+ZAMORA!#REF!+PARIS!M28 -> #REF! | M27: =+K27*(0.0333333333333333)*$D$15 -> #REF! | N27: =+M27+((K27/30)*$D$15) -> #REF! | O27: =IF(K27=0,"",IF(L27-N27<=0,"*","")) -> #REF! | P27: =+M27+((K27/30)*$D$16) -> #REF! | Q27: =+(P27-M27)+(N27-L27) -> #REF! | R27: =+'ROSALPI '!#REF!+ZAMORA!#REF!+PARIS!T28 -> #REF! | S27: 0 | T27: 0
B28: 103118106 | C28: ACIDO ACETIL SALICILICO 100 mg TABLETA | D28: UNIDAD | E28: ='ROSALPI '!E22+ZAMORA!F24+PARIS!F29 -> 7635 | F28: ='ROSALPI '!F22+ZAMORA!G24+PARIS!G29 -> 7360 | G28: ='ROSALPI '!G22+ZAMORA!H24+PARIS!H29 -> 7635 | H28: ='ROSALPI '!H22+ZAMORA!I24+PARIS!I29 -> 6627 | I28: ='ROSALPI '!I22+ZAMORA!J24+PARIS!J29 -> 6468 | J28: ='ROSALPI '!J22+ZAMORA!K24+PARIS!K29 -> 8475 | K28: =AVERAGE(E28,F28,G28,H28,I28,J28) -> 7366.6667 | L28: ='ROSALPI '!L22+ZAMORA!M24+PARIS!M29 -> 9758 | M28: =+K28*(0.0333333333333333)*$D$15 -> 3683.3333 | N28: =+M28+((K28/30)*$D$15) -> 7366.6667 | O28: =IF(K28=0,"",IF(L28-N28<=0,"*","")) | P28: =+M28+((K28/30)*$D$16) -> 13505.556 | Q28: =+(P28-M28)+(N28-L28) -> 7430.8889 | R28: =+'ROSALPI '!T22+ZAMORA!U24+PARIS!T29 -> 3000 | S28: 19 | T28: 703000
B29: 103120085 | C29: ACIDO ASCORBICO 10% SOLUCIÓN ORAL | D29: FCO X 30 ML | E29: ='ROSALPI '!E23+ZAMORA!F25+PARIS!F30 -> 5 | F29: ='ROSALPI '!F23+ZAMORA!G25+PARIS!G30 -> 3 | G29: ='ROSALPI '!G23+ZAMORA!H25+PARIS!H30 -> 2 | H29: ='ROSALPI '!H23+ZAMORA!I25+PARIS!I30 -> 1 | I29: ='ROSALPI '!I23+ZAMORA!J25+PARIS!J30 -> 3 | J29: ='ROSALPI '!J23+ZAMORA!K25+PARIS!K30 -> 13 | K29: =AVERAGE(E29,F29,G29,H29,I29,J29) -> 4.5 | L29: ='ROSALPI '!L23+ZAMORA!M25+PARIS!M30 -> 4 | M29: =+K29*(0.0333333333333333)*$D$15 -> 2.25 | N29: =+M29+((K29/30)*$D$15) -> 4.5 | O29: =IF(K29=0,"",IF(L29-N29<=0,"*","")) -> * | P29: =+M29+((K29/30)*$D$16) -> 8.25 | Q29: =+(P29-M29)+(N29-L29) -> 6.5 | R29: =+'ROSALPI '!T23+ZAMORA!U25+PARIS!T30 -> 3 | S29: 2900 | T29: 121800
B30: 103120100 | C30: ACIDO ASCORBICO 500 mg TABLETA | D30: UNIDAD | E30: ='ROSALPI '!E24+ZAMORA!F26+PARIS!F31 -> 63 | F30: ='ROSALPI '!F24+ZAMORA!G26+PARIS!G31 -> 106 | G30: ='ROSALPI '!G24+ZAMORA!H26+PARIS!H31 -> 151 | H30: ='ROSALPI '!H24+ZAMORA!I26+PARIS!I31 -> 165 | I30: ='ROSALPI '!I24+ZAMORA!J26+PARIS!J31 -> 203 | J30: ='ROSALPI '!J24+ZAMORA!K26+PARIS!K31 -> 197 | K30: =AVERAGE(E30,F30,G30,H30,I30,J30) -> 147.5 | L30: ='ROSALPI '!L24+ZAMORA!M26+PARIS!M31 -> 157 | M30: =+K30*(0.0333333333333333)*$D$15 -> 73.75 | N30: =+M30+((K30/30)*$D$15) -> 147.5 | O30: =IF(K30=0,"",IF(L30-N30<=0,"*","")) | P30: =+M30+((K30/30)*$D$16) -> 270.41667 | Q30: =+(P30-M30)+(N30-L30) -> 187.16667 | R30: =+'ROSALPI '!T24+ZAMORA!U26+PARIS!T31 -> 200 | S30: 0 | T30: 0
B31: 103120101 | C31: ACIDO ASCORBICO 500 MG TABLETA MASTICABLE | D31: UNIDAD | E31: ='ROSALPI '!E25+ZAMORA!F27+PARIS!F32 -> 4430 | F31: ='ROSALPI '!F25+ZAMORA!G27+PARIS!G32 -> 3585 | G31: ='ROSALPI '!G25+ZAMORA!H27+PARIS!H32 -> 4155 | H31: ='ROSALPI '!H25+ZAMORA!I27+PARIS!I32 -> 3830 | I31: ='ROSALPI '!I25+ZAMORA!J27+PARIS!J32 -> 3540 | J31: ='ROSALPI '!J25+ZAMORA!K27+PARIS!K32 -> 4630 | K31: =AVERAGE(E31,F31,G31,H31,I31,J31) -> 4028.3333 | L31: ='ROSALPI '!L25+ZAMORA!M27+PARIS!M32 -> 4343 | M31: =+K31*(0.0333333333333333)*$D$15 -> 2014.1667 | N31: =+M31+((K31/30)*$D$15) -> 4028.3333 | O31: =IF(K31=0,"",IF(L31-N31<=0,"*","")) | P31: =+M31+((K31/30)*$D$16) -> 7385.2778 | Q31: =+(P31-M31)+(N31-L31) -> 5056.4444 | R31: =+'ROSALPI '!T25+ZAMORA!U27+PARIS!T32 -> 4500 | S31: 112 | T31: 224000
B32: 103120091 | C32: ACIDO FOLICO 1 mg TABLETA | D32: UNIDAD | E32: ='ROSALPI '!E26+ZAMORA!F28+PARIS!F33 -> 1620 | F32: ='ROSALPI '!F26+ZAMORA!G28+PARIS!G33 -> 1396 | G32: ='ROSALPI '!G26+ZAMORA!H28+PARIS!H33 -> 1472 | H32: ='ROSALPI '!H26+ZAMORA!I28+PARIS!I33 -> 1856 | I32: ='ROSALPI '!I26+ZAMORA!J28+PARIS!J33 -> 1361 | J32: ='ROSALPI '!J26+ZAMORA!K28+PARIS!K33 -> 1840 | K32: =AVERAGE(E32,F32,G32,H32,I32,J32) -> 1590.8333 | L32: ='ROSALPI '!L26+ZAMORA!M28+PARIS!M33 -> 2308 | M32: =+K32*(0.0333333333333333)*$D$15 -> 795.41667 | N32: =+M32+((K32/30)*$D$15) -> 1590.8333 | O32: =IF(K32=0,"",IF(L32-N32<=0,"*","")) | P32: =+M32+((K32/30)*$D$16) -> 2916.5278 | Q32: =+(P32-M32)+(N32-L32) -> 1403.9444 | R32: =+'ROSALPI '!T26+ZAMORA!U28+PARIS!T33 -> 510 | S32: 27 | T32: 143100
B33: 103120093 | C33: ACIDO FOLICO 5MG TABLETAS | D33: UNIDAD | E33: ='ROSALPI '!E27+ZAMORA!F29+PARIS!F35 -> 60 | F33: ='ROSALPI '!F27+ZAMORA!G29+PARIS!G35 -> 159 | G33: ='ROSALPI '!G27+ZAMORA!H29+PARIS!H35 -> 187 | H33: ='ROSALPI '!H27+ZAMORA!I29+PARIS!I35 -> 90 | I33: ='ROSALPI '!I27+ZAMORA!J29+PARIS!J35 -> 52 | J33: ='ROSALPI '!J27+ZAMORA!K29+PARIS!K35 -> 30 | K33: =AVERAGE(E33,F33,G33,H33,I33,J33) -> 96.333333 | L33: ='ROSALPI '!L27+ZAMORA!M29+PARIS!M35 -> 655 | M33: =+K33*(0.0333333333333333)*$D$15 -> 48.166667 | N33: =+M33+((K33/30)*$D$15) -> 96.333333 | O33: =IF(K33=0,"",IF(L33-N33<=0,"*","")) | P33: =+M33+((K33/30)*$D$16) -> 176.61111 | Q33: =+(P33-M33)+(N33-L33) -> -430.22222 | R33: =+'ROSALPI '!T27+ZAMORA!U29+PARIS!T35 -> 0 | S33: 108 | T33: 108000
B34: 103113305 | C34: ACIDO FUSIDICO 2% CREMA | D34: TUBO | E34: ='ROSALPI '!#REF!+ZAMORA!F30+PARIS!F36 -> #REF! | F34: ='ROSALPI '!#REF!+ZAMORA!G30+PARIS!G36 -> #REF! | G34: ='ROSALPI '!#REF!+ZAMORA!H30+PARIS!H36 -> #REF! | H34: ='ROSALPI '!#REF!+ZAMORA!I30+PARIS!I36 -> #REF! | I34: ='ROSALPI '!#REF!+ZAMORA!J30+PARIS!J36 -> #REF! | J34: ='ROSALPI '!#REF!+ZAMORA!K30+PARIS!K36 -> #REF! | K34: =AVERAGE(E34,F34,G34,H34,I34,J34) -> #REF! | L34: ='ROSALPI '!#REF!+ZAMORA!M30+PARIS!M36 -> #REF! | M34: =+K34*(0.0333333333333333)*$D$15 -> #REF! | N34: =+M34+((K34/30)*$D$15) -> #REF! | O34: =IF(K34=0,"",IF(L34-N34<=0,"*","")) -> #REF! | P34: =+M34+((K34/30)*$D$16) -> #REF! | Q34: =+(P34-M34)+(N34-L34) -> #REF! | R34: =+'ROSALPI '!#REF!+ZAMORA!U30+PARIS!T36 -> #REF! | S34: 0 | T34: 0
B35: 103113150 | C35: ACIDO RETINOICO 0.05% CREMA | D35: POTE X 30 g | E35: ='ROSALPI '!E28+ZAMORA!F31+PARIS!F37 -> 3 | F35: ='ROSALPI '!F28+ZAMORA!G31+PARIS!G37 -> 2 | G35: ='ROSALPI '!G28+ZAMORA!H31+PARIS!H37 -> 2 | H35: ='ROSALPI '!H28+ZAMORA!I31+PARIS!I37 -> 0 | I35: ='ROSALPI '!I28+ZAMORA!J31+PARIS!J37 -> 0 | J35: ='ROSALPI '!J28+ZAMORA!K31+PARIS!K37 -> 0 | K35: =AVERAGE(E35,F35,G35,H35,I35,J35) -> 1.1666667 | L35: ='ROSALPI '!L28+ZAMORA!M31+PARIS!M37 -> 6 | M35: =+K35*(0.0333333333333333)*$D$15 -> 0.58333333 | N35: =+M35+((K35/30)*$D$15) -> 1.1666667 | O35: =IF(K35=0,"",IF(L35-N35<=0,"*","")) | P35: =+M35+((K35/30)*$D$16) -> 2.1388889 | Q35: =+(P35-M35)+(N35-L35) -> -3.2777778 | R35: =+'ROSALPI '!T28+ZAMORA!U31+PARIS!T37 -> 0 | S35: 8800 | T35: 176000
B36: 103113151 | C36: ACIDO RETINOICO 0.05% LOCIÓN | D36: FCO X 60 ML | E36: ='ROSALPI '!E29+ZAMORA!F32+PARIS!F38 -> 3360 | F36: ='ROSALPI '!F29+ZAMORA!G32+PARIS!G38 -> 2950 | G36: ='ROSALPI '!G29+ZAMORA!H32+PARIS!H38 -> 2440 | H36: ='ROSALPI '!H29+ZAMORA!I32+PARIS!I38 -> 2160 | I36: ='ROSALPI '!I29+ZAMORA!J32+PARIS!J38 -> 2550 | J36: ='ROSALPI '!J29+ZAMORA!K32+PARIS!K38 -> 3330 | K36: =AVERAGE(E36,F36,G36,H36,I36,J36) -> 2798.3333 | L36: ='ROSALPI '!L29+ZAMORA!M32+PARIS!M38 -> 2909 | M36: =+K36*(0.0333333333333333)*$D$15 -> 1399.1667 | N36: =+M36+((K36/30)*$D$15) -> 2798.3333 | O36: =IF(K36=0,"",IF(L36-N36<=0,"*","")) | P36: =+M36+((K36/30)*$D$16) -> 5130.2778 | Q36: =+(P36-M36)+(N36-L36) -> 3620.4444 | R36: =+'ROSALPI '!T29+ZAMORA!U32+PARIS!T38 -> 2000 | S36: 194 | T36: 970
B37: 103118228 | C37: ACIDO VALPROICO 250 mg CAPSULA | D37: UNIDAD | E37: ='ROSALPI '!E30+ZAMORA!F33+PARIS!F39 -> 41 | F37: ='ROSALPI '!F30+ZAMORA!G33+PARIS!G39 -> 16 | G37: ='ROSALPI '!G30+ZAMORA!H33+PARIS!H39 -> 21 | H37: ='ROSALPI '!H30+ZAMORA!I33+PARIS!I39 -> 33 | I37: ='ROSALPI '!I30+ZAMORA!J33+PARIS!J39 -> 31 | J37: ='ROSALPI '!J30+ZAMORA!K33+PARIS!K39 -> 44 | K37: =AVERAGE(E37,F37,G37,H37,I37,J37) -> 31 | L37: ='ROSALPI '!L30+ZAMORA!M33+PARIS!M39 -> 111 | M37: =+K37*(0.0333333333333333)*$D$15 -> 15.5 | N37: =+M37+((K37/30)*$D$15) -> 31 | O37: =IF(K37=0,"",IF(L37-N37<=0,"*","")) | P37: =+M37+((K37/30)*$D$16) -> 56.833333 | Q37: =+(P37-M37)+(N37-L37) -> -38.666667 | R37: =+'ROSALPI '!T30+ZAMORA!U33+PARIS!T39 -> 10 | S37: 165 | T37: 2953500
B38: 103110814 | C38: ACIDO VALPROICO 250 mg/5ml JARABE | D38: FCO X 120 ML | E38: ='ROSALPI '!E31+ZAMORA!F35+PARIS!F40 -> 477 | F38: ='ROSALPI '!F31+ZAMORA!G35+PARIS!G40 -> 330 | G38: ='ROSALPI '!G31+ZAMORA!H35+PARIS!H40 -> 241 | H38: ='ROSALPI '!H31+ZAMORA!I35+PARIS!I40 -> 241 | I38: ='ROSALPI '!I31+ZAMORA!J35+PARIS!J40 -> 240 | J38: ='ROSALPI '!J31+ZAMORA!K35+PARIS!K40 -> 422 | K38: =AVERAGE(E38,F38,G38,H38,I38,J38) -> 325.16667 | L38: ='ROSALPI '!L31+ZAMORA!M35+PARIS!M40 -> 446 | M38: =+K38*(0.0333333333333333)*$D$15 -> 162.58333 | N38: =+M38+((K38/30)*$D$15) -> 325.16667 | O38: =IF(K38=0,"",IF(L38-N38<=0,"*","")) | P38: =+M38+((K38/30)*$D$16) -> 596.13889 | Q38: =+(P38-M38)+(N38-L38) -> 312.72222 | R38: =+'ROSALPI '!T31+ZAMORA!U35+PARIS!T40 -> 200 | S38: 4687 | T38: 445265
B39: 103112175 | C39: ACYCLOVIR UNGUENTO OFT. | D39: TUBO | E39: ='ROSALPI '!#REF!+ZAMORA!F36+PARIS!F41 -> #REF! | F39: ='ROSALPI '!#REF!+ZAMORA!G36+PARIS!G41 -> #REF! | G39: ='ROSALPI '!#REF!+ZAMORA!H36+PARIS!H41 -> #REF! | H39: ='ROSALPI '!#REF!+ZAMORA!I36+PARIS!I41 -> #REF! | I39: ='ROSALPI '!#REF!+ZAMORA!J36+PARIS!J41 -> #REF! | J39: ='ROSALPI '!#REF!+ZAMORA!K36+PARIS!K41 -> #REF! | K39: =AVERAGE(E39,F39,G39,H39,I39,J39) -> #REF! | L39: ='ROSALPI '!#REF!+ZAMORA!M36+PARIS!M41 -> #REF! | M39: =+K39*(0.0333333333333333)*$D$15 -> #REF! | N39: =+M39+((K39/30)*$D$15) -> #REF! | O39: =IF(K39=0,"",IF(L39-N39<=0,"*","")) -> #REF! | P39: =+M39+((K39/30)*$D$16) -> #REF! | Q39: =+(P39-M39)+(N39-L39) -> #REF! | R39: =+'ROSALPI '!#REF!+ZAMORA!U36+PARIS!T41 -> #REF! | S39: 0 | T39: 0
B40: 103104633 | C40: ACYCLOVIR 200 mg TABLETA | D40: UNIDAD | E40: ='ROSALPI '!E33+ZAMORA!F37+PARIS!F42 -> 48 | F40: ='ROSALPI '!F33+ZAMORA!G37+PARIS!G42 -> 31 | G40: ='ROSALPI '!G33+ZAMORA!H37+PARIS!H42 -> 31 | H40: ='ROSALPI '!H33+ZAMORA!I37+PARIS!I42 -> 44 | I40: ='ROSALPI '!I33+ZAMORA!J37+PARIS!J42 -> 40 | J40: ='ROSALPI '!J33+ZAMORA!K37+PARIS!K42 -> 38 | K40: =AVERAGE(E40,F40,G40,H40,I40,J40) -> 38.666667 | L40: ='ROSALPI '!L33+ZAMORA!M37+PARIS!M42 -> 199 | M40: =+K40*(0.0333333333333333)*$D$15 -> 19.333333 | N40: =+M40+((K40/30)*$D$15) -> 38.666667 | O40: =IF(K40=0,"",IF(L40-N40<=0,"*","")) | P40: =+M40+((K40/30)*$D$16) -> 70.888889 | Q40: =+(P40-M40)+(N40-L40) -> -108.77778 | R40: =+'ROSALPI '!T33+ZAMORA!U37+PARIS!T42 -> 0 | S40: 110 | T40: 110000
B41: 103104640 | C41: ACYCLOVIR 5% (5MG/100) CREMA | D41: TUBO | E41: ='ROSALPI '!#REF!+ZAMORA!F38+PARIS!F43 -> #REF! | F41: ='ROSALPI '!#REF!+ZAMORA!G38+PARIS!G43 -> #REF! | G41: ='ROSALPI '!#REF!+ZAMORA!H38+PARIS!H43 -> #REF! | H41: ='ROSALPI '!#REF!+ZAMORA!I38+PARIS!I43 -> #REF! | I41: ='ROSALPI '!#REF!+ZAMORA!J38+PARIS!J43 -> #REF! | J41: ='ROSALPI '!#REF!+ZAMORA!K38+PARIS!K43 -> #REF! | K41: =AVERAGE(E41,F41,G41,H41,I41,J41) -> #REF! | L41: ='ROSALPI '!#REF!+ZAMORA!M38+PARIS!M43 -> #REF! | M41: =+K41*(0.0333333333333333)*$D$15 -> #REF! | N41: =+M41+((K41/30)*$D$15) -> #REF! | O41: =IF(K41=0,"",IF(L41-N41<=0,"*","")) -> #REF! | P41: =+M41+((K41/30)*$D$16) -> #REF! | Q41: =+(P41-M41)+(N41-L41) -> #REF! | R41: =+'ROSALPI '!#REF!+ZAMORA!U38+PARIS!T43 -> #REF! | S41: 0 | T41: 0
B42: 103104634 | C42: ACYCLOVIR 800 mg TABLETA | D42: UNIDAD | E42: ='ROSALPI '!E34+ZAMORA!F39+PARIS!F44 -> 250 | F42: ='ROSALPI '!F34+ZAMORA!G39+PARIS!G44 -> 90 | G42: ='ROSALPI '!G34+ZAMORA!H39+PARIS!H44 -> 360 | H42: ='ROSALPI '!H34+ZAMORA!I39+PARIS!I44 -> 190 | I42: ='ROSALPI '!I34+ZAMORA!J39+PARIS!J44 -> 141 | J42: ='ROSALPI '!J34+ZAMORA!K39+PARIS!K44 -> 82 | K42: =AVERAGE(E42,F42,G42,H42,I42,J42) -> 185.5 | L42: ='ROSALPI '!L34+ZAMORA!M39+PARIS!M44 -> 353 | M42: =+K42*(0.0333333333333333)*$D$15 -> 92.75 | N42: =+M42+((K42/30)*$D$15) -> 185.5 | O42: =IF(K42=0,"",IF(L42-N42<=0,"*","")) | P42: =+M42+((K42/30)*$D$16) -> 340.08333 | Q42: =+(P42-M42)+(N42-L42) -> 79.833333 | R42: =+'ROSALPI '!T34+ZAMORA!U39+PARIS!T44 -> 0 | S42: 548 | T42: 526080
B43: 103107062 | C43: ADENOSINA 6 MG / 2 ML | D43: INYECTABLE | E43: ='ROSALPI '!E35+ZAMORA!F40+PARIS!F46 -> 1005 | F43: ='ROSALPI '!F35+ZAMORA!G40+PARIS!G46 -> 1800 | G43: ='ROSALPI '!G35+ZAMORA!H40+PARIS!H46 -> 2040 | H43: ='ROSALPI '!H35+ZAMORA!I40+PARIS!I46 -> 1710 | I43: ='ROSALPI '!I35+ZAMORA!J40+PARIS!J46 -> 1920 | J43: ='ROSALPI '!J35+ZAMORA!K40+PARIS!K46 -> 2475 | K43: =AVERAGE(E43,F43,G43,H43,I43,J43) -> 1825 | L43: ='ROSALPI '!L35+ZAMORA!M40+PARIS!M46 -> 945 | M43: =+K43*(0.0333333333333333)*$D$15 -> 912.5 | N43: =+M43+((K43/30)*$D$15) -> 1825 | O43: =IF(K43=0,"",IF(L43-N43<=0,"*","")) -> * | P43: =+M43+((K43/30)*$D$16) -> 3345.8333 | Q43: =+(P43-M43)+(N43-L43) -> 3313.3333 | R43: =+'ROSALPI '!T35+ZAMORA!U40+PARIS!T46 -> 2400 | S43: 20000 | T43: 0
...

Sheet OKA
A1: codigo safix | B1: CANTIDAD TOTAL | K1: Cordial saludo. | L1: MARCA | M1: DESCRIPCION | O1: PROVEEDOR | P1: PRECIO UNITARIO OKA | Q1: PTE ROSALPI | R1: PTE ZAMORA | S1: PTE PARIS | T1: total Pendientes | U1: TOTAL | V1: NOVEDADDES PROVEEDOR
A2: 103100535 | B2: =D2+G2+J2 -> 30 | C2: R | D2: ='ROSALPI '!T19 -> 0 | E2: - | F2: Z | G2: =ZAMORA!U21 -> 20 | H2: - | I2: P | J2: =PARIS!T21 -> 10 | K2: =CONCATENATE(C2,D2,E2,F2,G2,H2,I2,J2) -> R0-Z20-P10 | M2: ACETAMINOFEN 1.5% 150MG/60ML JARABE | N2: FCO X 120 ML | O2: SYD COLOMBIA S.A | P2: 1684 | Q2: ='ROSALPI '!V19 -> 0 | R2: =ZAMORA!W21 -> 20 | S2: =PARIS!V21 -> 10 | T2: =Q2+R2+S2 -> 30 | U2: =P2*T2 -> 50520
A3: 103100001 | B3: =D3+G3+J3 -> 0 | C3: R | D3: ='ROSALPI '!T20 -> 0 | E3: - | F3: Z | G3: =ZAMORA!U22 -> 0 | H3: - | I3: P | J3: =PARIS!T22 -> 0 | K3: =CONCATENATE(C3,D3,E3,F3,G3,H3,I3,J3) -> R0-Z0-P0 | M3: ACETAMINOFEN 100 mg/ml SOLUCIÓN ORAL (GOTAS) | N3: FCO X 30 ML | O3: CLINICAL PHARMA SAS | P3: 1975 | Q3: ='ROSALPI '!V20 -> 0 | R3: =ZAMORA!W22 -> 0 | S3: =PARIS!V22 -> 0 | T3: =Q3+R3+S3 -> 0 | U3: 0
A4: 103100002 | B4: =D4+G4+J4 -> 33000 | C4: R | D4: ='ROSALPI '!T21 -> 0 | E4: - | F4: Z | G4: =ZAMORA!U23 -> 8000 | H4: - | I4: P | J4: =PARIS!T23 -> 25000 | K4: =CONCATENATE(C4,D4,E4,F4,G4,H4,I4,J4) -> R0-Z8000-P25000 | M4: ACETAMINOFEN 500 mg TABLETA | N4: UNIDAD | O4: DISMERQ SAS | P4: 45 | Q4: ='ROSALPI '!V21 -> 0 | R4: =ZAMORA!W23 -> 8000 | S4: =PARIS!V23 -> 25000 | T4: =Q4+R4+S4 -> 33000 | U4: =P4*T4 -> 1485000
A5: 103100006 | B5: =D5+G5+J5 -> 9000 | C5: R | D5: ='ROSALPI '!T22 -> 0 | E5: - | F5: Z | G5: =ZAMORA!U24 -> 3000 | H5: - | I5: P | J5: =PARIS!T24 -> 6000 | K5: =CONCATENATE(C5,D5,E5,F5,G5,H5,I5,J5) -> R0-Z3000-P6000 | M5: ACIDO ACETIL SALICILICO 100 mg TABLETA | N5: UNIDAD | O5: DISMERQ SAS | P5: 42 | Q5: ='ROSALPI '!V22 -> 0 | R5: =ZAMORA!W24 -> 3000 | S5: =PARIS!V24 -> 6000 | T5: =Q5+R5+S5 -> 9000 | U5: =P5*T5 -> 378000
A6: 103100007 | B6: =D6+G6+J6 -> 0 | C6: R | D6: ='ROSALPI '!T23 -> 0 | E6: - | F6: Z | G6: =ZAMORA!U25 -> 0 | H6: - | I6: P | J6: =PARIS!T25 -> 0 | K6: =CONCATENATE(C6,D6,E6,F6,G6,H6,I6,J6) -> R0-Z0-P0 | M6: ACIDO ASCORBICO 10% SOLUCIÓN ORAL | N6: FCO X 30 ML | O6: comercializadora mediflash | P6: 2800 | Q6: ='ROSALPI '!V23 -> 0 | R6: =ZAMORA!W25 -> 0 | S6: =PARIS!V25 -> 0 | T6: =Q6+R6+S6 -> 0 | U6: =P6*T6 -> 0
A7: 103100009 | B7: =D7+G7+J7 -> 200 | C7: R | D7: ='ROSALPI '!T24 -> 0 | E7: - | F7: Z | G7: =ZAMORA!U26 -> 200 | H7: - | I7: P | J7: =PARIS!T26 -> 0 | K7: =CONCATENATE(C7,D7,E7,F7,G7,H7,I7,J7) -> R0-Z200-P0 | M7: ACIDO ASCORBICO 500 mg TABLETA | N7: UNIDAD | O7: SYD COLOMBIA S.A | P7: 124 | Q7: ='ROSALPI '!V24 -> 0 | R7: =ZAMORA!W26 -> 200 | S7: =PARIS!V26 -> 0 | T7: =Q7+R7+S7 -> 200 | U7: =P7*T7 -> 24800
A8: 103100010 | B8: =D8+G8+J8 -> 0 | C8: R | D8: ='ROSALPI '!T25 -> 0 | E8: - | F8: Z | G8: =ZAMORA!U27 -> 0 | H8: - | I8: P | J8: =PARIS!T27 -> 0 | K8: =CONCATENATE(C8,D8,E8,F8,G8,H8,I8,J8) -> R0-Z0-P0 | M8: ACIDO ASCORBICO 500 MG TABLETA MASTICABLE | N8: UNIDAD | O8: SYD COLOMBIA S.A | P8: 154 | Q8: ='ROSALPI '!V25 -> 0 | R8: =ZAMORA!W27 -> 0 | S8: =PARIS!V27 -> 0 | T8: =Q8+R8+S8 -> 0 | U8: =P8*T8 -> 0
A9: 103100012 | B9: =D9+G9+J9 -> 1500 | C9: R | D9: ='ROSALPI '!T26 -> 0 | E9: - | F9: Z | G9: =ZAMORA!U28 -> 500 | H9: - | I9: P | J9: =PARIS!T28 -> 1000 | K9: =CONCATENATE(C9,D9,E9,F9,G9,H9,I9,J9) -> R0-Z500-P1000 | M9: ACIDO FOLICO 1 mg TABLETA | N9: UNIDAD | O9: SYD COLOMBIA S.A | P9: 30 | Q9: ='ROSALPI '!V26 -> 0 | R9: =ZAMORA!W28 -> 500 | S9: =PARIS!V28 -> 1000 | T9: =Q9+R9+S9 -> 1500 | U9: =P9*T9 -> 45000
A10: 103100013 | B10: =D10+G10+J10 -> 0 | C10: R | D10: ='ROSALPI '!T27 -> 0 | E10: - | F10: Z | G10: =ZAMORA!U29 -> 0 | H10: - | I10: P | J10: =PARIS!T29 -> 0 | K10: =CONCATENATE(C10,D10,E10,F10,G10,H10,I10,J10) -> R0-Z0-P0 | M10: ACIDO FOLICO 5MG TABLETAS | N10: UNIDAD | O10: SYD COLOMBIA S.A | P10: 115 | Q10: ='ROSALPI '!V27 -> 0 | R10: =ZAMORA!W29 -> 0 | S10: =PARIS!V29 -> 0 | T10: =Q10+R10+S10 -> 0 | U10: =P10*T10 -> 0
A11: 103100014 | B11: =D11+G11+J11 -> 8 | C11: R | D11: ='ROSALPI '!T28 -> 0 | E11: - | F11: Z | G11: =ZAMORA!U30 -> 5 | H11: - | I11: P | J11: =PARIS!T30 -> 3 | K11: =CONCATENATE(C11,D11,E11,F11,G11,H11,I11,J11) -> R0-Z5-P3 | M11: ACIDO RETINOICO 0.05% CREMA | N11: POTE X 30 g | O11: DISMERQ SAS | P11: 23272 | Q11: ='ROSALPI '!V28 -> 0 | R11: =ZAMORA!W30 -> 5 | S11: =PARIS!V30 -> 3 | T11: =Q11+R11+S11 -> 8 | U11: =P11*T11 -> 186176
A12: 103100015 | B12: =D12+G12+J12 -> 0 | C12: R | D12: ='ROSALPI '!T29 -> 0 | E12: - | F12: Z | G12: =ZAMORA!U31 -> 0 | H12: - | I12: P | J12: =PARIS!T31 -> 0 | K12: =CONCATENATE(C12,D12,E12,F12,G12,H12,I12,J12) -> R0-Z0-P0 | M12: ACIDO RETINOICO 0.05% LOCIÓN | N12: FCO X 60 ML | O12: DISMERQ SAS | P12: 22471 | Q12: ='ROSALPI '!V29 -> 0 | R12: =ZAMORA!W31 -> 0 | S12: =PARIS!V31 -> 0 | T12: =Q12+R12+S12 -> 0 | U12: =P12*T12 -> 0
A13: 103100017 | B13: =D13+G13+J13 -> 6500 | C13: R | D13: ='ROSALPI '!T30 -> 0 | E13: - | F13: Z | G13: =ZAMORA!U32 -> 2000 | H13: - | I13: P | J13: =PARIS!T32 -> 4500 | K13: =CONCATENATE(C13,D13,E13,F13,G13,H13,I13,J13) -> R0-Z2000-P4500 | L13: FERBIN | M13: ACIDO VALPROICO 250 mg CAPSULA | N13: UNIDAD | O13: DISMERQ SAS | P13: 265 | Q13: ='ROSALPI '!V30 -> 0 | R13: =ZAMORA!W32 -> 2000 | S13: =PARIS!V32 -> 4500 | T13: =Q13+R13+S13 -> 6500 | U13: =P13*T13 -> 1722500
A14: 103100018 | B14: =D14+G14+J14 -> 20 | C14: R | D14: ='ROSALPI '!T31 -> 0 | E14: - | F14: Z | G14: =ZAMORA!U33 -> 10 | H14: - | I14: P | J14: =PARIS!T33 -> 10 | K14: =CONCATENATE(C14,D14,E14,F14,G14,H14,I14,J14) -> R0-Z10-P10 | L14: FERBIN | M14: ACIDO VALPROICO 250 mg/5ml JARABE | N14: FCO X 120 ML | O14: DISMERQ SAS | P14: 6440 | Q14: ='ROSALPI '!V31 -> 0 | R14: =ZAMORA!W33 -> 10 | S14: =PARIS!V33 -> 10 | T14: =Q14+R14+S14 -> 20 | U14: =P14*T14 -> 128800
A15: 103100016 | B15: =D15+G15+J15 -> 0 | C15: R | D15: ='ROSALPI '!T32 -> 0 | E15: - | F15: Z | G15: =ZAMORA!U34 -> 0 | H15: - | I15: P | J15: =PARIS!T34 -> 0 | K15: =CONCATENATE(C15,D15,E15,F15,G15,H15,I15,J15) -> R0-Z0-P0 | M15: ACIDO TRANEXANICO AMPOLLA 500 MG /5ML | N15: AMPOLLA 500MG/5 ML | O15: DISMERQ SAS | P15: 3500 | Q15: ='ROSALPI '!V32 -> 0 | R15: =ZAMORA!W34 -> 0 | S15: =PARIS!V34 -> 0 | T15: =Q15+R15+S15 -> 0 | U15: =P15*T15 -> 0
A16: 103100004 | B16: =D16+G16+J16 -> 200 | C16: R | D16: ='ROSALPI '!T33 -> 0 | E16: - | F16: Z | G16: =ZAMORA!U35 -> 200 | H16: - | I16: P | J16: =PARIS!T35 -> 0 | K16: =CONCATENATE(C16,D16,E16,F16,G16,H16,I16,J16) -> R0-Z200-P0 | M16: ACICLOVIR 200 mg TABLETA | N16: UNIDAD | O16: SYD COLOMBIA S.A | P16: 195 | Q16: ='ROSALPI '!V33 -> 0 | R16: =ZAMORA!W35 -> 200 | S16: =PARIS!V35 -> 0 | T16: =Q16+R16+S16 -> 200 | U16: =P16*T16 -> 39000
A17: 103100005 | B17: =D17+G17+J17 -> 0 | C17: R | D17: ='ROSALPI '!T34 -> 0 | E17: - | F17: Z | G17: =ZAMORA!U36 -> 0 | H17: - | I17: P | J17: =PARIS!T36 -> 0 | K17: =CONCATENATE(C17,D17,E17,F17,G17,H17,I17,J17) -> R0-Z0-P0 | M17: ACICLOVIR 800 mg TABLETA | N17: UNIDAD | O17: SYD COLOMBIA S.A | P17: 743 | Q17: ='ROSALPI '!V34 -> 0 | R17: =ZAMORA!W36 -> 0 | S17: =PARIS!V36 -> 0 | T17: =Q17+R17+S17 -> 0 | U17: =P17*T17 -> 0
A18: 103100019 | B18: =D18+G18+J18 -> 0 | C18: R | D18: ='ROSALPI '!T35 -> 0 | E18: - | F18: Z | G18: =ZAMORA!U37 -> 0 | H18: - | I18: P | J18: =PARIS!T37 -> 0 | K18: =CONCATENATE(C18,D18,E18,F18,G18,H18,I18,J18) -> R0-Z0-P0 | M18: ADENOSINA 6 mg/2 ml AMPOLLA | N18: INYECTABLE | O18: SYD COLOMBIA S.A | P18: 26888 | Q18: ='ROSALPI '!V35 -> 0 | R18: =ZAMORA!W37 -> 0 | S18: =PARIS!V37 -> 0 | T18: =Q18+R18+S18 -> 0 | U18: 0
A19: 103100020 | B19: =D19+G19+J19 -> 0 | C19: R | D19: ='ROSALPI '!T36 -> 0 | E19: - | F19: Z | G19: =ZAMORA!U38 -> 0 | H19: - | I19: P | J19: =PARIS!T38 -> 0 | K19: =CONCATENATE(C19,D19,E19,F19,G19,H19,I19,J19) -> R0-Z0-P0 | M19: ADRENALINA 1mg/ml AMPOLLA | N19: UNIDAD | O19: SYD COLOMBIA S.A | P19: 1609 | Q19: ='ROSALPI '!V36 -> 0 | R19: =ZAMORA!W38 -> 0 | S19: =PARIS!V38 -> 0 | T19: =Q19+R19+S19 -> 0 | U19: =P19*T19 -> 0
A20: 103100021 | B20: =D20+G20+J20 -> 0 | C20: R | D20: ='ROSALPI '!T37 -> 0 | E20: - | F20: Z | G20: =ZAMORA!U39 -> 0 | H20: - | I20: P | J20: =PARIS!T39 -> 0 | K20: =CONCATENATE(C20,D20,E20,F20,G20,H20,I20,J20) -> R0-Z0-P0 | M20: AGUA ESTERIL 5 ml AMPOLLA | N20: UNIDAD | O20: comercializadora mediflash | P20: 778 | Q20: ='ROSALPI '!V37 -> 0 | R20: =ZAMORA!W39 -> 0 | S20: =PARIS!V39 -> 0 | T20: =Q20+R20+S20 -> 0 | U20: =P20*T20 -> 0
A21: 103100022 | B21: =D21+G21+J21 -> 0 | C21: R | D21: ='ROSALPI '!T38 -> 0 | E21: - | F21: Z | G21: =ZAMORA!U40 -> 0 | H21: - | I21: P | J21: =PARIS!T40 -> 0 | K21: =CONCATENATE(C21,D21,E21,F21,G21,H21,I21,J21) -> R0-Z0-P0 | M21: AGUA ESTERIL USP BOLSA X 500ML - UNIDAD | N21: UNIDAD | O21: comercializadora mediflash | P21: 4200 | Q21: ='ROSALPI '!V38 -> 0 | R21: =ZAMORA!W40 -> 0 | S21: =PARIS!V40 -> 0 | T21: =Q21+R21+S21 -> 0 | U21: =P21*T21 -> 0
A22: 103100024 | B22: =D22+G22+J22 -> 130 | C22: R | D22: ='ROSALPI '!T39 -> 0 | E22: - | F22: Z | G22: =ZAMORA!U41 -> 30 | H22: - | I22: P | J22: =PARIS!T41 -> 100 | K22: =CONCATENATE(C22,D22,E22,F22,G22,H22,I22,J22) -> R0-Z30-P100 | M22: ALBENDAZOL 400mg/20 ml SUSPENSIÓN ORAL | N22: FRASCO | O22: comercializadora mediflash | P22: 996 | Q22: ='ROSALPI '!V39 -> 0 | R22: =ZAMORA!W41 -> 30 | S22: =PARIS!V41 -> 100 | T22: =Q22+R22+S22 -> 130 | U22: =P22*T22 -> 129480
