Workbook
Name aa: #REF!
Name aa: #REF!
Name aa: #REF!
Name aa: #REF!
Name aa: #REF!
Name aa: #REF!
Name ddd: #REF!
Name FGFGF: #REF!
Name FGFGF: #REF!
Name FGFGF: #REF!
Name FGFGF: #REF!
Name FGFGF: #REF!
Name FGFGF: #REF!
Name GHGH: #REF!
Name GHGH: #REF!
Name GHGH: #REF!
Name GHGH: #REF!
Name GHGH: #REF!
Name GHGH: #REF!

Sheet ROSALPI 
A1: EMPRESA SOCIAL DEL ESTADO
A2: BELLOSALUD
A3: MUNICIPIO DE BELLO
A4: Nit. 811.007.148-5
A5: Carrera 42 No 20E 91
A6: Tel: 465 01 10 - 448 20 30
A8: ORDEN DE COMPRA | C8: ORDEN DE COMPRA
D10: EMPRESA SOCIAL DEL ESTADO BELLOSALUD
D11: FORMATO NECESIDAD DE MEDICAMENTOS SERVICIO FARMACEUTICO ROSALPI | S11: Versión: 02 | V11: Fecha: | W11: 46266
V12: Codigo: | W12: FA-F-006
S13: Elaborado por : Farmacia
A14: MES: | S14: AÑO:
A15: TIEMPO DE REPOSICIÓN (Tr): | D15: 8
A16: TIEMPO DE ADQUISICIÓN: | D16: 40
A17: TIEMPO DE ADQUISICIÓN: | D17: 40
A18: CODIGO DINAMICA | B18: CODIGO SAFIX | C18: Medicamento | D18: U. MANEJO | E18: NOVIEMBRE | F18: DICIEMBRE | G18: ENERO | H18: FEBRERO | I18: MARZO | J18: ABRIL | K18: CONS.PROM. | L18: EXIST. | M18: NmE | N18: PR. | O18: Ctrl | P18: NME | Q18: DE MAS | R18: CONSUMO MES | S18: CAP | T18: CANT | U18: RECIBIDO | V18: PENDIENTE | W18: PROVEEDOR

Sheet ZAMORA
B1: EMPRESA SOCIAL DEL ESTADO
B2: BELLOSALUD
B3: MUNICIPIO DE BELLO
B4: Nit. 811.007.148-5
B5: Carrera 42 No 20E 91
B6: Tel: 465 01 10 - 448 20 30
B8: ORDEN DE COMPRA | D8: ORDEN DE COMPRA
E10: EMPRESA SOCIAL DEL ESTADO BELLOSALUD
E11: NECESIDAD DE MEDICAMENTOS SERVICIO FARMACEUTICO ZAMORA | T11: Versión: 02 | W11: Fecha: | X11: 46266
W12: Codigo: | X12: FA-F-006
T13: Elaborado por : farmacia
B14: MES: | T14: AÑO:
B16: TIEMPO DE REPOSICIÓN (Tr): | E16: 8
B17: TIEMPO DE ADQUISICIÓN: | E17: 35
B18: TIEMPO DE ADQUISICIÓN: | E18: 35
B20: CODIGO DINAMICA | C20: CODIGO SAFIX | D20: ARTICULO | E20: U. MANEJO | F20: NOVI | G20: DIC | H20: ENERO | I20: FEBRERO | J20: MARZO | K20: ABRIL | L20: CONS.PROM. | M20: EXIST. | N20: SOBRA DIC | O20: MEDIO MES | P20: NmE | Q20: PR. | R20: Ctrl | S20: NME | T20: CAP | U20: CANT | V20: RECIBIDO | W20: PENDIENTE | X20: PROVEEDOR | Y20: proveedor
C21: 103100535 | D21: ACETAMINOFEN 1.5% 150MG/60ML JARABE | E21: FCO X 60 ML | F21: 27 | G21: 15 | H21: 11 | I21: 57 | J21: 37 | K21: 28 | L21: =AVERAGE(F21:K21,) -> 25 | M21: 36 | N21: =M21-L21 -> 11 | O21: =L21/2 -> 12.5 | P21: =+L21*(0.0333333333333333)*$E$16 -> 6.6666667 | Q21: =+P21+((L21/30)*$E$16) -> 13.333333 | R21: =IF(L21=0,"",IF(M21-Q21<=0,"*","")) | S21: =+P21+((L21/30)*$E$17) -> 35.833333 | T21: =+(S21-P21)+(Q21-M21) -> 6.5 | U21: 20 | W21: =U21-V21 -> 20 | X21: SYD COLOMBIA S.A | Z21: 10
C22: 103100001 | D22: ACETAMINOFEN 100 mg/ml SOLUCIÓN ORAL (GOTAS) | E22: FCO X 30 ML | F22: 0 | G22: 0 | H22: 0 | I22: 0 | J22: 1 | K22: 0 | L22: =AVERAGE(F22:K22,) -> 0.14285714 | M22: 0 | N22: =M22-L22 -> -0.14285714 | O22: =L22/2 -> 0.071428571 | P22: =+L22*(0.0333333333333333)*$E$16 -> 0.038095238 | Q22: =+P22+((L22/30)*$E$16) -> 0.076190476 | R22: =IF(L22=0,"",IF(M22-Q22<=0,"*","")) -> * | S22: =+P22+((L22/30)*$E$17) -> 0.2047619 | T22: =+(S22-P22)+(Q22-M22) -> 0.24285714 | U22: 0 | W22: =U22-V22 -> 0 | X22: CLINICAL PHARMA SAS | Z22: 0
C23: 103100002 | D23: ACETAMINOFEN 500 mg TABLETA | E23: UNIDAD | F23: 13557 | G23: 11507 | H23: 11907 | I23: 11758 | J23: 10641 | K23: 12677 | L23: =AVERAGE(F23:K23,) -> 10292.429 | M23: 13356 | N23: =M23-L23 -> 3063.5714 | O23: =L23/2 -> 5146.2143 | P23: =+L23*(0.0333333333333333)*$E$16 -> 2744.6476 | Q23: =+P23+((L23/30)*$E$16) -> 5489.2952 | R23: =IF(L23=0,"",IF(M23-Q23<=0,"*","")) | S23: =+P23+((L23/30)*$E$17) -> 14752.481 | T23: =+(S23-P23)+(Q23-M23) -> 4141.1286 | U23: 8000 | W23: =U23-V23 -> 8000 | X23: DISMERQ SAS | Z23: 4000
C24: 103100006 | D24: ACIDO ACETIL SALICILICO 100 mg TABLETA | E24: UNIDAD | F24: 7635 | G24: 7290 | H24: 7575 | I24: 6524 | J24: 6330 | K24: 8325 | L24: =AVERAGE(F24:K24,) -> 6239.8571 | M24: 9361 | N24: =M24-L24 -> 3121.1429 | O24: =L24/2 -> 3119.9286 | P24: =+L24*(0.0333333333333333)*$E$16 -> 1663.9619 | Q24: =+P24+((L24/30)*$E$16) -> 3327.9238 | R24: =IF(L24=0,"",IF(M24-Q24<=0,"*","")) | S24: =+P24+((L24/30)*$E$17) -> 8943.7952 | T24: =+(S24-P24)+(Q24-M24) -> 1246.7571 | U24: 3000 | W24: =U24-V24 -> 3000 | X24: DISMERQ SAS | Z24: 1500
C25: 103100007 | D25: ACIDO ASCORBICO 10% SOLUCIÓN ORAL | E25: FCO X 30 ML | F25: 1 | G25: 0 | H25: 0 | I25: 0 | J25: 2 | K25: 3 | L25: =AVERAGE(F25:K25,) -> 0.85714286 | M25: 1 | N25: =M25-L25 -> 0.14285714 | O25: =L25/2 -> 0.42857143 | P25: =+L25*(0.0333333333333333)*$E$16 -> 0.22857143 | Q25: =+P25+((L25/30)*$E$16) -> 0.45714286 | R25: =IF(L25=0,"",IF(M25-Q25<=0,"*","")) | S25: =+P25+((L25/30)*$E$17) -> 1.2285714 | T25: =+(S25-P25)+(Q25-M25) -> 0.45714286 | U25: 0 | W25: =U25-V25 -> 0 | X25: comercializadora mediflash | Z25: 0
C26: 103100009 | D26: ACIDO ASCORBICO 500 mg TABLETA | E26: UNIDAD | F26: 60 | G26: 105 | H26: 150 | I26: 165 | J26: 202 | K26: 195 | L26: =AVERAGE(F26:K26,) -> 125.28571 | M26: 148 | N26: =M26-L26 -> 22.714286 | O26: =L26/2 -> 62.642857 | P26: =+L26*(0.0333333333333333)*$E$16 -> 33.409524 | Q26: =+P26+((L26/30)*$E$16) -> 66.819048 | R26: =IF(L26=0,"",IF(M26-Q26<=0,"*","")) | S26: =+P26+((L26/30)*$E$17) -> 179.57619 | T26: =+(S26-P26)+(Q26-M26) -> 64.985714 | U26: 200 | W26: =U26-V26 -> 200 | X26: SYD COLOMBIA S.A | Z26: 0
C27: 103100010 | D27: ACIDO ASCORBICO 500 MG TABLETA MASTICABLE | E27: UNIDAD | F27: 110 | G27: 55 | H27: 135 | I27: 140 | J27: 90 | K27: 70 | L27: =AVERAGE(F27:K27,) -> 85.714286 | M27: 283 | N27: =M27-L27 -> 197.28571 | O27: =L27/2 -> 42.857143 | P27: =+L27*(0.0333333333333333)*$E$16 -> 22.857143 | Q27: =+P27+((L27/30)*$E$16) -> 45.714286 | R27: =IF(L27=0,"",IF(M27-Q27<=0,"*","")) | S27: =+P27+((L27/30)*$E$17) -> 122.85714 | T27: =+(S27-P27)+(Q27-M27) -> -137.28571 | U27: =IF(T27>8999,(CEILING(T27,1000)),IF(T27>4999,(CEILING(T27,500)),IF(T27>899,(CEILING(T27,300)),IF(T27>99,(CEILING(T27,50)),IF(T27>49,(CEILING(T27,30)),IF(T27>9,(CEILING(T27,5)),IF(T27<=0,0,T27))))))) -> 0 | W27: =U27-V27 -> 0 | X27: SYD COLOMBIA S.A | Z27: 0
C28: 103100012 | D28: ACIDO FOLICO 1 mg TABLETA | E28: UNIDAD | F28: 1615 | G28: 1380 | H28: 1455 | I28: 1845 | J28: 1350 | K28: 1834 | L28: =AVERAGE(F28:K28,) -> 1354.1429 | M28: 2291 | N28: =M28-L28 -> 936.85714 | O28: =L28/2 -> 677.07143 | P28: =+L28*(0.0333333333333333)*$E$16 -> 361.10476 | Q28: =+P28+((L28/30)*$E$16) -> 722.20952 | R28: =IF(L28=0,"",IF(M28-Q28<=0,"*","")) | S28: =+P28+((L28/30)*$E$17) -> 1940.9381 | T28: =+(S28-P28)+(Q28-M28) -> 11.042857 | U28: 500 | W28: =U28-V28 -> 500 | X28: SYD COLOMBIA S.A | Z28: 1000
C29: 103100013 | D29: ACIDO FOLICO 5MG TABLETAS | E29: UNIDAD | F29: 0 | G29: 30 | H29: 30 | I29: 0 | J29: 30 | K29: 30 | L29: =AVERAGE(F29:K29,) -> 17.142857 | M29: 119 | N29: =M29-L29 -> 101.85714 | O29: =L29/2 -> 8.5714286 | P29: =+L29*(0.0333333333333333)*$E$16 -> 4.5714286 | Q29: =+P29+((L29/30)*$E$16) -> 9.1428571 | R29: =IF(L29=0,"",IF(M29-Q29<=0,"*","")) | S29: =+P29+((L29/30)*$E$17) -> 24.571429 | T29: =+(S29-P29)+(Q29-M29) -> -89.857143 | U29: =IF(T29>8999,(CEILING(T29,1000)),IF(T29>4999,(CEILING(T29,500)),IF(T29>899,(CEILING(T29,300)),IF(T29>99,(CEILING(T29,50)),IF(T29>49,(CEILING(T29,30)),IF(T29>9,(CEILING(T29,5)),IF(T29<=0,0,T29))))))) -> 0 | W29: =U29-V29 -> 0 | X29: SYD COLOMBIA S.A | Z29: 0
C30: 103100014 | D30: ACIDO RETINOICO 0.05% CREMA | E30: POTE X 30 g | F30: 6 | G30: 5 | H30: 5 | I30: 5 | J30: 2 | K30: 16 | L30: =AVERAGE(F30:K30,) -> 5.5714286 | M30: 9 | N30: =M30-L30 -> 3.4285714 | O30: =L30/2 -> 2.7857143 | P30: =+L30*(0.0333333333333333)*$E$16 -> 1.4857143 | Q30: =+P30+((L30/30)*$E$16) -> 2.9714286 | R30: =IF(L30=0,"",IF(M30-Q30<=0,"*","")) | S30: =+P30+((L30/30)*$E$17) -> 7.9857143 | T30: =+(S30-P30)+(Q30-M30) -> 0.47142857 | U30: 5 | W30: =U30-V30 -> 5 | X30: DISMERQ SAS | Z30: 0
C31: 103100015 | D31: ACIDO RETINOICO 0.05% LOCIÓN | E31: FCO X 60 ML | F31: 3 | G31: 2 | H31: 2 | I31: 0 | J31: 0 | K31: 0 | L31: =AVERAGE(F31:K31,) -> 1 | M31: 6 | N31: =M31-L31 -> 5 | O31: =L31/2 -> 0.5 | P31: =+L31*(0.0333333333333333)*$E$16 -> 0.26666667 | Q31: =+P31+((L31/30)*$E$16) -> 0.53333333 | R31: =IF(L31=0,"",IF(M31-Q31<=0,"*","")) | S31: =+P31+((L31/30)*$E$17) -> 1.4333333 | T31: =+(S31-P31)+(Q31-M31) -> -4.3 | U31: =IF(T31>8999,(CEILING(T31,1000)),IF(T31>4999,(CEILING(T31,500)),IF(T31>899,(CEILING(T31,300)),IF(T31>99,(CEILING(T31,50)),IF(T31>49,(CEILING(T31,30)),IF(T31>9,(CEILING(T31,5)),IF(T31<=0,0,T31))))))) -> 0 | W31: =U31-V31 -> 0 | X31: DISMERQ SAS | Z31: 0
C32: 103100017 | D32: ACIDO VALPROICO 250 mg CAPSULA | E32: UNIDAD | F32: 3360 | G32: 2950 | H32: 2440 | I32: 2160 | J32: 2550 | K32: 3330 | L32: =AVERAGE(F32:K32,) -> 2398.5714 | M32: 2909 | N32: =M32-L32 -> 510.42857 | O32: =L32/2 -> 1199.2857 | P32: =+L32*(0.0333333333333333)*$E$16 -> 639.61905 | Q32: =+P32+((L32/30)*$E$16) -> 1279.2381 | R32: =IF(L32=0,"",IF(M32-Q32<=0,"*","")) | S32: =+P32+((L32/30)*$E$17) -> 3437.9524 | T32: =+(S32-P32)+(Q32-M32) -> 1168.5714 | U32: 2000 | W32: =U32-V32 -> 2000 | X32: DISMERQ SAS | Z32: 1200
C33: 103100018 | D33: ACIDO VALPROICO 250 mg/5ml JARABE | E33: FCO X 120 ML | F33: 2 | G33: 0 | H33: 0 | I33: 1 | J33: 5 | K33: 8 | L33: =AVERAGE(F33:K33,) -> 2.2857143 | M33: 7 | N33: 15 | O33: =L33/2 -> 1.1428571 | P33: =+L33*(0.0333333333333333)*$E$16 -> 0.60952381 | Q33: =+P33+((L33/30)*$E$16) -> 1.2190476 | R33: =IF(L33=0,"",IF(M33-Q33<=0,"*","")) | S33: =+P33+((L33/30)*$E$17) -> 3.2761905 | T33: =+(S33-P33)+(Q33-M33) -> -3.1142857 | U33: 10 | W33: =U33-V33 -> 10 | X33: DISMERQ SAS | Z33: 0
C34: 103100016 | D34: ACIDO TRANEXANICO AMPOLLA 500 MG /5ML | E34: AMPOLLA 500/5ML | F34: 0 | G34: 0 | H34: 0 | I34: 0 | J34: 0 | K34: 0 | L34: 0 | M34: 0 | O34: =L34/2 -> 0 | P34: =+L34*(0.0333333333333333)*$E$16 -> 0 | Q34: =+P34+((L34/30)*$E$16) -> 0 | S34: =+P34+((L34/30)*$E$17) -> 0 | T34: =+(S34-P34)+(Q34-M34) -> 0 | U34: =IF(T34>8999,(CEILING(T34,1000)),IF(T34>4999,(CEILING(T34,500)),IF(T34>899,(CEILING(T34,300)),IF(T34>99,(CEILING(T34,50)),IF(T34>49,(CEILING(T34,30)),IF(T34>9,(CEILING(T34,5)),IF(T34<=0,0,T34))))))) -> 0 | W34: =U34-V34 -> 0 | X34: DISMERQ SAS | Z34: 0
C35: 103100004 | D35: ACICLOVIR 200 mg TABLETA | E35: UNIDAD | F35: 476 | G35: 330 | H35: 240 | I35: 240 | J35: 240 | K35: 420 | L35: =AVERAGE(F35:K35,) -> 278 | M35: 438 | N35: =M35-L35 -> 160 | O35: =L35/2 -> 139 | P35: =+L35*(0.0333333333333333)*$E$16 -> 74.133333 | Q35: =+P35+((L35/30)*$E$16) -> 148.26667 | R35: =IF(L35=0,"",IF(M35-Q35<=0,"*","")) | S35: =+P35+((L35/30)*$E$17) -> 398.46667 | T35: =+(S35-P35)+(Q35-M35) -> 34.6 | U35: 200 | W35: =U35-V35 -> 200 | X35: SYD COLOMBIA S.A | Z35: 0
C36: 103100005 | D36: ACICLOVIR 800 mg TABLETA | E36: UNIDAD | F36: 0 | G36: 69 | H36: 93 | I36: 39 | J36: 15 | K36: 51 | L36: =AVERAGE(F36:K36,) -> 38.142857 | M36: 68 | N36: =M36-L36 -> 29.857143 | O36: =L36/2 -> 19.071429 | P36: =+L36*(0.0333333333333333)*$E$16 -> 10.171429 | Q36: =+P36+((L36/30)*$E$16) -> 20.342857 | R36: =IF(L36=0,"",IF(M36-Q36<=0,"*","")) | S36: =+P36+((L36/30)*$E$17) -> 54.671429 | T36: =+(S36-P36)+(Q36-M36) -> -3.1571429 | U36: =IF(T36>8999,(CEILING(T36,1000)),IF(T36>4999,(CEILING(T36,500)),IF(T36>899,(CEILING(T36,300)),IF(T36>99,(CEILING(T36,50)),IF(T36>49,(CEILING(T36,30)),IF(T36>9,(CEILING(T36,5)),IF(T36<=0,0,T36))))))) -> 0 | W36: =U36-V36 -> 0 | X36: SYD COLOMBIA S.A | Z36: 0
C37: 103100019 | D37: ADENOSINA 6 mg/2 ml AMPOLLA | E37: INYECTABLE | F37: 0 | G37: 0 | H37: 0 | I37: 0 | J37: 0 | K37: 0 | L37: =AVERAGE(F37:K37,) -> 0 | M37: 0 | N37: =M37-L37 -> 0 | O37: =L37/2 -> 0 | P37: =+L37*(0.0333333333333333)*$E$16 -> 0 | Q37: =+P37+((L37/30)*$E$16) -> 0 | R37: =IF(L37=0,"",IF(M37-Q37<=0,"*","")) | S37: =+P37+((L37/30)*$E$17) -> 0 | T37: =+(S37-P37)+(Q37-M37) -> 0 | U37: =IF(T37>8999,(CEILING(T37,1000)),IF(T37>4999,(CEILING(T37,500)),IF(T37>899,(CEILING(T37,300)),IF(T37>99,(CEILING(T37,50)),IF(T37>49,(CEILING(T37,30)),IF(T37>9,(CEILING(T37,5)),IF(T37<=0,0,T37))))))) -> 0 | W37: =U37-V37 -> 0 | X37: SYD COLOMBIA S.A | Z37: 0
C38: 103100020 | D38: ADRENALINA 1mg/ml AMPOLLA | E38: UNIDAD | F38: 0 | G38: 0 | H38: 0 | I38: 0 | J38: 0 | K38: 0 | L38: =AVERAGE(F38:K38,) -> 0 | M38: 0 | N38: =M38-L38 -> 0 | O38: =L38/2 -> 0 | P38: =+L38*(0.0333333333333333)*$E$16 -> 0 | Q38: =+P38+((L38/30)*$E$16) -> 0 | R38: =IF(L38=0,"",IF(M38-Q38<=0,"*","")) | S38: =+P38+((L38/30)*$E$17) -> 0 | T38: =+(S38-P38)+(Q38-M38) -> 0 | U38: =IF(T38>8999,(CEILING(T38,1000)),IF(T38>4999,(CEILING(T38,500)),IF(T38>899,(CEILING(T38,300)),IF(T38>99,(CEILING(T38,50)),IF(T38>49,(CEILING(T38,30)),IF(T38>9,(CEILING(T38,5)),IF(T38<=0,0,T38))))))) -> 0 | W38: =U38-V38 -> 0 | X38: SYD COLOMBIA S.A | Z38: 0
C39: 103100021 | D39: AGUA ESTERIL 5 ml AMPOLLA | E39: UNIDAD | F39: 70 | G39: 0 | H39: 0 | I39: 10 | J39: 81 | K39: 82 | L39: =AVERAGE(F39:K39,) -> 34.714286 | M39: 83 | N39: =M39-L39 -> 48.285714 | O39: =L39/2 -> 17.357143 | P39: =+L39*(0.0333333333333333)*$E$16 -> 9.2571429 | Q39: =+P39+((L39/30)*$E$16) -> 18.514286 | R39: =IF(L39=0,"",IF(M39-Q39<=0,"*","")) | S39: =+P39+((L39/30)*$E$17) -> 49.757143 | T39: =+(S39-P39)+(Q39-M39) -> -23.985714 | U39: =IF(T39>8999,(CEILING(T39,1000)),IF(T39>4999,(CEILING(T39,500)),IF(T39>899,(CEILING(T39,300)),IF(T39>99,(CEILING(T39,50)),IF(T39>49,(CEILING(T39,30)),IF(T39>9,(CEILING(T39,5)),IF(T39<=0,0,T39))))))) -> 0 | W39: =U39-V39 -> 0 | X39: comercializadora mediflash | Z39: 0
C40: 103100022 | D40: AGUA ESTERIL USP BOLSA X 500ML - UNIDAD | E40: UNIDAD | F40: 0 | G40: 0 | H40: 0 | I40: 0 | J40: 0 | K40: 0 | L40: =AVERAGE(F40:K40,) -> 0 | M40: 0 | N40: 0 | O40: =L40/2 -> 0 | P40: =+L40*(0.0333333333333333)*$E$16 -> 0 | Q40: =+P40+((L40/30)*$E$16) -> 0 | R40: =IF(L40=0,"",IF(M40-Q40<=0,"*","")) | S40: =+P40+((L40/30)*$E$17) -> 0 | T40: =+(S40-P40)+(Q40-M40) -> 0 | U40: =IF(T40>8999,(CEILING(T40,1000)),IF(T40>4999,(CEILING(T40,500)),IF(T40>899,(CEILING(T40,300)),IF(T40>99,(CEILING(T40,50)),IF(T40>49,(CEILING(T40,30)),IF(T40>9,(CEILING(T40,5)),IF(T40<=0,0,T40))))))) -> 0 | W40: =U40-V40 -> 0 | X40: comercializadora mediflash | Z40: 0
C41: 103100024 | D41: ALBENDAZOL 400mg/20 ml SUSPENSIÓN ORAL | E41: FRASCO | F41: 67 | G41: 34 | H41: 34 | I41: 72 | J41: 72 | K41: 92 | L41: =AVERAGE(F41:K41,) -> 53 | M41: 87 | N41: =M41-L41 -> 34 | O41: =L41/2 -> 26.5 | P41: =+L41*(0.0333333333333333)*$E$16 -> 14.133333 | Q41: =+P41+((L41/30)*$E$16) -> 28.266667 | R41: =IF(L41=0,"",IF(M41-Q41<=0,"*","")) | S41: =+P41+((L41/30)*$E$17) -> 75.966667 | T41: =+(S41-P41)+(Q41-M41) -> 3.1 | U41: 30 | W41: =U41-V41 -> 30 | X41: comercializadora mediflash | Z41: 0
C42: 103100023 | D42: ALBENDAZOL 200 mg TABLETA | E42: UNIDAD | F42: 71 | G42: 61 | H42: 58 | I42: 78 | J42: 90 | K42: 88 | L42: =AVERAGE(F42:K42,) -> 63.714286 | M42: 88 | N42: =M42-L42 -> 24.285714 | O42: =L42/2 -> 31.857143 | P42: =+L42*(0.0333333333333333)*$E$16 -> 16.990476 | Q42: =+P42+((L42/30)*$E$16) -> 33.980952 | R42: =IF(L42=0,"",IF(M42-Q42<=0,"*","")) | S42: =+P42+((L42/30)*$E$17) -> 91.32381 | T42: =+(S42-P42)+(Q42-M42) -> 20.314286 | U42: 60 | W42: =U42-V42 -> 60 | X42: comercializadora mediflash | Z42: 120
C43: 103100712 | D43: ALCOHOL ANTISEPTICO MK 700ML - FRASCO | E43: FRASCO | F43: 46 | G43: 38 | H43: 38 | I43: 40 | J43: 43 | K43: 46 | L43: =AVERAGE(F43:K43,) -> 35.857143 | M43: 57 | N43: =M43-L43 -> 21.142857 | O43: =L43/2 -> 17.928571 | P43: =+L43*(0.0333333333333333)*$E$16 -> 9.5619048 | Q43: =+P43+((L43/30)*$E$16) -> 19.12381 | R43: =IF(L43=0,"",IF(M43-Q43<=0,"*","")) | S43: =+P43+((L43/30)*$E$17) -> 51.395238 | T43: =+(S43-P43)+(Q43-M43) -> 3.9571429 | U43: 30 | W43: =U43-V43 -> 30 | X43: SYD COLOMBIA S.A | Z43: 40
C44: 103100025 | D44: ALFAMETILDOPA 250 mg TABLETA | E44: UNIDAD | F44: 180 | G44: 390 | H44: 480 | I44: 210 | J44: 330 | K44: 240 | L44: =AVERAGE(F44:K44,) -> 261.42857 | M44: 270 | N44: =M44-L44 -> 8.5714286 | O44: =L44/2 -> 130.71429 | P44: =+L44*(0.0333333333333333)*$E$16 -> 69.714286 | Q44: =+P44+((L44/30)*$E$16) -> 139.42857 | R44: =IF(L44=0,"",IF(M44-Q44<=0,"*","")) | S44: =+P44+((L44/30)*$E$17) -> 374.71429 | T44: =+(S44-P44)+(Q44-M44) -> 174.42857 | U44: 300 | W44: =U44-V44 -> 300 | X44: SYD COLOMBIA S.A | Z44: 0
C45: 103100942 | D45: ALIMENTO EN POLVO FORMULA CASEA A BASE DE MALTODEXTRINA CON VITAMINASY MINERALES SOBRE D | E45: SOBRE 1 GR | F45: 0 | G45: 0 | H45: 0 | I45: 0 | J45: 0 | K45: 720 | L45: =AVERAGE(F45:K45,) -> 102.85714 | M45: 240 | N45: =M45-L45 -> 137.14286 | O45: =L45/2 -> 51.428571 | P45: =+L45*(0.0333333333333333)*$E$16 -> 27.428571 | Q45: =+P45+((L45/30)*$E$16) -> 54.857143 | R45: =IF(L45=0,"",IF(M45-Q45<=0,"*","")) | S45: =+P45+((L45/30)*$E$17) -> 147.42857 | T45: =+(S45-P45)+(Q45-M45) -> -65.142857 | U45: 700 | W45: =U45-V45 -> 700 | X45: QUIRUCLEAN
C46: 103100028 | D46: ALOPURINOL 100 mg TABLETA | E46: UNIDAD | F46: 1470 | G46: 1450 | H46: 1480 | I46: 1060 | J46: 1180 | K46: 1490 | L46: =AVERAGE(F46:K46,) -> 1161.4286 | M46: 1240 | N46: =M46-L46 -> 78.571429 | O46: =L46/2 -> 580.71429 | P46: =+L46*(0.0333333333333333)*$E$16 -> 309.71429 | Q46: =+P46+((L46/30)*$E$16) -> 619.42857 | R46: =IF(L46=0,"",IF(M46-Q46<=0,"*","")) | S46: =+P46+((L46/30)*$E$17) -> 1664.7143 | T46: =+(S46-P46)+(Q46-M46) -> 734.42857 | U46: 600 | W46: =U46-V46 -> 600 | X46: comercializadora mediflash | Z46: 0
C47: 103100029 | D47: ALOPURINOL 300 mg TABLETA | E47: UNIDAD | F47: 854 | G47: 632 | H47: 644 | I47: 611 | J47: 519 | K47: 733 | L47: =AVERAGE(F47:K47,) -> 570.42857 | M47: 700 | N47: =M47-L47 -> 129.57143 | O47: =L47/2 -> 285.21429 | P47: =+L47*(0.0333333333333333)*$E$16 -> 152.11429 | Q47: =+P47+((L47/30)*$E$16) -> 304.22857 | R47: =IF(L47=0,"",IF(M47-Q47<=0,"*","")) | S47: =+P47+((L47/30)*$E$17) -> 817.61429 | T47: =+(S47-P47)+(Q47-M47) -> 269.72857 | U47: 400 | W47: =U47-V47 -> 400 | X47: DISMERQ SAS | Z47: 0
C48: 103100030 | D48: ALPRAZOLAM 0.25 mg TABLETA (CONTROL ESPECIAL) | E48: UNIDAD | F48: 0 | G48: 0 | H48: 0 | I48: 0 | J48: 0 | K48: 0 | L48: =AVERAGE(F48:K48,) -> 0 | M48: 0 | N48: =M48-L48 -> 0 | O48: =L48/2 -> 0 | P48: =+L48*(0.0333333333333333)*$E$16 -> 0 | Q48: =+P48+((L48/30)*$E$16) -> 0 | R48: =IF(L48=0,"",IF(M48-Q48<=0,"*","")) | S48: =+P48+((L48/30)*$E$17) -> 0 | T48: =+(S48-P48)+(Q48-M48) -> 0 | U48: =IF(T48>8999,(CEILING(T48,1000)),IF(T48>4999,(CEILING(T48,500)),IF(T48>899,(CEILING(T48,300)),IF(T48>99,(CEILING(T48,50)),IF(T48>49,(CEILING(T48,30)),IF(T48>9,(CEILING(T48,5)),IF(T48<=0,0,T48))))))) -> 0 | W48: =U48-V48 -> 0 | X48: CLINICAL PHARMA SAS | Z48: 0
C49: 103100031 | D49: ALPRAZOLAM 0.5 mg TABLETA (CONTROL ESPECIAL) | E49: UNIDAD | F49: 0 | G49: 0 | H49: 0 | I49: 0 | J49: 0 | K49: 0 | L49: =AVERAGE(F49:K49,) -> 0 | M49: 0 | N49: =M49-L49 -> 0 | O49: =L49/2 -> 0 | P49: =+L49*(0.0333333333333333)*$E$16 -> 0 | Q49: =+P49+((L49/30)*$E$16) -> 0 | R49: =IF(L49=0,"",IF(M49-Q49<=0,"*","")) | S49: =+P49+((L49/30)*$E$17) -> 0 | T49: =+(S49-P49)+(Q49-M49) -> 0 | U49: =IF(T49>8999,(CEILING(T49,1000)),IF(T49>4999,(CEILING(T49,500)),IF(T49>899,(CEILING(T49,300)),IF(T49>99,(CEILING(T49,50)),IF(T49>49,(CEILING(T49,30)),IF(T49>9,(CEILING(T49,5)),IF(T49<=0,0,T49))))))) -> 0 | W49: =U49-V49 -> 0 | X49: #N/A | Z49: 0
C50: 103100032 | D50: AMANTADINA 100 mg TABLETA | E50: UNIDAD | F50: 300 | G50: 150 | H50: 120 | I50: 180 | J50: 120 | K50: 300 | L50: =AVERAGE(F50:K50,) -> 167.14286 | M50: 210 | N50: =M50-L50 -> 42.857143 | O50: =L50/2 -> 83.571429 | P50: =+L50*(0.0333333333333333)*$E$16 -> 44.571429 | Q50: =+P50+((L50/30)*$E$16) -> 89.142857 | R50: =IF(L50=0,"",IF(M50-Q50<=0,"*","")) | S50: =+P50+((L50/30)*$E$17) -> 239.57143 | T50: =+(S50-P50)+(Q50-M50) -> 74.142857 | U50: 0 | W50: =U50-V50 -> 0 | X50: SYD COLOMBIA S.A | Z50: 300
C51: 103100033 | D51: AMIKACINA 100 mg/2ml AMPOLLA | E51: UNIDAD | F51: 0 | G51: 0 | H51: 0 | I51: 0 | J51: 0 | K51: 0 | L51: =AVERAGE(F51:K51,) -> 0 | M51: 0 | N51: =M51-L51 -> 0 | O51: =L51/2 -> 0 | P51: =+L51*(0.0333333333333333)*$E$16 -> 0 | Q51: =+P51+((L51/30)*$E$16) -> 0 | R51: =IF(L51=0,"",IF(M51-Q51<=0,"*","")) | S51: =+P51+((L51/30)*$E$17) -> 0 | T51: =+(S51-P51)+(Q51-M51) -> 0 | U51: =IF(T51>8999,(CEILING(T51,1000)),IF(T51>4999,(CEILING(T51,500)),IF(T51>899,(CEILING(T51,300)),IF(T51>99,(CEILING(T51,50)),IF(T51>49,(CEILING(T51,30)),IF(T51>9,(CEILING(T51,5)),IF(T51<=0,0,T51))))))) -> 0 | W51: =U51-V51 -> 0 | X51: comercializadora mediflash | Z51: 0
C52: 103100034 | D52: AMIKACINA 500 mg/2mL AMPOLLA | E52: UNIDAD | F52: 0 | G52: 0 | H52: 0 | I52: 0 | J52: 0 | K52: 0 | L52: =AVERAGE(F52:K52,) -> 0 | M52: 0 | N52: =M52-L52 -> 0 | O52: =L52/2 -> 0 | P52: =+L52*(0.0333333333333333)*$E$16 -> 0 | Q52: =+P52+((L52/30)*$E$16) -> 0 | R52: =IF(L52=0,"",IF(M52-Q52<=0,"*","")) | S52: =+P52+((L52/30)*$E$17) -> 0 | T52: =+(S52-P52)+(Q52-M52) -> 0 | U52: =IF(T52>8999,(CEILING(T52,1000)),IF(T52>4999,(CEILING(T52,500)),IF(T52>899,(CEILING(T52,300)),IF(T52>99,(CEILING(T52,50)),IF(T52>49,(CEILING(T52,30)),IF(T52>9,(CEILING(T52,5)),IF(T52<=0,0,T52))))))) -> 0 | W52: =U52-V52 -> 0 | X52: comercializadora mediflash | Z52: 0
C53: 103100035 | D53: AMINOFILINA 2.40% AMPOLLA | E53: UNIDAD | F53: 0 | G53: 0 | H53: 0 | I53: 0 | J53: 0 | K53: 0 | L53: =AVERAGE(F53:K53,) -> 0 | M53: 0 | N53: =M53-L53 -> 0 | O53: =L53/2 -> 0 | P53: =+L53*(0.0333333333333333)*$E$16 -> 0 | Q53: =+P53+((L53/30)*$E$16) -> 0 | R53: =IF(L53=0,"",IF(M53-Q53<=0,"*","")) | S53: =+P53+((L53/30)*$E$17) -> 0 | T53: =+(S53-P53)+(Q53-M53) -> 0 | U53: =IF(T53>8999,(CEILING(T53,1000)),IF(T53>4999,(CEILING(T53,500)),IF(T53>899,(CEILING(T53,300)),IF(T53>99,(CEILING(T53,50)),IF(T53>49,(CEILING(T53,30)),IF(T53>9,(CEILING(T53,5)),IF(T53<=0,0,T53))))))) -> 0 | W53: =U53-V53 -> 0 | X53: #N/A | Z53: 0
C54: 103100036 | D54: AMIODARONA 150 mg AMPOLLA | E54: UNIDAD | F54: 0 | G54: 0 | H54: 0 | I54: 0 | J54: 0 | K54: 0 | L54: =AVERAGE(F54:K54,) -> 0 | M54: 0 | N54: =M54-L54 -> 0 | O54: =L54/2 -> 0 | P54: =+L54*(0.0333333333333333)*$E$16 -> 0 | Q54: =+P54+((L54/30)*$E$16) -> 0 | R54: =IF(L54=0,"",IF(M54-Q54<=0,"*","")) | S54: =+P54+((L54/30)*$E$17) -> 0 | T54: =+(S54-P54)+(Q54-M54) -> 0 | U54: =IF(T54>8999,(CEILING(T54,1000)),IF(T54>4999,(CEILING(T54,500)),IF(T54>899,(CEILING(T54,300)),IF(T54>99,(CEILING(T54,50)),IF(T54>49,(CEILING(T54,30)),IF(T54>9,(CEILING(T54,5)),IF(T54<=0,0,T54))))))) -> 0 | W54: =U54-V54 -> 0 | X54: SYD COLOMBIA S.A | Z54: 0
C55: 103100037 | D55: AMIODARONA 200 mg TABLETA | E55: UNIDAD | F55: 375 | G55: 315 | H55: 270 | I55: 315 | J55: 255 | K55: 460 | L55: =AVERAGE(F55:K55,) -> 284.28571 | M55: 435 | N55: =M55-L55 -> 150.71429 | O55: =L55/2 -> 142.14286 | P55: =+L55*(0.0333333333333333)*$E$16 -> 75.809524 | Q55: =+P55+((L55/30)*$E$16) -> 151.61905 | R55: =IF(L55=0,"",IF(M55-Q55<=0,"*","")) | S55: =+P55+((L55/30)*$E$17) -> 407.47619 | T55: =+(S55-P55)+(Q55-M55) -> 48.285714 | U55: 300 | W55: =U55-V55 -> 300 | X55: DISMERQ SAS | Z55: 0
C56: 103100038 | D56: AMITRIPTILINA 25 mg TABLETA | E56: UNIDAD | F56: 780 | G56: 840 | H56: 690 | I56: 690 | J56: 570 | K56: 690 | L56: =AVERAGE(F56:K56,) -> 608.57143 | M56: 877 | N56: =M56-L56 -> 268.42857 | O56: =L56/2 -> 304.28571 | P56: =+L56*(0.0333333333333333)*$E$16 -> 162.28571 | Q56: =+P56+((L56/30)*$E$16) -> 324.57143 | R56: =IF(L56=0,"",IF(M56-Q56<=0,"*","")) | S56: =+P56+((L56/30)*$E$17) -> 872.28571 | T56: =+(S56-P56)+(Q56-M56) -> 157.57143 | U56: 600 | W56: =U56-V56 -> 600 | X56: DISMERQ SAS | Z56: 600
C57: 103100039 | D57: AMLODIPINO 10 mg TABLETA | E57: UNIDAD | F57: 5010 | G57: 4425 | H57: 5145 | I57: 5010 | J57: 5145 | K57: 6660 | L57: =AVERAGE(F57:K57,) -> 4485 | M57: 4110 | N57: =M57-L57 -> -375 | O57: =L57/2 -> 2242.5 | P57: =+L57*(0.0333333333333333)*$E$16 -> 1196 | Q57: =+P57+((L57/30)*$E$16) -> 2392 | R57: =IF(L57=0,"",IF(M57-Q57<=0,"*","")) | S57: =+P57+((L57/30)*$E$17) -> 6428.5 | T57: =+(S57-P57)+(Q57-M57) -> 3514.5 | U57: 6000 | W57: =U57-V57 -> 6000 | X57: DISMERQ SAS | Z57: 2500
C58: 103100040 | D58: AMLODIPINO 5 mg TABLETA | E58: UNIDAD | F58: 15540 | G58: 12310 | H58: 13770 | I58: 13095 | J58: 13200 | K58: 16705 | L58: =AVERAGE(F58:K58,) -> 12088.571 | M58: 13664 | N58: =M58-L58 -> 1575.4286 | O58: =L58/2 -> 6044.2857 | P58: =+L58*(0.0333333333333333)*$E$16 -> 3223.619 | Q58: =+P58+((L58/30)*$E$16) -> 6447.2381 | R58: =IF(L58=0,"",IF(M58-Q58<=0,"*","")) | S58: =+P58+((L58/30)*$E$17) -> 17326.952 | T58: =+(S58-P58)+(Q58-M58) -> 6886.5714 | U58: 10000 | W58: =U58-V58 -> 10000 | X58: SYD COLOMBIA S.A | Z58: 6000
C59: 103100041 | D59: AMOXACILINA 250 mg/5ml SUSPENSIÓN ORAL | E59: FCO X 100 ML | F59: 7 | G59: 2 | H59: 2 | I59: 13 | J59: 18 | K59: 31 | L59: =AVERAGE(F59:K59,) -> 10.428571 | M59: 18 | N59: =M59-L59 -> 7.5714286 | O59: =L59/2 -> 5.2142857 | P59: =+L59*(0.0333333333333333)*$E$16 -> 2.7809524 | Q59: =+P59+((L59/30)*$E$16) -> 5.5619048 | R59: =IF(L59=0,"",IF(M59-Q59<=0,"*","")) | S59: =+P59+((L59/30)*$E$17) -> 14.947619 | T59: =+(S59-P59)+(Q59-M59) -> -0.27142857 | U59: 10 | W59: =U59-V59 -> 10 | X59: DISMERQ SAS | Z59: 0
C60: 103100042 | D60: AMOXACILINA 500 mg TABLETA | E60: UNIDAD | F60: 721 | G60: 754 | H60: 801 | I60: 714 | J60: 885 | K60: 1021 | L60: =AVERAGE(F60:K60,) -> 699.42857 | M60: 942 | N60: =M60-L60 -> 242.57143 | O60: =L60/2 -> 349.71429 | P60: =+L60*(0.0333333333333333)*$E$16 -> 186.51429 | Q60: =+P60+((L60/30)*$E$16) -> 373.02857 | R60: =IF(L60=0,"",IF(M60-Q60<=0,"*","")) | S60: =+P60+((L60/30)*$E$17) -> 1002.5143 | T60: =+(S60-P60)+(Q60-M60) -> 247.02857 | U60: 400 | W60: =U60-V60 -> 400 | X60: comercializadora mediflash | Z60: 0
C61: 103100044 | D61: AMPICILINA 1 g/3.4 ml AMPOLLA | E61: UNIDAD | F61: 0 | G61: 0 | H61: 0 | I61: 0 | J61: 0 | K61: 0 | L61: =AVERAGE(F61:K61,) -> 0 | M61: 0 | N61: =M61-L61 -> 0 | O61: =L61/2 -> 0 | P61: =+L61*(0.0333333333333333)*$E$16 -> 0 | Q61: =+P61+((L61/30)*$E$16) -> 0 | R61: =IF(L61=0,"",IF(M61-Q61<=0,"*","")) | S61: =+P61+((L61/30)*$E$17) -> 0 | T61: =+(S61-P61)+(Q61-M61) -> 0 | U61: =IF(T61>8999,(CEILING(T61,1000)),IF(T61>4999,(CEILING(T61,500)),IF(T61>899,(CEILING(T61,300)),IF(T61>99,(CEILING(T61,50)),IF(T61>49,(CEILING(T61,30)),IF(T61>9,(CEILING(T61,5)),IF(T61<=0,0,T61))))))) -> 0 | W61: =U61-V61 -> 0 | X61: SYD COLOMBIA S.A | Z61: 0
C62: 103100045 | D62: AMPICILINA 1G + SULBACTAM 0.5 G AMPOLLA | E62: UNIDAD | F62: 0 | G62: 0 | H62: 0 | I62: 0 | J62: 0 | K62: 0 | L62: =AVERAGE(F62:K62,) -> 0 | M62: 0 | N62: =M62-L62 -> 0 | O62: =L62/2 -> 0 | P62: =+L62*(0.0333333333333333)*$E$16 -> 0 | Q62: =+P62+((L62/30)*$E$16) -> 0 | R62: =IF(L62=0,"",IF(M62-Q62<=0,"*","")) | S62: =+P62+((L62/30)*$E$17) -> 0 | T62: =+(S62-P62)+(Q62-M62) -> 0 | U62: =IF(T62>8999,(CEILING(T62,1000)),IF(T62>4999,(CEILING(T62,500)),IF(T62>899,(CEILING(T62,300)),IF(T62>99,(CEILING(T62,50)),IF(T62>49,(CEILING(T62,30)),IF(T62>9,(CEILING(T62,5)),IF(T62<=0,0,T62))))))) -> 0 | W62: =U62-V62 -> 0 | X62: DISMERQ SAS | Z62: 0
C63: 103100532 | D63: AMPICILINA 250 mg/5 mL SUSPENSIÓN ORAL | E63: FRASCO | F63: 0 | G63: 0 | H63: 0 | I63: 0 | J63: 0 | K63: 0 | L63: =AVERAGE(F63:K63,) -> 0 | M63: 0 | N63: =M63-L63 -> 0 | O63: =L63/2 -> 0 | P63: =+L63*(0.0333333333333333)*$E$16 -> 0 | Q63: =+P63+((L63/30)*$E$16) -> 0 | R63: =IF(L63=0,"",IF(M63-Q63<=0,"*","")) | S63: =+P63+((L63/30)*$E$17) -> 0 | T63: =+(S63-P63)+(Q63-M63) -> 0 | U63: =IF(T63>8999,(CEILING(T63,1000)),IF(T63>4999,(CEILING(T63,500)),IF(T63>899,(CEILING(T63,300)),IF(T63>99,(CEILING(T63,50)),IF(T63>49,(CEILING(T63,30)),IF(T63>9,(CEILING(T63,5)),IF(T63<=0,0,T63))))))) -> 0 | W63: =U63-V63 -> 0 | X63: CLINICAL PHARMA SAS | Z63: 0
C64: 103100046 | D64: AMPICILINA 500 mg AMPOLLA | E64: UNIDAD | F64: 0 | G64: 0 | H64: 0 | I64: 0 | J64: 0 | K64: 0 | L64: =AVERAGE(F64:K64,) -> 0 | M64: 0 | N64: =M64-L64 -> 0 | O64: =L64/2 -> 0 | P64: =+L64*(0.0333333333333333)*$E$16 -> 0 | Q64: =+P64+((L64/30)*$E$16) -> 0 | R64: =IF(L64=0,"",IF(M64-Q64<=0,"*","")) | S64: =+P64+((L64/30)*$E$17) -> 0 | T64: =+(S64-P64)+(Q64-M64) -> 0 | U64: =IF(T64>8999,(CEILING(T64,1000)),IF(T64>4999,(CEILING(T64,500)),IF(T64>899,(CEILING(T64,300)),IF(T64>99,(CEILING(T64,50)),IF(T64>49,(CEILING(T64,30)),IF(T64>9,(CEILING(T64,5)),IF(T64<=0,0,T64))))))) -> 0 | W64: =U64-V64 -> 0 | X64: SYD COLOMBIA S.A | Z64: 0
C65: 103100047 | D65: AMPICILINA 500 mg CAPSULA | E65: UNIDAD | F65: 0 | G65: 114 | H65: 114 | I65: 0 | J65: 0 | K65: 0 | L65: =AVERAGE(F65:K65,) -> 32.571429 | M65: 0 | N65: =M65-L65 -> -32.571429 | O65: =L65/2 -> 16.285714 | P65: =+L65*(0.0333333333333333)*$E$16 -> 8.6857143 | Q65: =+P65+((L65/30)*$E$16) -> 17.371429 | R65: =IF(L65=0,"",IF(M65-Q65<=0,"*","")) -> * | S65: =+P65+((L65/30)*$E$17) -> 46.685714 | T65: =+(S65-P65)+(Q65-M65) -> 55.371429 | U65: 0 | W65: =U65-V65 -> 0 | X65: CLINICAL PHARMA SAS | Z65: 0
C66: 103100053 | D66: ATAZANAVIR 300 MG TABLETAS | E66: UNIDAD | F66: 0 | G66: 0 | H66: 0 | I66: 0 | J66: 0 | K66: 0 | L66: =AVERAGE(F66:K66,) -> 0 | M66: 0 | N66: =M66-L66 -> 0 | O66: =L66/2 -> 0 | P66: =+L66*(0.0333333333333333)*$E$16 -> 0 | Q66: =+P66+((L66/30)*$E$16) -> 0 | R66: =IF(L66=0,"",IF(M66-Q66<=0,"*","")) | S66: =+P66+((L66/30)*$E$17) -> 0 | T66: =+(S66-P66)+(Q66-M66) -> 0 | U66: =IF(T66>8999,(CEILING(T66,1000)),IF(T66>4999,(CEILING(T66,500)),IF(T66>899,(CEILING(T66,300)),IF(T66>99,(CEILING(T66,50)),IF(T66>49,(CEILING(T66,30)),IF(T66>9,(CEILING(T66,5)),IF(T66<=0,0,T66))))))) -> 0 | W66: =U66-V66 -> 0 | X66: #N/A | Z66: 0
C67: 103100056 | D67: ATORVASTATINA 20 mg TABLETA | E67: UNIDAD | F67: 0 | G67: 0 | H67: 0 | I67: 0 | J67: 0 | K67: 0 | L67: =AVERAGE(F67:K67,) -> 0 | M67: 0 | N67: =M67-L67 -> 0 | O67: =L67/2 -> 0 | P67: =+L67*(0.0333333333333333)*$E$16 -> 0 | Q67: =+P67+((L67/30)*$E$16) -> 0 | R67: =IF(L67=0,"",IF(M67-Q67<=0,"*","")) | S67: =+P67+((L67/30)*$E$17) -> 0 | T67: =+(S67-P67)+(Q67-M67) -> 0 | U67: =IF(T67>8999,(CEILING(T67,1000)),IF(T67>4999,(CEILING(T67,500)),IF(T67>899,(CEILING(T67,300)),IF(T67>99,(CEILING(T67,50)),IF(T67>49,(CEILING(T67,30)),IF(T67>9,(CEILING(T67,5)),IF(T67<=0,0,T67))))))) -> 0 | W67: =U67-V67 -> 0 | X67: #N/A | Z67: 0
C68: 103100057 | D68: ATROPINA 1% AMPOLLA | E68: UNIDAD | F68: 0 | G68: 0 | H68: 0 | I68: 0 | J68: 0 | K68: 0 | L68: =AVERAGE(F68:K68,) -> 0 | M68: 0 | N68: =M68-L68 -> 0 | O68: =L68/2 -> 0 | P68: =+L68*(0.0333333333333333)*$E$16 -> 0 | Q68: =+P68+((L68/30)*$E$16) -> 0 | R68: =IF(L68=0,"",IF(M68-Q68<=0,"*","")) | S68: =+P68+((L68/30)*$E$17) -> 0 | T68: =+(S68-P68)+(Q68-M68) -> 0 | U68: =IF(T68>8999,(CEILING(T68,1000)),IF(T68>4999,(CEILING(T68,500)),IF(T68>899,(CEILING(T68,300)),IF(T68>99,(CEILING(T68,50)),IF(T68>49,(CEILING(T68,30)),IF(T68>9,(CEILING(T68,5)),IF(T68<=0,0,T68))))))) -> 0 | W68: =U68-V68 -> 0 | X68: SYD COLOMBIA S.A | Z68: 0
C69: 103100059 | D69: AZATIOPRINA 50 mg TABLETA | E69: UNIDAD | F69: 180 | G69: 0 | H69: 0 | I69: 90 | J69: 30 | K69: 0 | L69: =AVERAGE(F69:K69,) -> 42.857143 | M69: 340 | N69: 1 | O69: =L69/2 -> 21.428571 | P69: =+L69*(0.0333333333333333)*$E$16 -> 11.428571 | Q69: =+P69+((L69/30)*$E$16) -> 22.857143 | R69: =IF(L69=0,"",IF(M69-Q69<=0,"*","")) | S69: =+P69+((L69/30)*$E$17) -> 61.428571 | T69: =+(S69-P69)+(Q69-M69) -> -267.14286 | U69: =IF(T69>8999,(CEILING(T69,1000)),IF(T69>4999,(CEILING(T69,500)),IF(T69>899,(CEILING(T69,300)),IF(T69>99,(CEILING(T69,50)),IF(T69>49,(CEILING(T69,30)),IF(T69>9,(CEILING(T69,5)),IF(T69<=0,0,T69))))))) -> 0 | W69: =U69-V69 -> 0 | X69: DISMERQ SAS | Z69: 100
C70: 103100060 | D70: AZITROMICINA 200 MG/5ML FRASCO X 15 ML | E70: SUSPENSIÓN ORAL | F70: 0 | G70: 0 | H70: 0 | I70: 0 | J70: 0 | K70: 0 | L70: =AVERAGE(F70:K70,) -> 0 | M70: 0 | N70: =M70-L70 -> 0 | O70: =L70/2 -> 0 | P70: =+L70*(0.0333333333333333)*$E$16 -> 0 | Q70: =+P70+((L70/30)*$E$16) -> 0 | R70: =IF(L70=0,"",IF(M70-Q70<=0,"*","")) | S70: =+P70+((L70/30)*$E$17) -> 0 | T70: =+(S70-P70)+(Q70-M70) -> 0 | U70: =IF(T70>8999,(CEILING(T70,1000)),IF(T70>4999,(CEILING(T70,500)),IF(T70>899,(CEILING(T70,300)),IF(T70>99,(CEILING(T70,50)),IF(T70>49,(CEILING(T70,30)),IF(T70>9,(CEILING(T70,5)),IF(T70<=0,0,T70))))))) -> 0 | W70: =U70-V70 -> 0 | X70: comercializadora mediflash | Z70: 0
C71: 103100061 | D71: AZITROMICINA 500 mg TABLETA | E71: UNIDAD | F71: 0 | G71: 0 | H71: 0 | I71: 0 | J71: 0 | K71: 0 | L71: =AVERAGE(F71:K71,) -> 0 | M71: 0 | N71: =M71-L71 -> 0 | O71: =L71/2 -> 0 | P71: =+L71*(0.0333333333333333)*$E$16 -> 0 | Q71: =+P71+((L71/30)*$E$16) -> 0 | R71: =IF(L71=0,"",IF(M71-Q71<=0,"*","")) | S71: =+P71+((L71/30)*$E$17) -> 0 | T71: =+(S71-P71)+(Q71-M71) -> 0 | U71: =IF(T71>8999,(CEILING(T71,1000)),IF(T71>4999,(CEILING(T71,500)),IF(T71>899,(CEILING(T71,300)),IF(T71>99,(CEILING(T71,50)),IF(T71>49,(CEILING(T71,30)),IF(T71>9,(CEILING(T71,5)),IF(T71<=0,0,T71))))))) -> 0 | W71: =U71-V71 -> 0 | X71: comercializadora mediflash | Z71: 0
C72: 103100536 | D72: BECLOMETASONA 250 mcg/dosis INHALADOR | E72: FRASCO | F72: 0 | G72: 0 | H72: 0 | I72: 0 | J72: 0 | K72: 0 | L72: =AVERAGE(F72:K72,) -> 0 | M72: 0 | N72: =M72-L72 -> 0 | O72: =L72/2 -> 0 | P72: =+L72*(0.0333333333333333)*$E$16 -> 0 | Q72: =+P72+((L72/30)*$E$16) -> 0 | R72: =IF(L72=0,"",IF(M72-Q72<=0,"*","")) | S72: =+P72+((L72/30)*$E$17) -> 0 | T72: =+(S72-P72)+(Q72-M72) -> 0 | U72: =IF(T72>8999,(CEILING(T72,1000)),IF(T72>4999,(CEILING(T72,500)),IF(T72>899,(CEILING(T72,300)),IF(T72>99,(CEILING(T72,50)),IF(T72>49,(CEILING(T72,30)),IF(T72>9,(CEILING(T72,5)),IF(T72<=0,0,T72))))))) -> 0 | W72: =U72-V72 -> 0 | X72: comercializadora mediflash | Z72: 0
C73: 103100062 | D73: BECLOMETASONA 50 mcg INHALADOR | E73: FRASCO | F73: 6 | G73: 6 | H73: 6 | I73: 5 | J73: 6 | K73: 6 | L73: =AVERAGE(F73:K73,) -> 5 | M73: 9 | N73: =M73-L73 -> 4 | O73: =L73/2 -> 2.5 | P73: =+L73*(0.0333333333333333)*$E$16 -> 1.3333333 | Q73: =+P73+((L73/30)*$E$16) -> 2.6666667 | R73: =IF(L73=0,"",IF(M73-Q73<=0,"*","")) | S73: =+P73+((L73/30)*$E$17) -> 7.1666667 | T73: =+(S73-P73)+(Q73-M73) -> -0.5 | U73: 5 | W73: =U73-V73 -> 5 | X73: comercializadora mediflash | Z73: 0
C74: 103100063 | D74: BECLOMETASONA 50 mcg NASAL (AEROSOL) | E74: FRASCO | F74: 13 | G74: 3 | H74: 6 | I74: 14 | J74: 9 | K74: 14 | L74: =AVERAGE(F74:K74,) -> 8.4285714 | M74: 15 | N74: =M74-L74 -> 6.5714286 | O74: =L74/2 -> 4.2142857 | P74: =+L74*(0.0333333333333333)*$E$16 -> 2.247619 | Q74: =+P74+((L74/30)*$E$16) -> 4.4952381 | R74: =IF(L74=0,"",IF(M74-Q74<=0,"*","")) | S74: =+P74+((L74/30)*$E$17) -> 12.080952 | T74: =+(S74-P74)+(Q74-M74) -> -0.67142857 | U74: 10 | W74: =U74-V74 -> 10 | X74: DISMERQ SAS | Z74: 0
C75: 103100064 | D75: BENZOATO DE BENCILO 25% LOCIÓN | E75: FRASCO | F75: 2 | G75: 2 | H75: 1 | I75: 1 | J75: 1 | K75: 4 | L75: =AVERAGE(F75:K75,) -> 1.5714286 | M75: 3 | N75: =M75-L75 -> 1.4285714 | O75: =L75/2 -> 0.78571429 | P75: =+L75*(0.0333333333333333)*$E$16 -> 0.41904762 | Q75: =+P75+((L75/30)*$E$16) -> 0.83809524 | R75: =IF(L75=0,"",IF(M75-Q75<=0,"*","")) | S75: =+P75+((L75/30)*$E$17) -> 2.252381 | T75: =+(S75-P75)+(Q75-M75) -> -0.32857143 | U75: 3 | W75: =U75-V75 -> 3 | X75: comercializadora mediflash | Z75: 3
C76: 103100068 | D76: BETAMETASONA DIPROPIONATO 0.05% CREMA x 20 gr | E76: TUBO X 20 g | F76: 8 | G76: 15 | H76: 11 | I76: 8 | J76: 3 | K76: 14 | L76: =AVERAGE(F76:K76,) -> 8.4285714 | M76: 9 | N76: =M76-L76 -> 0.57142857 | O76: =L76/2 -> 4.2142857 | P76: =+L76*(0.0333333333333333)*$E$16 -> 2.247619 | Q76: =+P76+((L76/30)*$E$16) -> 4.4952381 | R76: =IF(L76=0,"",IF(M76-Q76<=0,"*","")) | S76: =+P76+((L76/30)*$E$17) -> 12.080952 | T76: =+(S76-P76)+(Q76-M76) -> 5.3285714 | U76: 15 | W76: =U76-V76 -> 15 | X76: DISMERQ SAS | Z76: 20
C77: 103100069 | D77: BETAMETASONA DIPROPIONATO 0.05% CREMA x 40 gr | E77: TUBO X 40 g | F77: 39 | G77: 23 | H77: 27 | I77: 22 | J77: 26 | K77: 26 | L77: =AVERAGE(F77:K77,) -> 23.285714 | M77: 39 | N77: 0 | O77: =L77/2 -> 11.642857 | P77: =+L77*(0.0333333333333333)*$E$16 -> 6.2095238 | Q77: =+P77+((L77/30)*$E$16) -> 12.419048 | R77: =IF(L77=0,"",IF(M77-Q77<=0,"*","")) | S77: =+P77+((L77/30)*$E$17) -> 33.37619 | T77: =+(S77-P77)+(Q77-M77) -> 0.58571429 | U77: 10 | W77: 0 | X77: SYD COLOMBIA S.A | Z77: 30
C78: 103100070 | D78: BETAMETASONA FOSFATO + ACETATO 3+3 mg/ml AMPOLLA | E78: UNIDAD | F78: 0 | G78: 0 | H78: 0 | I78: 0 | J78: 0 | K78: 0 | L78: =AVERAGE(F78:K78,) -> 0 | M78: 0 | N78: =M78-L78 -> 0 | O78: =L78/2 -> 0 | P78: =+L78*(0.0333333333333333)*$E$16 -> 0 | Q78: =+P78+((L78/30)*$E$16) -> 0 | R78: =IF(L78=0,"",IF(M78-Q78<=0,"*","")) | S78: =+P78+((L78/30)*$E$17) -> 0 | T78: =+(S78-P78)+(Q78-M78) -> 0 | U78: =IF(T78>8999,(CEILING(T78,1000)),IF(T78>4999,(CEILING(T78,500)),IF(T78>899,(CEILING(T78,300)),IF(T78>99,(CEILING(T78,50)),IF(T78>49,(CEILING(T78,30)),IF(T78>9,(CEILING(T78,5)),IF(T78<=0,0,T78))))))) -> 0 | W78: =U78-V78 -> 0 | X78: #N/A | Z78: 0
C79: 103100071 | D79: BETAMETASONA FOSFATO SÓDICO 4mg/ml AMPOLLA | E79: UNIDAD | F79: 0 | G79: 0 | H79: 0 | I79: 0 | J79: 0 | K79: 0 | L79: =AVERAGE(F79:K79,) -> 0 | M79: 0 | N79: =M79-L79 -> 0 | O79: =L79/2 -> 0 | P79: =+L79*(0.0333333333333333)*$E$16 -> 0 | Q79: =+P79+((L79/30)*$E$16) -> 0 | R79: =IF(L79=0,"",IF(M79-Q79<=0,"*","")) | S79: =+P79+((L79/30)*$E$17) -> 0 | T79: =+(S79-P79)+(Q79-M79) -> 0 | U79: =IF(T79>8999,(CEILING(T79,1000)),IF(T79>4999,(CEILING(T79,500)),IF(T79>899,(CEILING(T79,300)),IF(T79>99,(CEILING(T79,50)),IF(T79>49,(CEILING(T79,30)),IF(T79>9,(CEILING(T79,5)),IF(T79<=0,0,T79))))))) -> 0 | W79: =U79-V79 -> 0 | X79: comercializadora mediflash | Z79: 0
C80: 103100072 | D80: BETAMETILDIGOXINA 0.02 mg AMPOLLA | E80: UNIDAD | F80: 0 | G80: 0 | H80: 0 | I80: 0 | J80: 0 | K80: 0 | L80: =AVERAGE(F80:K80,) -> 0 | M80: 0 | N80: =M80-L80 -> 0 | O80: =L80/2 -> 0 | P80: =+L80*(0.0333333333333333)*$E$16 -> 0 | Q80: =+P80+((L80/30)*$E$16) -> 0 | R80: =IF(L80=0,"",IF(M80-Q80<=0,"*","")) | S80: =+P80+((L80/30)*$E$17) -> 0 | T80: =+(S80-P80)+(Q80-M80) -> 0 | U80: =IF(T80>8999,(CEILING(T80,1000)),IF(T80>4999,(CEILING(T80,500)),IF(T80>899,(CEILING(T80,300)),IF(T80>99,(CEILING(T80,50)),IF(T80>49,(CEILING(T80,30)),IF(T80>9,(CEILING(T80,5)),IF(T80<=0,0,T80))))))) -> 0 | W80: =U80-V80 -> 0 | X80: comercializadora mediflash | Z80: 0
C81: 103100075 | D81: BICARBONATO DE SODIO 10mEg /10ml AMPOLLA | E81: UNIDAD | F81: 0 | G81: 0 | H81: 0 | I81: 0 | J81: 0 | K81: 0 | L81: =AVERAGE(F81:K81,) -> 0 | M81: 0 | N81: =M81-L81 -> 0 | O81: =L81/2 -> 0 | P81: =+L81*(0.0333333333333333)*$E$16 -> 0 | Q81: =+P81+((L81/30)*$E$16) -> 0 | R81: =IF(L81=0,"",IF(M81-Q81<=0,"*","")) | S81: =+P81+((L81/30)*$E$17) -> 0 | T81: =+(S81-P81)+(Q81-M81) -> 0 | U81: =IF(T81>8999,(CEILING(T81,1000)),IF(T81>4999,(CEILING(T81,500)),IF(T81>899,(CEILING(T81,300)),IF(T81>99,(CEILING(T81,50)),IF(T81>49,(CEILING(T81,30)),IF(T81>9,(CEILING(T81,5)),IF(T81<=0,0,T81))))))) -> 0 | W81: =U81-V81 -> 0 | X81: SYD COLOMBIA S.A | Z81: 0
C82: 103100076 | D82: BIPERIDENO CLORHIDRATO 2 mg TABLETA | E82: UNIDAD | F82: 0 | G82: 0 | H82: 0 | I82: 0 | J82: 0 | K82: 0 | L82: =AVERAGE(F82:K82,) -> 0 | M82: 300 | N82: =M82-L82 -> 300 | O82: =L82/2 -> 0 | P82: =+L82*(0.0333333333333333)*$E$16 -> 0 | Q82: =+P82+((L82/30)*$E$16) -> 0 | R82: =IF(L82=0,"",IF(M82-Q82<=0,"*","")) | S82: =+P82+((L82/30)*$E$17) -> 0 | T82: =+(S82-P82)+(Q82-M82) -> -300 | U82: =IF(T82>8999,(CEILING(T82,1000)),IF(T82>4999,(CEILING(T82,500)),IF(T82>899,(CEILING(T82,300)),IF(T82>99,(CEILING(T82,50)),IF(T82>49,(CEILING(T82,30)),IF(T82>9,(CEILING(T82,5)),IF(T82<=0,0,T82))))))) -> 0 | W82: =U82-V82 -> 0 | X82: SYD COLOMBIA S.A | Z82: 0
C83: 103100077 | D83: BISACODILO 5mg TABLETA | E83: UNIDAD | F83: 750 | G83: 818 | H83: 703 | I83: 680 | J83: 415 | K83: 1100 | L83: =AVERAGE(F83:K83,) -> 638 | M83: 885 | N83: =M83-L83 -> 247 | O83: =L83/2 -> 319 | P83: =+L83*(0.0333333333333333)*$E$16 -> 170.13333 | Q83: =+P83+((L83/30)*$E$16) -> 340.26667 | R83: =IF(L83=0,"",IF(M83-Q83<=0,"*","")) | S83: =+P83+((L83/30)*$E$17) -> 914.46667 | T83: =+(S83-P83)+(Q83-M83) -> 199.6 | U83: 600 | W83: =U83-V83 -> 600 | X83: DISMERQ SAS | Z83: 600
C84: 103100081 | D84: BROMURO DE IPRATROPIO 0.02 mg INHALADOR | E84: FCO X 200 DOSIS | F84: 95 | G84: 83 | H84: 89 | I84: 79 | J84: 87 | K84: 89 | L84: =AVERAGE(F84:K84,) -> 74.571429 | M84: 161 | N84: =M84-L84 -> 86.428571 | O84: =L84/2 -> 37.285714 | P84: =+L84*(0.0333333333333333)*$E$16 -> 19.885714 | Q84: =+P84+((L84/30)*$E$16) -> 39.771429 | R84: =IF(L84=0,"",IF(M84-Q84<=0,"*","")) | S84: =+P84+((L84/30)*$E$17) -> 106.88571 | T84: =+(S84-P84)+(Q84-M84) -> -34.228571 | U84: 30 | W84: =U84-V84 -> 30 | X84: CLINICAL PHARMA SAS | Z84: 0
C85: 103100082 | D85: BROMURO DE IPRATROPIO 0.025% GOTAS | E85: FRASCO | F85: 0 | G85: 0 | H85: 0 | I85: 0 | J85: 0 | K85: 0 | L85: =AVERAGE(F85:K85,) -> 0 | M85: 0 | N85: =M85-L85 -> 0 | O85: =L85/2 -> 0 | P85: =+L85*(0.0333333333333333)*$E$16 -> 0 | Q85: =+P85+((L85/30)*$E$16) -> 0 | R85: =IF(L85=0,"",IF(M85-Q85<=0,"*","")) | S85: =+P85+((L85/30)*$E$17) -> 0 | T85: =+(S85-P85)+(Q85-M85) -> 0 | U85: =IF(T85>8999,(CEILING(T85,1000)),IF(T85>4999,(CEILING(T85,500)),IF(T85>899,(CEILING(T85,300)),IF(T85>99,(CEILING(T85,50)),IF(T85>49,(CEILING(T85,30)),IF(T85>9,(CEILING(T85,5)),IF(T85<=0,0,T85))))))) -> 0 | W85: =U85-V85 -> 0 | X85: #N/A | Z85: 0
C86: 103100088 | D86: CALCIO + VIT D 1550mg-200 u.i TABLETA | E86: UNIDAD | F86: 2880 | G86: 2460 | H86: 2730 | I86: 2610 | J86: 2620 | K86: 3190 | L86: =AVERAGE(F86:K86,) -> 2355.7143 | M86: 2990 | N86: =M86-L86 -> 634.28571 | O86: =L86/2 -> 1177.8571 | P86: =+L86*(0.0333333333333333)*$E$16 -> 628.19048 | Q86: =+P86+((L86/30)*$E$16) -> 1256.381 | R86: =IF(L86=0,"",IF(M86-Q86<=0,"*","")) | S86: =+P86+((L86/30)*$E$17) -> 3376.5238 | T86: =+(S86-P86)+(Q86-M86) -> 1014.7143 | U86: 2000 | W86: =U86-V86 -> 2000 | X86: SYD COLOMBIA S.A | Z86: 0
C87: 103100089 | D87: CALCIO GLUCONATO 10% AMPOLLA | E87: UNIDAD | F87: 0 | G87: 0 | H87: 0 | I87: 0 | J87: 0 | K87: 0 | L87: =AVERAGE(F87:K87,) -> 0 | M87: 0 | N87: =M87-L87 -> 0 | O87: =L87/2 -> 0 | P87: =+L87*(0.0333333333333333)*$E$16 -> 0 | Q87: =+P87+((L87/30)*$E$16) -> 0 | R87: =IF(L87=0,"",IF(M87-Q87<=0,"*","")) | S87: =+P87+((L87/30)*$E$17) -> 0 | T87: =+(S87-P87)+(Q87-M87) -> 0 | U87: =IF(T87>8999,(CEILING(T87,1000)),IF(T87>4999,(CEILING(T87,500)),IF(T87>899,(CEILING(T87,300)),IF(T87>99,(CEILING(T87,50)),IF(T87>49,(CEILING(T87,30)),IF(T87>9,(CEILING(T87,5)),IF(T87<=0,0,T87))))))) -> 0 | W87: =U87-V87 -> 0 | X87: SYD COLOMBIA S.A | Z87: 0
C88: 103100090 | D88: CALCITRIOL 0.25 mg CAPSULA | E88: UNIDAD | F88: 315 | G88: 260 | H88: 295 | I88: 410 | J88: 260 | K88: 180 | L88: =AVERAGE(F88:K88,) -> 245.71429 | M88: 514 | N88: =M88-L88 -> 268.28571 | O88: =L88/2 -> 122.85714 | P88: =+L88*(0.0333333333333333)*$E$16 -> 65.52381 | Q88: =+P88+((L88/30)*$E$16) -> 131.04762 | R88: =IF(L88=0,"",IF(M88-Q88<=0,"*","")) | S88: =+P88+((L88/30)*$E$17) -> 352.19048 | T88: =+(S88-P88)+(Q88-M88) -> -96.285714 | U88: =IF(T88>8999,(CEILING(T88,1000)),IF(T88>4999,(CEILING(T88,500)),IF(T88>899,(CEILING(T88,300)),IF(T88>99,(CEILING(T88,50)),IF(T88>49,(CEILING(T88,30)),IF(T88>9,(CEILING(T88,5)),IF(T88<=0,0,T88))))))) -> 0 | W88: =U88-V88 -> 0 | X88: DISMERQ SAS | Z88: 210
C89: 103100091 | D89: CALCITRIOL 0.5 MCG CAPSULAS | E89: UNIDAD | F89: 120 | G89: 90 | H89: 180 | I89: 210 | J89: 180 | K89: 180 | L89: =AVERAGE(F89:K89,) -> 137.14286 | M89: 300 | N89: =M89-L89 -> 162.85714 | O89: =L89/2 -> 68.571429 | P89: =+L89*(0.0333333333333333)*$E$16 -> 36.571429 | Q89: =+P89+((L89/30)*$E$16) -> 73.142857 | R89: =IF(L89=0,"",IF(M89-Q89<=0,"*","")) | S89: =+P89+((L89/30)*$E$17) -> 196.57143 | T89: =+(S89-P89)+(Q89-M89) -> -66.857143 | U89: 90 | W89: =U89-V89 -> 90 | X89: DISMERQ SAS | Z89: 60
C90: 103100092 | D90: CAPTOPRIL 25 mg TABLETA | E90: UNIDAD | F90: 330 | G90: 210 | H90: 210 | I90: 90 | J90: 210 | K90: 330 | L90: =AVERAGE(F90:K90,) -> 197.14286 | M90: 240 | N90: =M90-L90 -> 42.857143 | O90: =L90/2 -> 98.571429 | P90: =+L90*(0.0333333333333333)*$E$16 -> 52.571429 | Q90: =+P90+((L90/30)*$E$16) -> 105.14286 | R90: =IF(L90=0,"",IF(M90-Q90<=0,"*","")) | S90: =+P90+((L90/30)*$E$17) -> 282.57143 | T90: =+(S90-P90)+(Q90-M90) -> 95.142857 | U90: 200 | W90: =U90-V90 -> 200 | X90: DISMERQ SAS | Z90: 180
C91: 103100093 | D91: CAPTOPRIL 50 mg TABLETA | E91: UNIDAD | F91: 180 | G91: 210 | H91: 210 | I91: 180 | J91: 180 | K91: 180 | L91: =AVERAGE(F91:K91,) -> 162.85714 | M91: 405 | N91: =M91-L91 -> 242.14286 | O91: =L91/2 -> 81.428571 | P91: =+L91*(0.0333333333333333)*$E$16 -> 43.428571 | Q91: =+P91+((L91/30)*$E$16) -> 86.857143 | R91: =IF(L91=0,"",IF(M91-Q91<=0,"*","")) | S91: =+P91+((L91/30)*$E$17) -> 233.42857 | T91: =+(S91-P91)+(Q91-M91) -> -128.14286 | U91: =IF(T91>8999,(CEILING(T91,1000)),IF(T91>4999,(CEILING(T91,500)),IF(T91>899,(CEILING(T91,300)),IF(T91>99,(CEILING(T91,50)),IF(T91>49,(CEILING(T91,30)),IF(T91>9,(CEILING(T91,5)),IF(T91<=0,0,T91))))))) -> 0 | W91: =U91-V91 -> 0 | X91: CLINICAL PHARMA SAS | Z91: 0
C92: 103100094 | D92: CARBAMAZEPINA 100mg/5ml SUSPENSIÓN ORAL | E92: FCO X 120 ML | F92: 3 | G92: 3 | H92: 3 | I92: 3 | J92: 0 | K92: 0 | L92: =AVERAGE(F92:K92,) -> 1.7142857 | M92: 9 | N92: =M92-L92 -> 7.2857143 | O92: =L92/2 -> 0.85714286 | P92: =+L92*(0.0333333333333333)*$E$16 -> 0.45714286 | Q92: =+P92+((L92/30)*$E$16) -> 0.91428571 | R92: =IF(L92=0,"",IF(M92-Q92<=0,"*","")) | S92: =+P92+((L92/30)*$E$17) -> 2.4571429 | T92: =+(S92-P92)+(Q92-M92) -> -6.0857143 | U92: =IF(T92>8999,(CEILING(T92,1000)),IF(T92>4999,(CEILING(T92,500)),IF(T92>899,(CEILING(T92,300)),IF(T92>99,(CEILING(T92,50)),IF(T92>49,(CEILING(T92,30)),IF(T92>9,(CEILING(T92,5)),IF(T92<=0,0,T92))))))) -> 0 | W92: =U92-V92 -> 0 | X92: comercializadora mediflash | Z92: 4
C93: 103100095 | D93: CARBAMAZEPINA 200 mg TABLETA | E93: UNIDAD | F93: 2732 | G93: 2100 | H93: 2100 | I93: 1208 | J93: 2048 | K93: 2720 | L93: =AVERAGE(F93:K93,) -> 1844 | M93: 3213 | N93: =M93-L93 -> 1369 | O93: =L93/2 -> 922 | P93: =+L93*(0.0333333333333333)*$E$16 -> 491.73333 | Q93: =+P93+((L93/30)*$E$16) -> 983.46667 | R93: =IF(L93=0,"",IF(M93-Q93<=0,"*","")) | S93: =+P93+((L93/30)*$E$17) -> 2643.0667 | T93: =+(S93-P93)+(Q93-M93) -> -78.2 | U93: 1500 | W93: =U93-V93 -> 1500 | X93: SYD COLOMBIA S.A | Z93: 900
C94: 103100096 | D94: CARBON ACTIVADO POLVO x 500 g | E94: SOBRE | F94: 0 | G94: 0 | H94: 0 | I94: 0 | J94: 0 | K94: 0 | L94: =AVERAGE(F94:K94,) -> 0 | M94: 0 | N94: =M94-L94 -> 0 | O94: =L94/2 -> 0 | P94: =+L94*(0.0333333333333333)*$E$16 -> 0 | Q94: =+P94+((L94/30)*$E$16) -> 0 | R94: =IF(L94=0,"",IF(M94-Q94<=0,"*","")) | S94: =+P94+((L94/30)*$E$17) -> 0 | T94: =+(S94-P94)+(Q94-M94) -> 0 | U94: =IF(T94>8999,(CEILING(T94,1000)),IF(T94>4999,(CEILING(T94,500)),IF(T94>899,(CEILING(T94,300)),IF(T94>99,(CEILING(T94,50)),IF(T94>49,(CEILING(T94,30)),IF(T94>9,(CEILING(T94,5)),IF(T94<=0,0,T94))))))) -> 0 | W94: =U94-V94 -> 0 | X94: comercializadora mediflash | Z94: 0
C95: 103100097 | D95: CARBONATO DE CALCIO 600 mg TABLETA | E95: UNIDAD | F95: 4240 | G95: 3130 | H95: 3910 | I95: 3790 | J95: 3070 | K95: 4490 | L95: =AVERAGE(F95:K95,) -> 3232.8571 | M95: 2607 | N95: =M95-L95 -> -625.85714 | O95: =L95/2 -> 1616.4286 | P95: =+L95*(0.0333333333333333)*$E$16 -> 862.09524 | Q95: =+P95+((L95/30)*$E$16) -> 1724.1905 | R95: =IF(L95=0,"",IF(M95-Q95<=0,"*","")) | S95: =+P95+((L95/30)*$E$17) -> 4633.7619 | T95: =+(S95-P95)+(Q95-M95) -> 2888.8571 | U95: 4000 | W95: =U95-V95 -> 4000 | X95: CLINICAL PHARMA SAS | Z95: 0
C96: 103100098 | D96: CEFALEXINA 500 mg TABLETA | E96: UNIDAD | F96: 234 | G96: 414 | H96: 477 | I96: 492 | J96: 458 | K96: 318 | L96: =AVERAGE(F96:K96,) -> 341.85714 | M96: 1091 | N96: =M96-L96 -> 749.14286 | O96: =L96/2 -> 170.92857 | P96: =+L96*(0.0333333333333333)*$E$16 -> 91.161905 | Q96: =+P96+((L96/30)*$E$16) -> 182.32381 | R96: =IF(L96=0,"",IF(M96-Q96<=0,"*","")) | S96: =+P96+((L96/30)*$E$17) -> 489.99524 | T96: =+(S96-P96)+(Q96-M96) -> -509.84286 | U96: =IF(T96>8999,(CEILING(T96,1000)),IF(T96>4999,(CEILING(T96,500)),IF(T96>899,(CEILING(T96,300)),IF(T96>99,(CEILING(T96,50)),IF(T96>49,(CEILING(T96,30)),IF(T96>9,(CEILING(T96,5)),IF(T96<=0,0,T96))))))) -> 0 | W96: =U96-V96 -> 0 | X96: DISMERQ SAS | Z96: 0
C97: 103100099 | D97: CEFALEXINA 250 mg/5ml SUSPENSIÓN ORAL | E97: FCO X 60 ML | F97: 2 | G97: 0 | H97: 0 | I97: 0 | J97: 0 | K97: 5 | L97: =AVERAGE(F97:K97,) -> 1 | M97: 16 | N97: =M97-L97 -> 15 | O97: =L97/2 -> 0.5 | P97: =+L97*(0.0333333333333333)*$E$16 -> 0.26666667 | Q97: =+P97+((L97/30)*$E$16) -> 0.53333333 | R97: =IF(L97=0,"",IF(M97-Q97<=0,"*","")) | S97: =+P97+((L97/30)*$E$17) -> 1.4333333 | T97: =+(S97-P97)+(Q97-M97) -> -14.3 | U97: =IF(T97>8999,(CEILING(T97,1000)),IF(T97>4999,(CEILING(T97,500)),IF(T97>899,(CEILING(T97,300)),IF(T97>99,(CEILING(T97,50)),IF(T97>49,(CEILING(T97,30)),IF(T97>9,(CEILING(T97,5)),IF(T97<=0,0,T97))))))) -> 0 | W97: =U97-V97 -> 0 | X97: DISMERQ SAS | Z97: 6
C98: 103100100 | D98: CEFALOTINA 1 gr AMPOLLA | E98: UNIDAD | F98: 0 | G98: 0 | H98: 0 | I98: 0 | J98: 0 | K98: 0 | L98: =AVERAGE(F98:K98,) -> 0 | M98: 0 | N98: =M98-L98 -> 0 | O98: =L98/2 -> 0 | P98: =+L98*(0.0333333333333333)*$E$16 -> 0 | Q98: =+P98+((L98/30)*$E$16) -> 0 | R98: =IF(L98=0,"",IF(M98-Q98<=0,"*","")) | S98: =+P98+((L98/30)*$E$17) -> 0 | T98: =+(S98-P98)+(Q98-M98) -> 0 | U98: =IF(T98>8999,(CEILING(T98,1000)),IF(T98>4999,(CEILING(T98,500)),IF(T98>899,(CEILING(T98,300)),IF(T98>99,(CEILING(T98,50)),IF(T98>49,(CEILING(T98,30)),IF(T98>9,(CEILING(T98,5)),IF(T98<=0,0,T98))))))) -> 0 | W98: =U98-V98 -> 0 | X98: comercializadora mediflash | Z98: 0
C99: 103100103 | D99: CEFRADINA 500 mg TABLETA | E99: UNIDAD | F99: 0 | G99: 0 | H99: 56 | I99: 56 | J99: 0 | K99: 0 | L99: =AVERAGE(F99:K99,) -> 16 | M99: 0 | N99: 0 | O99: =L99/2 -> 8 | P99: =+L99*(0.0333333333333333)*$E$16 -> 4.2666667 | Q99: =+P99+((L99/30)*$E$16) -> 8.5333333 | R99: =IF(L99=0,"",IF(M99-Q99<=0,"*","")) -> * | S99: =+P99+((L99/30)*$E$17) -> 22.933333 | T99: =+(S99-P99)+(Q99-M99) -> 27.2 | U99: 0 | W99: =U99-V99 -> 0 | X99: CLINICAL PHARMA SAS | Z99: 0
C100: 103100104 | D100: CEFTRIAXONA 1 gr AMPOLLA | E100: UNIDAD | F100: 0 | G100: 0 | H100: 0 | I100: 0 | J100: 0 | K100: 0 | L100: =AVERAGE(F100:K100,) -> 0 | M100: 0 | N100: 6 | O100: =L100/2 -> 0 | P100: =+L100*(0.0333333333333333)*$E$16 -> 0 | Q100: =+P100+((L100/30)*$E$16) -> 0 | R100: =IF(L100=0,"",IF(M100-Q100<=0,"*","")) | S100: =+P100+((L100/30)*$E$17) -> 0 | T100: =+(S100-P100)+(Q100-M100) -> 0 | U100: =IF(T100>8999,(CEILING(T100,1000)),IF(T100>4999,(CEILING(T100,500)),IF(T100>899,(CEILING(T100,300)),IF(T100>99,(CEILING(T100,50)),IF(T100>49,(CEILING(T100,30)),IF(T100>9,(CEILING(T100,5)),IF(T100<=0,0,T100))))))) -> 0 | W100: =U100-V100 -> 0 | X100: DISMERQ SAS | Z100: 0
C101: 103100107 | D101: CIPROFLOXACINA 100mg/10ml AMPOLLA | E101: UNIDAD | F101: 0 | G101: 0 | H101: 0 | I101: 0 | J101: 0 | K101: 0 | L101: =AVERAGE(F101:K101,) -> 0 | M101: 0 | N101: =M101-L101 -> 0 | O101: =L101/2 -> 0 | P101: =+L101*(0.0333333333333333)*$E$16 -> 0 | Q101: =+P101+((L101/30)*$E$16) -> 0 | R101: =IF(L101=0,"",IF(M101-Q101<=0,"*","")) | S101: =+P101+((L101/30)*$E$17) -> 0 | T101: =+(S101-P101)+(Q101-M101) -> 0 | U101: =IF(T101>8999,(CEILING(T101,1000)),IF(T101>4999,(CEILING(T101,500)),IF(T101>899,(CEILING(T101,300)),IF(T101>99,(CEILING(T101,50)),IF(T101>49,(CEILING(T101,30)),IF(T101>9,(CEILING(T101,5)),IF(T101<=0,0,T101))))))) -> 0 | W101: =U101-V101 -> 0 | X101: DISMERQ SAS | Z101: 0
C102: 103100108 | D102: CIPROFLOXACINA 500 mg TABLETA | E102: UNIDAD | F102: 174 | G102: 155 | H102: 147 | I102: 134 | J102: 112 | K102: 389 | L102: =AVERAGE(F102:K102,) -> 158.71429 | M102: 147 | N102: =M102-L102 -> -11.714286 | O102: =L102/2 -> 79.357143 | P102: =+L102*(0.0333333333333333)*$E$16 -> 42.32381 | Q102: =+P102+((L102/30)*$E$16) -> 84.647619 | R102: =IF(L102=0,"",IF(M102-Q102<=0,"*","")) | S102: =+P102+((L102/30)*$E$17) -> 227.49048 | T102: =+(S102-P102)+(Q102-M102) -> 122.81429 | U102: 600 | W102: =U102-V102 -> 600 | X102: DISMERQ SAS | Z102: 0
C103: 103100110 | D103: CLARITROMICINA 500 mg TABLETA | E103: UNIDAD | F103: 94 | G103: 140 | H103: 132 | I103: 84 | J103: 146 | K103: 202 | L103: =AVERAGE(F103:K103,) -> 114 | M103: 96 | N103: =M103-L103 -> -18 | O103: =L103/2 -> 57 | P103: =+L103*(0.0333333333333333)*$E$16 -> 30.4 | Q103: =+P103+((L103/30)*$E$16) -> 60.8 | R103: =IF(L103=0,"",IF(M103-Q103<=0,"*","")) | S103: =+P103+((L103/30)*$E$17) -> 163.4 | T103: =+(S103-P103)+(Q103-M103) -> 97.8 | U103: 200 | W103: =U103-V103 -> 200 | X103: comercializadora mediflash | Z103: 0
C104: 103100111 | D104: CLINDAMICINA 600 mg/4ml AMPOLLA | E104: UNIDAD | F104: 0 | G104: 0 | H104: 0 | I104: 0 | J104: 0 | K104: 0 | L104: =AVERAGE(F104:K104,) -> 0 | M104: 0 | N104: =M104-L104 -> 0 | O104: =L104/2 -> 0 | P104: =+L104*(0.0333333333333333)*$E$16 -> 0 | Q104: 300 | R104: =IF(L104=0,"",IF(M104-Q104<=0,"*","")) | S104: =+P104+((L104/30)*$E$17) -> 0 | T104: =+(S104-P104)+(Q104-M104) -> 300 | U104: 0 | W104: =U104-V104 -> 0 | X104: SYD COLOMBIA S.A | Z104: 0
...

Sheet PARIS
B1: EMPRESA SOCIAL DEL ESTADO
B2: BELLOSALUD
B3: MUNICIPIO DE BELLO
B4: Nit. 811.007.148-5
B5: Carrera 42 No 20E 91
B6: Tel: 465 01 10 - 448 20 30
B8: ORDEN DE COMPRA | D8: ORDEN DE COMPRA
E10: EMPRESA SOCIAL DEL ESTADO BELLOSALUD
E11: NECESIDAD DE MEDICAMENTOS SERVICIO FARMACEUTICO PARIS | T11: Versión: 02 | V11: Fecha: | W11: 46266
V12: Codigo: | W12: FA-F-006
T13: Elaborado por : Farmacia
B14: MES: | T14: AÑO:
B16: TIEMPO DE REPOSICIÓN (Tr): | E16: 8
B17: TIEMPO DE ADQUISICIÓN: | E17: 35
B18: TIEMPO DE ADQUISICIÓN: | E18: 35
B20: CODIGO DINAMICA | C20: CODIGO SAFIX | D20: ARTICULO | E20: U. MANEJO | F20: NOVIEMBRE | G20: DICIEMBRE | H20: ENERO | I20: FEBRERO | J20: MARZO | K20: ABRIL | L20: CONS.PROM. | M20: EXIST. | N20: SOBRA PARA DIC | O20: NmE | P20: PR. | Q20: Ctrl | R20: NME | S20: CAP | T20: CANT | U20: RECIBIDO | V20: PENDIENTE | W20: PROVEEDOR
C21: 103100535 | D21: ACETAMINOFEN 1.5% 150MG/60ML JARABE | E21: FCO X 60 ML | F21: 30 | G21: 16 | H21: 16 | I21: 21 | J21: 26 | K21: 25 | L21: =AVERAGE(F21:K21) -> 22.333333 | M21: 44 | N21: =M21-L21 -> 21.666667 | O21: =+L21*(0.0333333333333333)*$E$16 -> 5.9555556 | P21: =+O21+((L21/30)*$E$16) -> 11.911111 | Q21: =IF(L21=0,"",IF(M21-P21<=0,"*","")) | R21: =+O21+((L21/30)*$E$17) -> 32.011111 | S21: =+(R21-O21)+(P21-M21) -> -6.0333333 | T21: 10 | V21: =T21-U21 -> 10 | W21: SYD COLOMBIA S.A
C22: 103100001 | D22: ACETAMINOFEN 100 mg/ml SOLUCIÓN ORAL (GOTAS) | E22: FCO X 30 ML | F22: 0 | G22: 0 | H22: 0 | I22: 0 | J22: 0 | K22: 0 | L22: =AVERAGE(F22:K22) -> 0 | M22: 3 | N22: 2 | O22: =+L22*(0.0333333333333333)*$E$16 -> 0 | P22: =+O22+((L22/30)*$E$16) -> 0 | Q22: =IF(L22=0,"",IF(M22-P22<=0,"*","")) | R22: =+O22+((L22/30)*$E$17) -> 0 | S22: =+(R22-O22)+(P22-M22) -> -3 | T22: =IF(S22>8999,(CEILING(S22,1000)),IF(S22>4999,(CEILING(S22,500)),IF(S22>899,(CEILING(S22,300)),IF(S22>99,(CEILING(S22,50)),IF(S22>49,(CEILING(S22,30)),IF(S22>9,(CEILING(S22,5)),IF(S22<=0,0,S22))))))) -> 0 | V22: =T22-U22 -> 0 | W22: CLINICAL PHARMA SAS
C23: 103100002 | D23: ACETAMINOFEN 500 mg TABLETA | E23: UNIDAD | F23: 28665 | G23: 22942 | H23: 22632 | I23: 23120 | J23: 21885 | K23: 40344 | L23: =AVERAGE(F23:K23) -> 26598 | M23: 29071 | N23: =M23-L23 -> 2473 | O23: =+L23*(0.0333333333333333)*$E$16 -> 7092.8 | P23: =+O23+((L23/30)*$E$16) -> 14185.6 | Q23: =IF(L23=0,"",IF(M23-P23<=0,"*","")) | R23: =+O23+((L23/30)*$E$17) -> 38123.8 | S23: =+(R23-O23)+(P23-M23) -> 16145.6 | T23: 25000 | V23: =T23-U23 -> 25000 | W23: DISMERQ SAS
C24: 103100006 | D24: ACIDO ACETIL SALICILICO 100 mg TABLETA | E24: UNIDAD | F24: 7707 | G24: 6528 | H24: 6398 | I24: 6656 | J24: 7036 | K24: 9225 | L24: =AVERAGE(F24:K24) -> 7258.3333 | M24: 7727 | N24: =M24-L24 -> 468.66667 | O24: =+L24*(0.0333333333333333)*$E$16 -> 1935.5556 | P24: =+O24+((L24/30)*$E$16) -> 3871.1111 | Q24: =IF(L24=0,"",IF(M24-P24<=0,"*","")) | R24: =+O24+((L24/30)*$E$17) -> 10403.611 | S24: =+(R24-O24)+(P24-M24) -> 4612.1667 | T24: 6000 | V24: =T24-U24 -> 6000 | W24: DISMERQ SAS
C25: 103100007 | D25: ACIDO ASCORBICO 10% SOLUCIÓN ORAL | E25: FCO X 30 ML | F25: 0 | G25: 0 | H25: 0 | I25: 0 | J25: 0 | K25: 0 | L25: =AVERAGE(F25:K25) -> 0 | M25: 0 | N25: =M25-L25 -> 0 | O25: =+L25*(0.0333333333333333)*$E$16 -> 0 | P25: =+O25+((L25/30)*$E$16) -> 0 | Q25: =IF(L25=0,"",IF(M25-P25<=0,"*","")) | R25: =+O25+((L25/30)*$E$17) -> 0 | S25: =+(R25-O25)+(P25-M25) -> 0 | T25: =IF(S25>8999,(CEILING(S25,1000)),IF(S25>4999,(CEILING(S25,500)),IF(S25>899,(CEILING(S25,300)),IF(S25>99,(CEILING(S25,50)),IF(S25>49,(CEILING(S25,30)),IF(S25>9,(CEILING(S25,5)),IF(S25<=0,0,S25))))))) -> 0 | V25: =T25-U25 -> 0 | W25: comercializadora mediflash
C26: 103100009 | D26: ACIDO ASCORBICO 500 mg TABLETA | E26: UNIDAD | F26: 140 | G26: 70 | H26: 60 | I26: 30 | J26: 70 | K26: 30 | L26: =AVERAGE(F26:K26) -> 66.666667 | M26: 111 | N26: =M26-L26 -> 44.333333 | O26: =+L26*(0.0333333333333333)*$E$16 -> 17.777778 | P26: =+O26+((L26/30)*$E$16) -> 35.555556 | Q26: =IF(L26=0,"",IF(M26-P26<=0,"*","")) | R26: =+O26+((L26/30)*$E$17) -> 95.555556 | S26: =+(R26-O26)+(P26-M26) -> 2.3333333 | T26: 0 | V26: =T26-U26 -> 0 | W26: SYD COLOMBIA S.A
C27: 103100010 | D27: ACIDO ASCORBICO 500 MG TABLETA MASTICABLE | E27: UNIDAD | F27: 30 | G27: 98 | H27: 84 | I27: 90 | J27: 70 | K27: 45 | L27: =AVERAGE(F27:K27) -> 69.5 | M27: 331 | N27: =M27-L27 -> 261.5 | O27: =+L27*(0.0333333333333333)*$E$16 -> 18.533333 | P27: =+O27+((L27/30)*$E$16) -> 37.066667 | Q27: =IF(L27=0,"",IF(M27-P27<=0,"*","")) | R27: =+O27+((L27/30)*$E$17) -> 99.616667 | S27: =+(R27-O27)+(P27-M27) -> -212.85 | T27: =IF(S27>8999,(CEILING(S27,1000)),IF(S27>4999,(CEILING(S27,500)),IF(S27>899,(CEILING(S27,300)),IF(S27>99,(CEILING(S27,50)),IF(S27>49,(CEILING(S27,30)),IF(S27>9,(CEILING(S27,5)),IF(S27<=0,0,S27))))))) -> 0 | V27: =T27-U27 -> 0 | W27: SYD COLOMBIA S.A
C28: 103100012 | D28: ACIDO FOLICO 1 mg TABLETA | E28: UNIDAD | F28: 1054 | G28: 1054 | H28: 1294 | I28: 1227 | J28: 1234 | K28: 1397 | L28: =AVERAGE(F28:K28) -> 1210 | M28: 2239 | N28: =M28-L28 -> 1029 | O28: =+L28*(0.0333333333333333)*$E$16 -> 322.66667 | P28: =+O28+((L28/30)*$E$16) -> 645.33333 | Q28: =IF(L28=0,"",IF(M28-P28<=0,"*","")) | R28: =+O28+((L28/30)*$E$17) -> 1734.3333 | S28: =+(R28-O28)+(P28-M28) -> -182 | T28: 1000 | V28: =T28-U28 -> 1000 | W28: SYD COLOMBIA S.A
C29: 103100013 | D29: ACIDO FOLICO 5MG TABLETAS | E29: UNIDAD | F29: 0 | G29: 70 | H29: 60 | I29: 103 | J29: 138 | K29: 150 | L29: =AVERAGE(F29:K29) -> 86.833333 | M29: 397 | N29: =M29-L29 -> 310.16667 | O29: =+L29*(0.0333333333333333)*$E$16 -> 23.155556 | P29: =+O29+((L29/30)*$E$16) -> 46.311111 | Q29: =IF(L29=0,"",IF(M29-P29<=0,"*","")) | R29: =+O29+((L29/30)*$E$17) -> 124.46111 | S29: =+(R29-O29)+(P29-M29) -> -249.38333 | T29: =IF(S29>8999,(CEILING(S29,1000)),IF(S29>4999,(CEILING(S29,500)),IF(S29>899,(CEILING(S29,300)),IF(S29>99,(CEILING(S29,50)),IF(S29>49,(CEILING(S29,30)),IF(S29>9,(CEILING(S29,5)),IF(S29<=0,0,S29))))))) -> 0 | V29: =T29-U29 -> 0 | W29: SYD COLOMBIA S.A
C30: 103100014 | D30: ACIDO RETINOICO 0.05% CREMA | E30: POTE X 30 g | F30: 4 | G30: 3 | H30: 2 | I30: 1 | J30: 1 | K30: 10 | L30: =AVERAGE(F30:K30) -> 3.5 | M30: 3 | N30: =M30-L30 -> -0.5 | O30: =+L30*(0.0333333333333333)*$E$16 -> 0.93333333 | P30: =+O30+((L30/30)*$E$16) -> 1.8666667 | Q30: =IF(L30=0,"",IF(M30-P30<=0,"*","")) | R30: =+O30+((L30/30)*$E$17) -> 5.0166667 | S30: =+(R30-O30)+(P30-M30) -> 2.95 | T30: 3 | V30: =T30-U30 -> 3 | W30: DISMERQ SAS
C31: 103100015 | D31: ACIDO RETINOICO 0.05% LOCIÓN | E31: FCO X 60 ML | F31: 3 | G31: 1 | H31: 1 | I31: 0 | J31: 1 | K31: 2 | L31: =AVERAGE(F31:K31) -> 1.3333333 | M31: 9 | N31: =M31-L31 -> 7.6666667 | O31: =+L31*(0.0333333333333333)*$E$16 -> 0.35555556 | P31: =+O31+((L31/30)*$E$16) -> 0.71111111 | Q31: =IF(L31=0,"",IF(M31-P31<=0,"*","")) | R31: =+O31+((L31/30)*$E$17) -> 1.9111111 | S31: =+(R31-O31)+(P31-M31) -> -6.7333333 | T31: =IF(S31>8999,(CEILING(S31,1000)),IF(S31>4999,(CEILING(S31,500)),IF(S31>899,(CEILING(S31,300)),IF(S31>99,(CEILING(S31,50)),IF(S31>49,(CEILING(S31,30)),IF(S31>9,(CEILING(S31,5)),IF(S31<=0,0,S31))))))) -> 0 | V31: =T31-U31 -> 0 | W31: DISMERQ SAS
C32: 103100017 | D32: ACIDO VALPROICO 250 mg CAPSULA | E32: UNIDAD | F32: 4320 | G32: 3530 | H32: 4020 | I32: 3690 | J32: 3450 | K32: 4560 | L32: =AVERAGE(F32:K32) -> 3928.3333 | M32: 4060 | N32: =M32-L32 -> 131.66667 | O32: =+L32*(0.0333333333333333)*$E$16 -> 1047.5556 | P32: =+O32+((L32/30)*$E$16) -> 2095.1111 | Q32: =IF(L32=0,"",IF(M32-P32<=0,"*","")) | R32: =+O32+((L32/30)*$E$17) -> 5630.6111 | S32: =+(R32-O32)+(P32-M32) -> 2618.1667 | T32: 4500 | V32: =T32-U32 -> 4500 | W32: DISMERQ SAS
C33: 103100018 | D33: ACIDO VALPROICO 250 mg/5ml JARABE | E33: FCO X 120 ML | F33: 5 | G33: 16 | H33: 17 | I33: 11 | J33: 11 | K33: 6 | L33: =AVERAGE(F33:K33) -> 11 | M33: 17 | N33: =M33-L33 -> 6 | O33: =+L33*(0.0333333333333333)*$E$16 -> 2.9333333 | P33: =+O33+((L33/30)*$E$16) -> 5.8666667 | Q33: =IF(L33=0,"",IF(M33-P33<=0,"*","")) | R33: =+O33+((L33/30)*$E$17) -> 15.766667 | S33: =+(R33-O33)+(P33-M33) -> 1.7 | T33: 10 | V33: =T33-U33 -> 10 | W33: DISMERQ SAS
C34: 103100016 | D34: ACIDO TRANEXANICO AMPOLLA 500 MG /5ML | E34: AMPOLLA 500/5ML | F34: 0 | G34: 0 | H34: 0 | I34: 0 | J34: 0 | K34: 0 | L34: 0 | M34: 0 | O34: =+L34*(0.0333333333333333)*$E$16 -> 0 | P34: =+O34+((L34/30)*$E$16) -> 0 | R34: =+O34+((L34/30)*$E$17) -> 0 | S34: =+(R34-O34)+(P34-M34) -> 0 | T34: =IF(S34>8999,(CEILING(S34,1000)),IF(S34>4999,(CEILING(S34,500)),IF(S34>899,(CEILING(S34,300)),IF(S34>99,(CEILING(S34,50)),IF(S34>49,(CEILING(S34,30)),IF(S34>9,(CEILING(S34,5)),IF(S34<=0,0,S34))))))) -> 0 | V34: =T34-U34 -> 0 | W34: DISMERQ SAS
C35: 103100004 | D35: ACICLOVIR 200 mg TABLETA | E35: UNIDAD | F35: 60 | G35: 129 | H35: 157 | I35: 90 | J35: 22 | K35: 0 | L35: =AVERAGE(F35:K35) -> 76.333333 | M35: 536 | N35: =M35-L35 -> 459.66667 | O35: =+L35*(0.0333333333333333)*$E$16 -> 20.355556 | P35: =+O35+((L35/30)*$E$16) -> 40.711111 | Q35: =IF(L35=0,"",IF(M35-P35<=0,"*","")) | R35: =+O35+((L35/30)*$E$17) -> 109.41111 | S35: =+(R35-O35)+(P35-M35) -> -406.23333 | T35: =IF(S35>8999,(CEILING(S35,1000)),IF(S35>4999,(CEILING(S35,500)),IF(S35>899,(CEILING(S35,300)),IF(S35>99,(CEILING(S35,50)),IF(S35>49,(CEILING(S35,30)),IF(S35>9,(CEILING(S35,5)),IF(S35<=0,0,S35))))))) -> 0 | V35: =T35-U35 -> 0 | W35: SYD COLOMBIA S.A
C36: 103100005 | D36: ACICLOVIR 800 mg TABLETA | E36: UNIDAD | F36: 92 | G36: 38 | H36: 35 | I36: 111 | J36: 40 | K36: 30 | L36: =AVERAGE(F36:K36) -> 57.666667 | M36: 259 | N36: =M36-L36 -> 201.33333 | O36: =+L36*(0.0333333333333333)*$E$16 -> 15.377778 | P36: =+O36+((L36/30)*$E$16) -> 30.755556 | Q36: =IF(L36=0,"",IF(M36-P36<=0,"*","")) | R36: =+O36+((L36/30)*$E$17) -> 82.655556 | S36: =+(R36-O36)+(P36-M36) -> -160.96667 | T36: 0 | V36: =T36-U36 -> 0 | W36: SYD COLOMBIA S.A
C37: 103100019 | D37: ADENOSINA 6 mg/2 ml AMPOLLA | E37: INYECTABLE | F37: 0 | G37: 0 | H37: 0 | I37: 0 | J37: 0 | K37: 0 | L37: =AVERAGE(F37:K37) -> 0 | M37: 0 | N37: =M37-L37 -> 0 | O37: =+L37*(0.0333333333333333)*$E$16 -> 0 | P37: =+O37+((L37/30)*$E$16) -> 0 | Q37: =IF(L37=0,"",IF(M37-P37<=0,"*","")) | R37: =+O37+((L37/30)*$E$17) -> 0 | S37: =+(R37-O37)+(P37-M37) -> 0 | T37: =IF(S37>8999,(CEILING(S37,1000)),IF(S37>4999,(CEILING(S37,500)),IF(S37>899,(CEILING(S37,300)),IF(S37>99,(CEILING(S37,50)),IF(S37>49,(CEILING(S37,30)),IF(S37>9,(CEILING(S37,5)),IF(S37<=0,0,S37))))))) -> 0 | V37: =T37-U37 -> 0 | W37: SYD COLOMBIA S.A
C38: 103100020 | D38: ADRENALINA 1mg/ml AMPOLLA | E38: UNIDAD | F38: 0 | G38: 0 | H38: 0 | I38: 0 | J38: 0 | K38: 0 | L38: =AVERAGE(F38:K38) -> 0 | M38: 0 | N38: =M38-L38 -> 0 | O38: =+L38*(0.0333333333333333)*$E$16 -> 0 | P38: =+O38+((L38/30)*$E$16) -> 0 | Q38: =IF(L38=0,"",IF(M38-P38<=0,"*","")) | R38: =+O38+((L38/30)*$E$17) -> 0 | S38: =+(R38-O38)+(P38-M38) -> 0 | T38: =IF(S38>8999,(CEILING(S38,1000)),IF(S38>4999,(CEILING(S38,500)),IF(S38>899,(CEILING(S38,300)),IF(S38>99,(CEILING(S38,50)),IF(S38>49,(CEILING(S38,30)),IF(S38>9,(CEILING(S38,5)),IF(S38<=0,0,S38))))))) -> 0 | V38: =T38-U38 -> 0 | W38: SYD COLOMBIA S.A
C39: 103100021 | D39: AGUA ESTERIL 5 ml AMPOLLA | E39: UNIDAD | F39: 39 | G39: 16 | H39: 21 | I39: 32 | J39: 26 | K39: 36 | L39: =AVERAGE(F39:K39) -> 28.333333 | M39: 104 | N39: =M39-L39 -> 75.666667 | O39: =+L39*(0.0333333333333333)*$E$16 -> 7.5555556 | P39: =+O39+((L39/30)*$E$16) -> 15.111111 | Q39: =IF(L39=0,"",IF(M39-P39<=0,"*","")) | R39: =+O39+((L39/30)*$E$17) -> 40.611111 | S39: =+(R39-O39)+(P39-M39) -> -55.833333 | T39: =IF(S39>8999,(CEILING(S39,1000)),IF(S39>4999,(CEILING(S39,500)),IF(S39>899,(CEILING(S39,300)),IF(S39>99,(CEILING(S39,50)),IF(S39>49,(CEILING(S39,30)),IF(S39>9,(CEILING(S39,5)),IF(S39<=0,0,S39))))))) -> 0 | V39: =T39-U39 -> 0 | W39: comercializadora mediflash
C40: 103100022 | D40: AGUA ESTERIL USP BOLSA X 500ML - UNIDAD | E40: UNIDAD | F40: 1 | G40: 0 | H40: 1 | I40: 1 | J40: 0 | K40: 2 | L40: =AVERAGE(F40:K40) -> 0.83333333 | M40: 8 | N40: =M40-L40 -> 7.1666667 | O40: =+L40*(0.0333333333333333)*$E$16 -> 0.22222222 | P40: =+O40+((L40/30)*$E$16) -> 0.44444444 | Q40: =IF(L40=0,"",IF(M40-P40<=0,"*","")) | R40: =+O40+((L40/30)*$E$17) -> 1.1944444 | S40: =+(R40-O40)+(P40-M40) -> -6.5833333 | T40: =IF(S40>8999,(CEILING(S40,1000)),IF(S40>4999,(CEILING(S40,500)),IF(S40>899,(CEILING(S40,300)),IF(S40>99,(CEILING(S40,50)),IF(S40>49,(CEILING(S40,30)),IF(S40>9,(CEILING(S40,5)),IF(S40<=0,0,S40))))))) -> 0 | V40: =T40-U40 -> 0 | W40: comercializadora mediflash | X40: solicitar a rosalpi
C41: 103100024 | D41: ALBENDAZOL 400mg/20 ml SUSPENSIÓN ORAL | E41: FRASCO | F41: 77 | G41: 39 | H41: 35 | I41: 73 | J41: 68 | K41: 85 | L41: =AVERAGE(F41:K41) -> 62.833333 | M41: 60 | N41: =M41-L41 -> -2.8333333 | O41: =+L41*(0.0333333333333333)*$E$16 -> 16.755556 | P41: =+O41+((L41/30)*$E$16) -> 33.511111 | Q41: =IF(L41=0,"",IF(M41-P41<=0,"*","")) | R41: =+O41+((L41/30)*$E$17) -> 90.061111 | S41: =+(R41-O41)+(P41-M41) -> 46.816667 | T41: 100 | V41: =T41-U41 -> 100 | W41: comercializadora mediflash
C42: 103100023 | D42: ALBENDAZOL 200 mg TABLETA | E42: UNIDAD | F42: 48 | G42: 31 | H42: 31 | I42: 44 | J42: 40 | K42: 38 | L42: =AVERAGE(F42:K42) -> 38.666667 | M42: 199 | N42: =M42-L42 -> 160.33333 | O42: =+L42*(0.0333333333333333)*$E$16 -> 10.311111 | P42: =+O42+((L42/30)*$E$16) -> 20.622222 | Q42: =IF(L42=0,"",IF(M42-P42<=0,"*","")) | R42: =+O42+((L42/30)*$E$17) -> 55.422222 | S42: =+(R42-O42)+(P42-M42) -> -133.26667 | T42: =IF(S42>8999,(CEILING(S42,1000)),IF(S42>4999,(CEILING(S42,500)),IF(S42>899,(CEILING(S42,300)),IF(S42>99,(CEILING(S42,50)),IF(S42>49,(CEILING(S42,30)),IF(S42>9,(CEILING(S42,5)),IF(S42<=0,0,S42))))))) -> 0 | V42: =T42-U42 -> 0 | W42: comercializadora mediflash
C43: 103100712 | D43: ALCOHOL ANTISEPTICO MK 700ML - FRASCO | E43: FRASCO | F43: 20 | G43: 15 | H43: 14 | I43: 27 | J43: 23 | K43: 25 | L43: =AVERAGE(F43:K43) -> 20.666667 | M43: 32 | N43: =M43-L43 -> 11.333333 | O43: =+L43*(0.0333333333333333)*$E$16 -> 5.5111111 | P43: =+O43+((L43/30)*$E$16) -> 11.022222 | Q43: =IF(L43=0,"",IF(M43-P43<=0,"*","")) | R43: =+O43+((L43/30)*$E$17) -> 29.622222 | S43: =+(R43-O43)+(P43-M43) -> 3.1333333 | T43: 12 | V43: =T43-U43 -> 12 | W43: SYD COLOMBIA S.A
C44: 103100025 | D44: ALFAMETILDOPA 250 mg TABLETA | E44: UNIDAD | F44: 180 | G44: 90 | H44: 360 | I44: 180 | J44: 60 | K44: 0 | L44: =AVERAGE(F44:K44) -> 145 | M44: 270 | N44: =M44-L44 -> 125 | O44: =+L44*(0.0333333333333333)*$E$16 -> 38.666667 | P44: =+O44+((L44/30)*$E$16) -> 77.333333 | Q44: =IF(L44=0,"",IF(M44-P44<=0,"*","")) | R44: =+O44+((L44/30)*$E$17) -> 207.83333 | S44: =+(R44-O44)+(P44-M44) -> -23.5 | T44: =IF(S44>8999,(CEILING(S44,1000)),IF(S44>4999,(CEILING(S44,500)),IF(S44>899,(CEILING(S44,300)),IF(S44>99,(CEILING(S44,50)),IF(S44>49,(CEILING(S44,30)),IF(S44>9,(CEILING(S44,5)),IF(S44<=0,0,S44))))))) -> 0 | V44: =T44-U44 -> 0 | W44: SYD COLOMBIA S.A
C45: 103100942 | D45: ALIMENTO EN POLVO FORMULA CASEA A BASE DE MALTODEXTRINA CON VITAMINASY MINERALES SOBRE D | E45: SOBRE 1G | F45: 0 | G45: 0 | H45: 0 | I45: 0 | J45: 0 | K45: 705 | L45: =AVERAGE(F45:K45) -> 117.5 | M45: 285 | O45: =+L45*(0.0333333333333333)*$E$16 -> 31.333333 | P45: =+O45+((L45/30)*$E$16) -> 62.666667 | R45: =+O45+((L45/30)*$E$17) -> 168.41667 | T45: 450 | V45: =T45-U45 -> 450 | W45: QUIRUCLEAN
C46: 103100028 | D46: ALOPURINOL 100 mg TABLETA | E46: UNIDAD | F46: 1005 | G46: 1800 | H46: 2040 | I46: 1710 | J46: 1920 | K46: 2475 | L46: =AVERAGE(F46:K46) -> 1825 | M46: 945 | N46: 1 | O46: =+L46*(0.0333333333333333)*$E$16 -> 486.66667 | P46: =+O46+((L46/30)*$E$16) -> 973.33333 | Q46: =IF(L46=0,"",IF(M46-P46<=0,"*","")) -> * | R46: =+O46+((L46/30)*$E$17) -> 2615.8333 | S46: =+(R46-O46)+(P46-M46) -> 2157.5 | T46: =IF(S46>8999,(CEILING(S46,1000)),IF(S46>4999,(CEILING(S46,500)),IF(S46>899,(CEILING(S46,300)),IF(S46>99,(CEILING(S46,50)),IF(S46>49,(CEILING(S46,30)),IF(S46>9,(CEILING(S46,5)),IF(S46<=0,0,S46))))))) -> 2400 | V46: =T46-U46 -> 2400 | W46: comercializadora mediflash
C47: 103100029 | D47: ALOPURINOL 300 mg TABLETA | E47: UNIDAD | F47: 435 | G47: 365 | H47: 277 | I47: 472 | J47: 251 | K47: 251 | L47: =AVERAGE(F47:K47) -> 341.83333 | M47: 8520 | N47: =M47-L47 -> 8178.1667 | O47: =+L47*(0.0333333333333333)*$E$16 -> 91.155556 | P47: =+O47+((L47/30)*$E$16) -> 182.31111 | Q47: =IF(L47=0,"",IF(M47-P47<=0,"*","")) | R47: =+O47+((L47/30)*$E$17) -> 489.96111 | S47: =+(R47-O47)+(P47-M47) -> -7938.8833 | T47: =IF(S47>8999,(CEILING(S47,1000)),IF(S47>4999,(CEILING(S47,500)),IF(S47>899,(CEILING(S47,300)),IF(S47>99,(CEILING(S47,50)),IF(S47>49,(CEILING(S47,30)),IF(S47>9,(CEILING(S47,5)),IF(S47<=0,0,S47))))))) -> 0 | V47: =T47-U47 -> 0 | W47: DISMERQ SAS
C48: 103100030 | D48: ALPRAZOLAM 0.25 mg TABLETA (CONTROL ESPECIAL) | E48: UNIDAD | F48: 0 | G48: 0 | H48: 0 | I48: 0 | J48: 0 | K48: 0 | L48: =AVERAGE(F48:K48) -> 0 | M48: 0 | N48: =M48-L48 -> 0 | O48: =+L48*(0.0333333333333333)*$E$16 -> 0 | P48: =+O48+((L48/30)*$E$16) -> 0 | Q48: =IF(L48=0,"",IF(M48-P48<=0,"*","")) | R48: =+O48+((L48/30)*$E$17) -> 0 | S48: =+(R48-O48)+(P48-M48) -> 0 | T48: =IF(S48>8999,(CEILING(S48,1000)),IF(S48>4999,(CEILING(S48,500)),IF(S48>899,(CEILING(S48,300)),IF(S48>99,(CEILING(S48,50)),IF(S48>49,(CEILING(S48,30)),IF(S48>9,(CEILING(S48,5)),IF(S48<=0,0,S48))))))) -> 0 | V48: =T48-U48 -> 0 | W48: CLINICAL PHARMA SAS
C49: 103100031 | D49: ALPRAZOLAM 0.5 mg TABLETA (CONTROL ESPECIAL) | E49: UNIDAD | F49: 0 | G49: 0 | H49: 0 | I49: 0 | J49: 0 | K49: 0 | L49: =AVERAGE(F49:K49) -> 0 | M49: 0 | N49: =M49-L49 -> 0 | O49: =+L49*(0.0333333333333333)*$E$16 -> 0 | P49: =+O49+((L49/30)*$E$16) -> 0 | Q49: =IF(L49=0,"",IF(M49-P49<=0,"*","")) | R49: =+O49+((L49/30)*$E$17) -> 0 | S49: =+(R49-O49)+(P49-M49) -> 0 | T49: =IF(S49>8999,(CEILING(S49,1000)),IF(S49>4999,(CEILING(S49,500)),IF(S49>899,(CEILING(S49,300)),IF(S49>99,(CEILING(S49,50)),IF(S49>49,(CEILING(S49,30)),IF(S49>9,(CEILING(S49,5)),IF(S49<=0,0,S49))))))) -> 0 | V49: =T49-U49 -> 0 | W49: #N/A
C50: 103100032 | D50: AMANTADINA 100 mg TABLETA | E50: UNIDAD | F50: 0 | G50: 0 | H50: 0 | I50: 0 | J50: 0 | K50: 0 | L50: =AVERAGE(F50:K50) -> 0 | M50: 300 | N50: =M50-L50 -> 300 | O50: =+L50*(0.0333333333333333)*$E$16 -> 0 | P50: =+O50+((L50/30)*$E$16) -> 0 | Q50: =IF(L50=0,"",IF(M50-P50<=0,"*","")) | R50: =+O50+((L50/30)*$E$17) -> 0 | S50: =+(R50-O50)+(P50-M50) -> -300 | T50: =IF(S50>8999,(CEILING(S50,1000)),IF(S50>4999,(CEILING(S50,500)),IF(S50>899,(CEILING(S50,300)),IF(S50>99,(CEILING(S50,50)),IF(S50>49,(CEILING(S50,30)),IF(S50>9,(CEILING(S50,5)),IF(S50<=0,0,S50))))))) -> 0 | V50: =T50-U50 -> 0 | W50: SYD COLOMBIA S.A
C51: 103100033 | D51: AMIKACINA 100 mg/2ml AMPOLLA | E51: UNIDAD | F51: 0 | G51: 0 | H51: 0 | I51: 0 | J51: 0 | K51: 0 | L51: =AVERAGE(F51:K51) -> 0 | M51: 0 | N51: =M51-L51 -> 0 | O51: =+L51*(0.0333333333333333)*$E$16 -> 0 | P51: =+O51+((L51/30)*$E$16) -> 0 | Q51: =IF(L51=0,"",IF(M51-P51<=0,"*","")) | R51: =+O51+((L51/30)*$E$17) -> 0 | S51: =+(R51-O51)+(P51-M51) -> 0 | T51: =IF(S51>8999,(CEILING(S51,1000)),IF(S51>4999,(CEILING(S51,500)),IF(S51>899,(CEILING(S51,300)),IF(S51>99,(CEILING(S51,50)),IF(S51>49,(CEILING(S51,30)),IF(S51>9,(CEILING(S51,5)),IF(S51<=0,0,S51))))))) -> 0 | V51: =T51-U51 -> 0 | W51: comercializadora mediflash
C52: 103100034 | D52: AMIKACINA 500 mg/2mL AMPOLLA | E52: UNIDAD | F52: 0 | G52: 0 | H52: 0 | I52: 0 | J52: 0 | K52: 0 | L52: =AVERAGE(F52:K52) -> 0 | M52: 0 | N52: 0 | O52: =+L52*(0.0333333333333333)*$E$16 -> 0 | P52: =+O52+((L52/30)*$E$16) -> 0 | Q52: =IF(L52=0,"",IF(M52-P52<=0,"*","")) | R52: =+O52+((L52/30)*$E$17) -> 0 | S52: =+(R52-O52)+(P52-M52) -> 0 | T52: =IF(S52>8999,(CEILING(S52,1000)),IF(S52>4999,(CEILING(S52,500)),IF(S52>899,(CEILING(S52,300)),IF(S52>99,(CEILING(S52,50)),IF(S52>49,(CEILING(S52,30)),IF(S52>9,(CEILING(S52,5)),IF(S52<=0,0,S52))))))) -> 0 | V52: =T52-U52 -> 0 | W52: comercializadora mediflash
C53: 103100035 | D53: AMINOFILINA 2.40% AMPOLLA | E53: UNIDAD | F53: 0 | G53: 0 | H53: 0 | I53: 0 | J53: 0 | K53: 0 | L53: =AVERAGE(F53:K53) -> 0 | M53: 0 | N53: =M53-L53 -> 0 | O53: =+L53*(0.0333333333333333)*$E$16 -> 0 | P53: =+O53+((L53/30)*$E$16) -> 0 | Q53: =IF(L53=0,"",IF(M53-P53<=0,"*","")) | R53: =+O53+((L53/30)*$E$17) -> 0 | S53: =+(R53-O53)+(P53-M53) -> 0 | T53: =IF(S53>8999,(CEILING(S53,1000)),IF(S53>4999,(CEILING(S53,500)),IF(S53>899,(CEILING(S53,300)),IF(S53>99,(CEILING(S53,50)),IF(S53>49,(CEILING(S53,30)),IF(S53>9,(CEILING(S53,5)),IF(S53<=0,0,S53))))))) -> 0 | V53: =T53-U53 -> 0 | W53: #N/A
C54: 103100036 | D54: AMIODARONA 150 mg AMPOLLA | E54: UNIDAD | F54: 0 | G54: 0 | H54: 0 | I54: 0 | J54: 0 | K54: 0 | L54: =AVERAGE(F54:K54) -> 0 | M54: 0 | N54: =M54-L54 -> 0 | O54: =+L54*(0.0333333333333333)*$E$16 -> 0 | P54: =+O54+((L54/30)*$E$16) -> 0 | Q54: =IF(L54=0,"",IF(M54-P54<=0,"*","")) | R54: =+O54+((L54/30)*$E$17) -> 0 | S54: =+(R54-O54)+(P54-M54) -> 0 | T54: =IF(S54>8999,(CEILING(S54,1000)),IF(S54>4999,(CEILING(S54,500)),IF(S54>899,(CEILING(S54,300)),IF(S54>99,(CEILING(S54,50)),IF(S54>49,(CEILING(S54,30)),IF(S54>9,(CEILING(S54,5)),IF(S54<=0,0,S54))))))) -> 0 | V54: =T54-U54 -> 0 | W54: SYD COLOMBIA S.A
C55: 103100037 | D55: AMIODARONA 200 mg TABLETA | E55: UNIDAD | F55: 360 | G55: 240 | H55: 270 | I55: 160 | J55: 240 | K55: 270 | L55: =AVERAGE(F55:K55) -> 256.66667 | M55: 410 | N55: =M55-L55 -> 153.33333 | O55: =+L55*(0.0333333333333333)*$E$16 -> 68.444444 | P55: =+O55+((L55/30)*$E$16) -> 136.88889 | Q55: =IF(L55=0,"",IF(M55-P55<=0,"*","")) | R55: =+O55+((L55/30)*$E$17) -> 367.88889 | S55: =+(R55-O55)+(P55-M55) -> 26.333333 | T55: 100 | V55: =T55-U55 -> 100 | W55: DISMERQ SAS
C56: 103100038 | D56: AMITRIPTILINA 25 mg TABLETA | E56: UNIDAD | F56: 789 | G56: 820 | H56: 560 | I56: 590 | J56: 480 | K56: 750 | L56: =AVERAGE(F56:K56) -> 664.83333 | M56: 931 | N56: =M56-L56 -> 266.16667 | O56: =+L56*(0.0333333333333333)*$E$16 -> 177.28889 | P56: =+O56+((L56/30)*$E$16) -> 354.57778 | Q56: =IF(L56=0,"",IF(M56-P56<=0,"*","")) | R56: =+O56+((L56/30)*$E$17) -> 952.92778 | S56: =+(R56-O56)+(P56-M56) -> 199.21667 | T56: 1200 | V56: =T56-U56 -> 1200 | W56: DISMERQ SAS
C57: 103100039 | D57: AMLODIPINO 10 mg TABLETA | E57: UNIDAD | F57: 7650 | G57: 6044 | H57: 6420 | I57: 6226 | J57: 6000 | K57: 8820 | L57: =AVERAGE(F57:K57) -> 6860 | M57: 5730 | N57: =M57-L57 -> -1130 | O57: =+L57*(0.0333333333333333)*$E$16 -> 1829.3333 | P57: =+O57+((L57/30)*$E$16) -> 3658.6667 | Q57: =IF(L57=0,"",IF(M57-P57<=0,"*","")) | R57: =+O57+((L57/30)*$E$17) -> 9832.6667 | S57: =+(R57-O57)+(P57-M57) -> 5932 | T57: =IF(S57>8999,(CEILING(S57,1000)),IF(S57>4999,(CEILING(S57,500)),IF(S57>899,(CEILING(S57,300)),IF(S57>99,(CEILING(S57,50)),IF(S57>49,(CEILING(S57,30)),IF(S57>9,(CEILING(S57,5)),IF(S57<=0,0,S57))))))) -> 6000 | V57: =T57-U57 -> 6000 | W57: DISMERQ SAS
C58: 103100040 | D58: AMLODIPINO 5 mg TABLETA | E58: UNIDAD | F58: 15735 | G58: 12315 | H58: 12480 | I58: 12675 | J58: 12915 | K58: 17220 | L58: =AVERAGE(F58:K58) -> 13890 | M58: 13942 | N58: =M58-L58 -> 52 | O58: =+L58*(0.0333333333333333)*$E$16 -> 3704 | P58: =+O58+((L58/30)*$E$16) -> 7408 | Q58: =IF(L58=0,"",IF(M58-P58<=0,"*","")) | R58: =+O58+((L58/30)*$E$17) -> 19909 | S58: =+(R58-O58)+(P58-M58) -> 9671 | T58: 12000 | V58: =T58-U58 -> 12000 | W58: SYD COLOMBIA S.A
C59: 103100041 | D59: AMOXACILINA 250 mg/5ml SUSPENSIÓN ORAL | E59: FCO X 100 ML | F59: 10 | G59: 2 | H59: 4 | I59: 6 | J59: 15 | K59: 11 | L59: =AVERAGE(F59:K59) -> 8 | M59: 13 | N59: =M59-L59 -> 5 | O59: =+L59*(0.0333333333333333)*$E$16 -> 2.1333333 | P59: =+O59+((L59/30)*$E$16) -> 4.2666667 | Q59: =IF(L59=0,"",IF(M59-P59<=0,"*","")) | R59: =+O59+((L59/30)*$E$17) -> 11.466667 | S59: =+(R59-O59)+(P59-M59) -> 0.6 | T59: 10 | V59: =T59-U59 -> 10 | W59: DISMERQ SAS
C60: 103100042 | D60: AMOXACILINA 500 mg TABLETA | E60: UNIDAD | F60: 848 | G60: 587 | H60: 618 | I60: 592 | J60: 712 | K60: 764 | L60: =AVERAGE(F60:K60) -> 686.83333 | M60: 641 | N60: =M60-L60 -> -45.833333 | O60: =+L60*(0.0333333333333333)*$E$16 -> 183.15556 | P60: =+O60+((L60/30)*$E$16) -> 366.31111 | Q60: =IF(L60=0,"",IF(M60-P60<=0,"*","")) | R60: =+O60+((L60/30)*$E$17) -> 984.46111 | S60: =+(R60-O60)+(P60-M60) -> 526.61667 | T60: 500 | V60: =T60-U60 -> 500 | W60: comercializadora mediflash
C61: 103100044 | D61: AMPICILINA 1 g/3.4 ml AMPOLLA | E61: UNIDAD | F61: 0 | G61: 0 | H61: 0 | I61: 0 | J61: 0 | K61: 0 | L61: =AVERAGE(F61:K61) -> 0 | M61: 0 | N61: =M61-L61 -> 0 | O61: =+L61*(0.0333333333333333)*$E$16 -> 0 | P61: =+O61+((L61/30)*$E$16) -> 0 | Q61: =IF(L61=0,"",IF(M61-P61<=0,"*","")) | R61: =+O61+((L61/30)*$E$17) -> 0 | S61: =+(R61-O61)+(P61-M61) -> 0 | T61: =IF(S61>8999,(CEILING(S61,1000)),IF(S61>4999,(CEILING(S61,500)),IF(S61>899,(CEILING(S61,300)),IF(S61>99,(CEILING(S61,50)),IF(S61>49,(CEILING(S61,30)),IF(S61>9,(CEILING(S61,5)),IF(S61<=0,0,S61))))))) -> 0 | V61: =T61-U61 -> 0 | W61: SYD COLOMBIA S.A
C62: 103100045 | D62: AMPICILINA 1G + SULBACTAM 0.5 G AMPOLLA | E62: UNIDAD | F62: 0 | G62: 0 | H62: 0 | I62: 0 | J62: 0 | K62: 0 | L62: =AVERAGE(F62:K62) -> 0 | M62: 0 | N62: =M62-L62 -> 0 | O62: =+L62*(0.0333333333333333)*$E$16 -> 0 | P62: =+O62+((L62/30)*$E$16) -> 0 | Q62: =IF(L62=0,"",IF(M62-P62<=0,"*","")) | R62: =+O62+((L62/30)*$E$17) -> 0 | S62: =+(R62-O62)+(P62-M62) -> 0 | T62: =IF(S62>8999,(CEILING(S62,1000)),IF(S62>4999,(CEILING(S62,500)),IF(S62>899,(CEILING(S62,300)),IF(S62>99,(CEILING(S62,50)),IF(S62>49,(CEILING(S62,30)),IF(S62>9,(CEILING(S62,5)),IF(S62<=0,0,S62))))))) -> 0 | V62: =T62-U62 -> 0 | W62: DISMERQ SAS
C63: 103100532 | D63: AMPICILINA 250 mg/5 mL SUSPENSIÓN ORAL | E63: FRASCO | F63: 0 | G63: 0 | H63: 0 | I63: 0 | J63: 0 | K63: 0 | L63: =AVERAGE(F63:K63) -> 0 | M63: 0 | N63: =M63-L63 -> 0 | O63: =+L63*(0.0333333333333333)*$E$16 -> 0 | P63: =+O63+((L63/30)*$E$16) -> 0 | Q63: =IF(L63=0,"",IF(M63-P63<=0,"*","")) | R63: =+O63+((L63/30)*$E$17) -> 0 | S63: =+(R63-O63)+(P63-M63) -> 0 | T63: =IF(S63>8999,(CEILING(S63,1000)),IF(S63>4999,(CEILING(S63,500)),IF(S63>899,(CEILING(S63,300)),IF(S63>99,(CEILING(S63,50)),IF(S63>49,(CEILING(S63,30)),IF(S63>9,(CEILING(S63,5)),IF(S63<=0,0,S63))))))) -> 0 | V63: =T63-U63 -> 0 | W63: CLINICAL PHARMA SAS
C64: 103100046 | D64: AMPICILINA 500 mg AMPOLLA | E64: UNIDAD | F64: 0 | G64: 0 | H64: 0 | I64: 0 | J64: 0 | K64: 0 | L64: =AVERAGE(F64:K64) -> 0 | M64: 0 | N64: =M64-L64 -> 0 | O64: =+L64*(0.0333333333333333)*$E$16 -> 0 | P64: =+O64+((L64/30)*$E$16) -> 0 | Q64: =IF(L64=0,"",IF(M64-P64<=0,"*","")) | R64: =+O64+((L64/30)*$E$17) -> 0 | S64: =+(R64-O64)+(P64-M64) -> 0 | T64: =IF(S64>8999,(CEILING(S64,1000)),IF(S64>4999,(CEILING(S64,500)),IF(S64>899,(CEILING(S64,300)),IF(S64>99,(CEILING(S64,50)),IF(S64>49,(CEILING(S64,30)),IF(S64>9,(CEILING(S64,5)),IF(S64<=0,0,S64))))))) -> 0 | V64: =T64-U64 -> 0 | W64: SYD COLOMBIA S.A
C65: 103100047 | D65: AMPICILINA 500 mg CAPSULA | E65: UNIDAD | F65: 0 | G65: 0 | H65: 0 | I65: 0 | J65: 0 | K65: 0 | L65: =AVERAGE(F65:K65) -> 0 | M65: 0 | N65: =M65-L65 -> 0 | O65: =+L65*(0.0333333333333333)*$E$16 -> 0 | P65: =+O65+((L65/30)*$E$16) -> 0 | Q65: =IF(L65=0,"",IF(M65-P65<=0,"*","")) | R65: =+O65+((L65/30)*$E$17) -> 0 | S65: =+(R65-O65)+(P65-M65) -> 0 | T65: =IF(S65>8999,(CEILING(S65,1000)),IF(S65>4999,(CEILING(S65,500)),IF(S65>899,(CEILING(S65,300)),IF(S65>99,(CEILING(S65,50)),IF(S65>49,(CEILING(S65,30)),IF(S65>9,(CEILING(S65,5)),IF(S65<=0,0,S65))))))) -> 0 | V65: =T65-U65 -> 0 | W65: CLINICAL PHARMA SAS
C66: 103100053 | D66: ATAZANAVIR 300 MG TABLETAS | E66: UNIDAD | F66: 0 | G66: 0 | H66: 0 | I66: 0 | J66: 0 | K66: 0 | L66: =AVERAGE(F66:K66) -> 0 | M66: 0 | N66: =M66-L66 -> 0 | O66: =+L66*(0.0333333333333333)*$E$16 -> 0 | P66: =+O66+((L66/30)*$E$16) -> 0 | Q66: =IF(L66=0,"",IF(M66-P66<=0,"*","")) | R66: =+O66+((L66/30)*$E$17) -> 0 | S66: =+(R66-O66)+(P66-M66) -> 0 | T66: =IF(S66>8999,(CEILING(S66,1000)),IF(S66>4999,(CEILING(S66,500)),IF(S66>899,(CEILING(S66,300)),IF(S66>99,(CEILING(S66,50)),IF(S66>49,(CEILING(S66,30)),IF(S66>9,(CEILING(S66,5)),IF(S66<=0,0,S66))))))) -> 0 | V66: =T66-U66 -> 0 | W66: #N/A
C67: 103100056 | D67: ATORVASTATINA 20 mg TABLETA | E67: UNIDAD | F67: 0 | G67: 0 | H67: 0 | I67: 0 | J67: 0 | K67: 0 | L67: =AVERAGE(F67:K67) -> 0 | M67: 0 | N67: =M67-L67 -> 0 | O67: =+L67*(0.0333333333333333)*$E$16 -> 0 | P67: =+O67+((L67/30)*$E$16) -> 0 | Q67: =IF(L67=0,"",IF(M67-P67<=0,"*","")) | R67: =+O67+((L67/30)*$E$17) -> 0 | S67: =+(R67-O67)+(P67-M67) -> 0 | T67: =IF(S67>8999,(CEILING(S67,1000)),IF(S67>4999,(CEILING(S67,500)),IF(S67>899,(CEILING(S67,300)),IF(S67>99,(CEILING(S67,50)),IF(S67>49,(CEILING(S67,30)),IF(S67>9,(CEILING(S67,5)),IF(S67<=0,0,S67))))))) -> 0 | V67: =T67-U67 -> 0 | W67: #N/A
C68: 103100057 | D68: ATROPINA 1% AMPOLLA | E68: UNIDAD | F68: 0 | G68: 0 | H68: 0 | I68: 0 | J68: 0 | K68: 0 | L68: =AVERAGE(F68:K68) -> 0 | M68: 0 | N68: =M68-L68 -> 0 | O68: =+L68*(0.0333333333333333)*$E$16 -> 0 | P68: =+O68+((L68/30)*$E$16) -> 0 | Q68: =IF(L68=0,"",IF(M68-P68<=0,"*","")) | R68: =+O68+((L68/30)*$E$17) -> 0 | S68: =+(R68-O68)+(P68-M68) -> 0 | T68: =IF(S68>8999,(CEILING(S68,1000)),IF(S68>4999,(CEILING(S68,500)),IF(S68>899,(CEILING(S68,300)),IF(S68>99,(CEILING(S68,50)),IF(S68>49,(CEILING(S68,30)),IF(S68>9,(CEILING(S68,5)),IF(S68<=0,0,S68))))))) -> 0 | V68: =T68-U68 -> 0 | W68: SYD COLOMBIA S.A
C69: 103100059 | D69: AZATIOPRINA 50 mg TABLETA | E69: UNIDAD | F69: 120 | G69: 120 | H69: 60 | I69: 60 | J69: 120 | K69: 150 | L69: =AVERAGE(F69:K69) -> 105 | M69: 440 | N69: =M69-L69 -> 335 | O69: =+L69*(0.0333333333333333)*$E$16 -> 28 | P69: =+O69+((L69/30)*$E$16) -> 56 | Q69: =IF(L69=0,"",IF(M69-P69<=0,"*","")) | R69: =+O69+((L69/30)*$E$17) -> 150.5 | S69: =+(R69-O69)+(P69-M69) -> -261.5 | T69: 200 | V69: =T69-U69 -> 200 | W69: DISMERQ SAS
C70: 103100060 | D70: AZITROMICINA 200 MG/5ML FRASCO X 15 ML | E70: SUSPENSIÓN ORAL | F70: 0 | G70: 0 | H70: 0 | I70: 0 | J70: 0 | K70: 0 | L70: =AVERAGE(F70:K70) -> 0 | M70: 0 | N70: =M70-L70 -> 0 | O70: =+L70*(0.0333333333333333)*$E$16 -> 0 | P70: =+O70+((L70/30)*$E$16) -> 0 | Q70: =IF(L70=0,"",IF(M70-P70<=0,"*","")) | R70: =+O70+((L70/30)*$E$17) -> 0 | S70: =+(R70-O70)+(P70-M70) -> 0 | T70: =IF(S70>8999,(CEILING(S70,1000)),IF(S70>4999,(CEILING(S70,500)),IF(S70>899,(CEILING(S70,300)),IF(S70>99,(CEILING(S70,50)),IF(S70>49,(CEILING(S70,30)),IF(S70>9,(CEILING(S70,5)),IF(S70<=0,0,S70))))))) -> 0 | V70: =T70-U70 -> 0 | W70: comercializadora mediflash
C71: 103100061 | D71: AZITROMICINA 500 mg TABLETA | E71: UNIDAD | F71: 0 | G71: 0 | H71: 0 | I71: 0 | J71: 0 | K71: 0 | L71: =AVERAGE(F71:K71) -> 0 | M71: 0 | N71: =M71-L71 -> 0 | O71: =+L71*(0.0333333333333333)*$E$16 -> 0 | P71: =+O71+((L71/30)*$E$16) -> 0 | Q71: =IF(L71=0,"",IF(M71-P71<=0,"*","")) | R71: =+O71+((L71/30)*$E$17) -> 0 | S71: =+(R71-O71)+(P71-M71) -> 0 | T71: =IF(S71>8999,(CEILING(S71,1000)),IF(S71>4999,(CEILING(S71,500)),IF(S71>899,(CEILING(S71,300)),IF(S71>99,(CEILING(S71,50)),IF(S71>49,(CEILING(S71,30)),IF(S71>9,(CEILING(S71,5)),IF(S71<=0,0,S71))))))) -> 0 | V71: =T71-U71 -> 0 | W71: comercializadora mediflash
C72: 103100536 | D72: BECLOMETASONA 250 mcg/dosis INHALADOR | E72: FRASCO | F72: 0 | G72: 0 | H72: 0 | I72: 0 | J72: 0 | K72: 0 | L72: =AVERAGE(F72:K72) -> 0 | M72: 0 | N72: =M72-L72 -> 0 | O72: =+L72*(0.0333333333333333)*$E$16 -> 0 | P72: =+O72+((L72/30)*$E$16) -> 0 | Q72: =IF(L72=0,"",IF(M72-P72<=0,"*","")) | R72: =+O72+((L72/30)*$E$17) -> 0 | S72: =+(R72-O72)+(P72-M72) -> 0 | T72: =IF(S72>8999,(CEILING(S72,1000)),IF(S72>4999,(CEILING(S72,500)),IF(S72>899,(CEILING(S72,300)),IF(S72>99,(CEILING(S72,50)),IF(S72>49,(CEILING(S72,30)),IF(S72>9,(CEILING(S72,5)),IF(S72<=0,0,S72))))))) -> 0 | V72: =T72-U72 -> 0 | W72: comercializadora mediflash
C73: 103100062 | D73: BECLOMETASONA 50 mcg INHALADOR | E73: FRASCO | F73: 14 | G73: 9 | H73: 8 | I73: 7 | J73: 8 | K73: 17 | L73: =AVERAGE(F73:K73) -> 10.5 | M73: 126 | N73: =M73-L73 -> 115.5 | O73: =+L73*(0.0333333333333333)*$E$16 -> 2.8 | P73: =+O73+((L73/30)*$E$16) -> 5.6 | Q73: =IF(L73=0,"",IF(M73-P73<=0,"*","")) | R73: =+O73+((L73/30)*$E$17) -> 15.05 | S73: =+(R73-O73)+(P73-M73) -> -108.15 | T73: =IF(S73>8999,(CEILING(S73,1000)),IF(S73>4999,(CEILING(S73,500)),IF(S73>899,(CEILING(S73,300)),IF(S73>99,(CEILING(S73,50)),IF(S73>49,(CEILING(S73,30)),IF(S73>9,(CEILING(S73,5)),IF(S73<=0,0,S73))))))) -> 0 | V73: =T73-U73 -> 0 | W73: comercializadora mediflash
C74: 103100063 | D74: BECLOMETASONA 50 mcg NASAL (AEROSOL) | E74: FRASCO | F74: 11 | G74: 16 | H74: 17 | I74: 23 | J74: 12 | K74: 10 | L74: =AVERAGE(F74:K74) -> 14.833333 | M74: 103 | N74: =M74-L74 -> 88.166667 | O74: =+L74*(0.0333333333333333)*$E$16 -> 3.9555556 | P74: =+O74+((L74/30)*$E$16) -> 7.9111111 | Q74: =IF(L74=0,"",IF(M74-P74<=0,"*","")) | R74: =+O74+((L74/30)*$E$17) -> 21.261111 | S74: =+(R74-O74)+(P74-M74) -> -77.783333 | T74: =IF(S74>8999,(CEILING(S74,1000)),IF(S74>4999,(CEILING(S74,500)),IF(S74>899,(CEILING(S74,300)),IF(S74>99,(CEILING(S74,50)),IF(S74>49,(CEILING(S74,30)),IF(S74>9,(CEILING(S74,5)),IF(S74<=0,0,S74))))))) -> 0 | V74: =T74-U74 -> 0 | W74: DISMERQ SAS
C75: 103100064 | D75: BENZOATO DE BENCILO 25% LOCIÓN | E75: FRASCO | F75: 0 | G75: 1 | H75: 0 | I75: 2 | J75: 1 | K75: 2 | L75: =AVERAGE(F75:K75) -> 1 | M75: 0 | N75: =M75-L75 -> -1 | O75: =+L75*(0.0333333333333333)*$E$16 -> 0.26666667 | P75: =+O75+((L75/30)*$E$16) -> 0.53333333 | Q75: =IF(L75=0,"",IF(M75-P75<=0,"*","")) -> * | R75: =+O75+((L75/30)*$E$17) -> 1.4333333 | S75: =+(R75-O75)+(P75-M75) -> 1.7 | T75: 4 | V75: =T75-U75 -> 4 | W75: comercializadora mediflash
C76: 103100068 | D76: BETAMETASONA DIPROPIONATO 0.05% CREMA x 20 gr | E76: TUBO X 20 g | F76: 16 | G76: 5 | H76: 4 | I76: 4 | J76: 4 | K76: 0 | L76: =AVERAGE(F76:K76) -> 5.5 | M76: 35 | N76: =M76-L76 -> 29.5 | O76: =+L76*(0.0333333333333333)*$E$16 -> 1.4666667 | P76: =+O76+((L76/30)*$E$16) -> 2.9333333 | Q76: =IF(L76=0,"",IF(M76-P76<=0,"*","")) | R76: =+O76+((L76/30)*$E$17) -> 7.8833333 | S76: =+(R76-O76)+(P76-M76) -> -25.65 | T76: =IF(S76>8999,(CEILING(S76,1000)),IF(S76>4999,(CEILING(S76,500)),IF(S76>899,(CEILING(S76,300)),IF(S76>99,(CEILING(S76,50)),IF(S76>49,(CEILING(S76,30)),IF(S76>9,(CEILING(S76,5)),IF(S76<=0,0,S76))))))) -> 0 | V76: =T76-U76 -> 0 | W76: DISMERQ SAS
C77: 103100069 | D77: BETAMETASONA DIPROPIONATO 0.05% CREMA x 40 gr | E77: TUBO X 40 g | F77: 32 | G77: 18 | H77: 19 | I77: 19 | J77: 21 | K77: 10 | L77: =AVERAGE(F77:K77) -> 19.833333 | M77: 34 | N77: =M77-L77 -> 14.166667 | O77: =+L77*(0.0333333333333333)*$E$16 -> 5.2888889 | P77: =+O77+((L77/30)*$E$16) -> 10.577778 | Q77: =IF(L77=0,"",IF(M77-P77<=0,"*","")) | R77: =+O77+((L77/30)*$E$17) -> 28.427778 | S77: =+(R77-O77)+(P77-M77) -> -0.28333333 | T77: 10 | V77: =T77-U77 -> 10 | W77: SYD COLOMBIA S.A
C78: 103100070 | D78: BETAMETASONA FOSFATO + ACETATO 3+3 mg/ml AMPOLLA | E78: UNIDAD | F78: 0 | G78: 0 | H78: 0 | I78: 0 | J78: 0 | K78: 0 | L78: =AVERAGE(F78:K78) -> 0 | M78: 0 | N78: =M78-L78 -> 0 | O78: =+L78*(0.0333333333333333)*$E$16 -> 0 | P78: =+O78+((L78/30)*$E$16) -> 0 | Q78: =IF(L78=0,"",IF(M78-P78<=0,"*","")) | R78: =+O78+((L78/30)*$E$17) -> 0 | S78: =+(R78-O78)+(P78-M78) -> 0 | T78: =IF(S78>8999,(CEILING(S78,1000)),IF(S78>4999,(CEILING(S78,500)),IF(S78>899,(CEILING(S78,300)),IF(S78>99,(CEILING(S78,50)),IF(S78>49,(CEILING(S78,30)),IF(S78>9,(CEILING(S78,5)),IF(S78<=0,0,S78))))))) -> 0 | V78: =T78-U78 -> 0 | W78: #N/A
C79: 103100071 | D79: BETAMETASONA FOSFATO SÓDICO 4mg/ml AMPOLLA | E79: UNIDAD | F79: 0 | G79: 0 | H79: 0 | I79: 0 | J79: 0 | K79: 0 | L79: =AVERAGE(F79:K79) -> 0 | M79: 2 | N79: =M79-L79 -> 2 | O79: =+L79*(0.0333333333333333)*$E$16 -> 0 | P79: =+O79+((L79/30)*$E$16) -> 0 | Q79: =IF(L79=0,"",IF(M79-P79<=0,"*","")) | R79: =+O79+((L79/30)*$E$17) -> 0 | S79: =+(R79-O79)+(P79-M79) -> -2 | T79: =IF(S79>8999,(CEILING(S79,1000)),IF(S79>4999,(CEILING(S79,500)),IF(S79>899,(CEILING(S79,300)),IF(S79>99,(CEILING(S79,50)),IF(S79>49,(CEILING(S79,30)),IF(S79>9,(CEILING(S79,5)),IF(S79<=0,0,S79))))))) -> 0 | V79: =T79-U79 -> 0 | W79: comercializadora mediflash
C80: 103100072 | D80: BETAMETILDIGOXINA 0.02 mg AMPOLLA | E80: UNIDAD | F80: 0 | G80: 0 | H80: 0 | I80: 0 | J80: 0 | K80: 0 | L80: =AVERAGE(F80:K80) -> 0 | M80: 0 | N80: =M80-L80 -> 0 | O80: =+L80*(0.0333333333333333)*$E$16 -> 0 | P80: =+O80+((L80/30)*$E$16) -> 0 | Q80: =IF(L80=0,"",IF(M80-P80<=0,"*","")) | R80: =+O80+((L80/30)*$E$17) -> 0 | S80: =+(R80-O80)+(P80-M80) -> 0 | T80: =IF(S80>8999,(CEILING(S80,1000)),IF(S80>4999,(CEILING(S80,500)),IF(S80>899,(CEILING(S80,300)),IF(S80>99,(CEILING(S80,50)),IF(S80>49,(CEILING(S80,30)),IF(S80>9,(CEILING(S80,5)),IF(S80<=0,0,S80))))))) -> 0 | V80: =T80-U80 -> 0 | W80: comercializadora mediflash
C81: 103100075 | D81: BICARBONATO DE SODIO 10mEg /10ml AMPOLLA | E81: UNIDAD | F81: 0 | G81: 0 | H81: 0 | I81: 0 | J81: 0 | K81: 0 | L81: =AVERAGE(F81:K81) -> 0 | M81: 0 | N81: =M81-L81 -> 0 | O81: =+L81*(0.0333333333333333)*$E$16 -> 0 | P81: =+O81+((L81/30)*$E$16) -> 0 | Q81: =IF(L81=0,"",IF(M81-P81<=0,"*","")) | R81: =+O81+((L81/30)*$E$17) -> 0 | S81: =+(R81-O81)+(P81-M81) -> 0 | T81: =IF(S81>8999,(CEILING(S81,1000)),IF(S81>4999,(CEILING(S81,500)),IF(S81>899,(CEILING(S81,300)),IF(S81>99,(CEILING(S81,50)),IF(S81>49,(CEILING(S81,30)),IF(S81>9,(CEILING(S81,5)),IF(S81<=0,0,S81))))))) -> 0 | V81: =T81-U81 -> 0 | W81: SYD COLOMBIA S.A
C82: 103100076 | D82: BIPERIDENO CLORHIDRATO 2 mg TABLETA | E82: UNIDAD | F82: 110 | G82: 150 | H82: 90 | I82: 105 | J82: 90 | K82: 90 | L82: =AVERAGE(F82:K82) -> 105.83333 | M82: 325 | N82: =M82-L82 -> 219.16667 | O82: =+L82*(0.0333333333333333)*$E$16 -> 28.222222 | P82: =+O82+((L82/30)*$E$16) -> 56.444444 | Q82: =IF(L82=0,"",IF(M82-P82<=0,"*","")) | R82: =+O82+((L82/30)*$E$17) -> 151.69444 | S82: =+(R82-O82)+(P82-M82) -> -145.08333 | T82: =IF(S82>8999,(CEILING(S82,1000)),IF(S82>4999,(CEILING(S82,500)),IF(S82>899,(CEILING(S82,300)),IF(S82>99,(CEILING(S82,50)),IF(S82>49,(CEILING(S82,30)),IF(S82>9,(CEILING(S82,5)),IF(S82<=0,0,S82))))))) -> 0 | V82: =T82-U82 -> 0 | W82: SYD COLOMBIA S.A
C83: 103100077 | D83: BISACODILO 5mg TABLETA | E83: UNIDAD | F83: 860 | G83: 805 | H83: 665 | I83: 775 | J83: 846 | K83: 845 | L83: =AVERAGE(F83:K83) -> 799.33333 | M83: 766 | N83: =M83-L83 -> -33.333333 | O83: =+L83*(0.0333333333333333)*$E$16 -> 213.15556 | P83: =+O83+((L83/30)*$E$16) -> 426.31111 | Q83: =IF(L83=0,"",IF(M83-P83<=0,"*","")) | R83: =+O83+((L83/30)*$E$17) -> 1145.7111 | S83: =+(R83-O83)+(P83-M83) -> 592.86667 | T83: =IF(S83>8999,(CEILING(S83,1000)),IF(S83>4999,(CEILING(S83,500)),IF(S83>899,(CEILING(S83,300)),IF(S83>99,(CEILING(S83,50)),IF(S83>49,(CEILING(S83,30)),IF(S83>9,(CEILING(S83,5)),IF(S83<=0,0,S83))))))) -> 600 | V83: =T83-U83 -> 600 | W83: DISMERQ SAS
C84: 103100081 | D84: BROMURO DE IPRATROPIO 0.02 mg INHALADOR | E84: FCO X 200 DOSIS | F84: 60 | G84: 44 | H84: 53 | I84: 63 | J84: 69 | K84: 94 | L84: =AVERAGE(F84:K84) -> 63.833333 | M84: 50 | N84: =M84-L84 -> -13.833333 | O84: =+L84*(0.0333333333333333)*$E$16 -> 17.022222 | P84: =+O84+((L84/30)*$E$16) -> 34.044444 | Q84: =IF(L84=0,"",IF(M84-P84<=0,"*","")) | R84: =+O84+((L84/30)*$E$17) -> 91.494444 | S84: =+(R84-O84)+(P84-M84) -> 58.516667 | T84: 100 | V84: =T84-U84 -> 100 | W84: CLINICAL PHARMA SAS
C85: 103100082 | D85: BROMURO DE IPRATROPIO 0.025% GOTAS | E85: FRASCO | F85: 0 | G85: 0 | H85: 0 | I85: 0 | J85: 0 | K85: 0 | L85: =AVERAGE(F85:K85) -> 0 | M85: 0 | N85: =M85-L85 -> 0 | O85: =+L85*(0.0333333333333333)*$E$16 -> 0 | P85: =+O85+((L85/30)*$E$16) -> 0 | Q85: =IF(L85=0,"",IF(M85-P85<=0,"*","")) | R85: =+O85+((L85/30)*$E$17) -> 0 | S85: =+(R85-O85)+(P85-M85) -> 0 | T85: =IF(S85>8999,(CEILING(S85,1000)),IF(S85>4999,(CEILING(S85,500)),IF(S85>899,(CEILING(S85,300)),IF(S85>99,(CEILING(S85,50)),IF(S85>49,(CEILING(S85,30)),IF(S85>9,(CEILING(S85,5)),IF(S85<=0,0,S85))))))) -> 0 | V85: =T85-U85 -> 0 | W85: #N/A
C86: 103100088 | D86: CALCIO + VIT D 1550mg-200 u.i TABLETA | E86: UNIDAD | F86: 6805 | G86: 7490 | H86: 7740 | I86: 7555 | J86: 7900 | K86: 21580 | L86: =AVERAGE(F86:K86) -> 9845 | M86: 2925 | N86: =M86-L86 -> -6920 | O86: =+L86*(0.0333333333333333)*$E$16 -> 2625.3333 | P86: =+O86+((L86/30)*$E$16) -> 5250.6667 | Q86: =IF(L86=0,"",IF(M86-P86<=0,"*","")) -> * | R86: =+O86+((L86/30)*$E$17) -> 14111.167 | S86: =+(R86-O86)+(P86-M86) -> 13811.5 | T86: =IF(S86>8999,(CEILING(S86,1000)),IF(S86>4999,(CEILING(S86,500)),IF(S86>899,(CEILING(S86,300)),IF(S86>99,(CEILING(S86,50)),IF(S86>49,(CEILING(S86,30)),IF(S86>9,(CEILING(S86,5)),IF(S86<=0,0,S86))))))) -> 14000 | V86: =T86-U86 -> 14000 | W86: SYD COLOMBIA S.A
C87: 103100089 | D87: CALCIO GLUCONATO 10% AMPOLLA | E87: UNIDAD | F87: 0 | G87: 0 | H87: 0 | I87: 0 | J87: 0 | K87: 0 | L87: =AVERAGE(F87:K87) -> 0 | M87: 0 | N87: =M87-L87 -> 0 | O87: =+L87*(0.0333333333333333)*$E$16 -> 0 | P87: =+O87+((L87/30)*$E$16) -> 0 | Q87: =IF(L87=0,"",IF(M87-P87<=0,"*","")) | R87: =+O87+((L87/30)*$E$17) -> 0 | S87: =+(R87-O87)+(P87-M87) -> 0 | T87: =IF(S87>8999,(CEILING(S87,1000)),IF(S87>4999,(CEILING(S87,500)),IF(S87>899,(CEILING(S87,300)),IF(S87>99,(CEILING(S87,50)),IF(S87>49,(CEILING(S87,30)),IF(S87>9,(CEILING(S87,5)),IF(S87<=0,0,S87))))))) -> 0 | V87: =T87-U87 -> 0 | W87: SYD COLOMBIA S.A
C88: 103100090 | D88: CALCITRIOL 0.25 mg CAPSULA | E88: UNIDAD | F88: 476 | G88: 515 | H88: 445 | I88: 415 | J88: 389 | K88: 299 | L88: =AVERAGE(F88:K88) -> 423.16667 | M88: 714 | N88: =M88-L88 -> 290.83333 | O88: =+L88*(0.0333333333333333)*$E$16 -> 112.84444 | P88: =+O88+((L88/30)*$E$16) -> 225.68889 | Q88: =IF(L88=0,"",IF(M88-P88<=0,"*","")) | R88: =+O88+((L88/30)*$E$17) -> 606.53889 | S88: =+(R88-O88)+(P88-M88) -> 5.3833333 | T88: 210 | V88: =T88-U88 -> 210 | W88: DISMERQ SAS
C89: 103100091 | D89: CALCITRIOL 0.5 MCG CAPSULAS | E89: UNIDAD | F89: 427 | G89: 365 | H89: 278 | I89: 333 | J89: 455 | K89: 720 | L89: =AVERAGE(F89:K89) -> 429.66667 | M89: 300 | N89: =M89-L89 -> -129.66667 | O89: =+L89*(0.0333333333333333)*$E$16 -> 114.57778 | P89: =+O89+((L89/30)*$E$16) -> 229.15556 | Q89: =IF(L89=0,"",IF(M89-P89<=0,"*","")) | R89: =+O89+((L89/30)*$E$17) -> 615.85556 | S89: =+(R89-O89)+(P89-M89) -> 430.43333 | T89: 600 | V89: =T89-U89 -> 600 | W89: DISMERQ SAS
C90: 103100092 | D90: CAPTOPRIL 25 mg TABLETA | E90: UNIDAD | F90: 60 | G90: 600 | H90: 60 | I90: 360 | J90: 130 | K90: 220 | L90: =AVERAGE(F90:K90) -> 238.33333 | M90: 270 | N90: =M90-L90 -> 31.666667 | O90: =+L90*(0.0333333333333333)*$E$16 -> 63.555556 | P90: =+O90+((L90/30)*$E$16) -> 127.11111 | Q90: =IF(L90=0,"",IF(M90-P90<=0,"*","")) | R90: =+O90+((L90/30)*$E$17) -> 341.61111 | S90: =+(R90-O90)+(P90-M90) -> 135.16667 | T90: 300 | V90: =T90-U90 -> 300 | W90: DISMERQ SAS
C91: 103100093 | D91: CAPTOPRIL 50 mg TABLETA | E91: UNIDAD | F91: 360 | G91: 240 | H91: 390 | I91: 510 | J91: 360 | K91: 420 | L91: =AVERAGE(F91:K91) -> 380 | M91: 480 | N91: 0 | O91: =+L91*(0.0333333333333333)*$E$16 -> 101.33333 | P91: =+O91+((L91/30)*$E$16) -> 202.66667 | Q91: =IF(L91=0,"",IF(M91-P91<=0,"*","")) | R91: =+O91+((L91/30)*$E$17) -> 544.66667 | S91: =+(R91-O91)+(P91-M91) -> 166 | T91: 300 | V91: =T91-U91 -> 300 | W91: CLINICAL PHARMA SAS
C92: 103100094 | D92: CARBAMAZEPINA 100mg/5ml SUSPENSIÓN ORAL | E92: FCO X 120 ML | F92: 6 | G92: 0 | H92: 0 | I92: 0 | J92: 0 | K92: 0 | L92: =AVERAGE(F92:K92) -> 1 | M92: 11 | N92: =M92-L92 -> 10 | O92: =+L92*(0.0333333333333333)*$E$16 -> 0.26666667 | P92: =+O92+((L92/30)*$E$16) -> 0.53333333 | Q92: =IF(L92=0,"",IF(M92-P92<=0,"*","")) | R92: =+O92+((L92/30)*$E$17) -> 1.4333333 | S92: =+(R92-O92)+(P92-M92) -> -9.3 | T92: =IF(S92>8999,(CEILING(S92,1000)),IF(S92>4999,(CEILING(S92,500)),IF(S92>899,(CEILING(S92,300)),IF(S92>99,(CEILING(S92,50)),IF(S92>49,(CEILING(S92,30)),IF(S92>9,(CEILING(S92,5)),IF(S92<=0,0,S92))))))) -> 0 | V92: =T92-U92 -> 0 | W92: comercializadora mediflash
C93: 103100095 | D93: CARBAMAZEPINA 200 mg TABLETA | E93: UNIDAD | F93: 1630 | G93: 1690 | H93: 2020 | I93: 3160 | J93: 1770 | K93: 2790 | L93: =AVERAGE(F93:K93) -> 2176.6667 | M93: 16910 | N93: =M93-L93 -> 14733.333 | O93: =+L93*(0.0333333333333333)*$E$16 -> 580.44444 | P93: =+O93+((L93/30)*$E$16) -> 1160.8889 | Q93: =IF(L93=0,"",IF(M93-P93<=0,"*","")) | R93: =+O93+((L93/30)*$E$17) -> 3119.8889 | S93: =+(R93-O93)+(P93-M93) -> -13209.667 | T93: =IF(S93>8999,(CEILING(S93,1000)),IF(S93>4999,(CEILING(S93,500)),IF(S93>899,(CEILING(S93,300)),IF(S93>99,(CEILING(S93,50)),IF(S93>49,(CEILING(S93,30)),IF(S93>9,(CEILING(S93,5)),IF(S93<=0,0,S93))))))) -> 0 | V93: =T93-U93 -> 0 | W93: SYD COLOMBIA S.A
C94: 103100096 | D94: CARBON ACTIVADO POLVO x 500 g | E94: SOBRE | F94: 0 | G94: 0 | H94: 0 | I94: 0 | J94: 0 | K94: 0 | L94: =AVERAGE(F94:K94) -> 0 | M94: 0 | N94: =M94-L94 -> 0 | O94: =+L94*(0.0333333333333333)*$E$16 -> 0 | P94: =+O94+((L94/30)*$E$16) -> 0 | Q94: =IF(L94=0,"",IF(M94-P94<=0,"*","")) | R94: =+O94+((L94/30)*$E$17) -> 0 | S94: =+(R94-O94)+(P94-M94) -> 0 | T94: =IF(S94>8999,(CEILING(S94,1000)),IF(S94>4999,(CEILING(S94,500)),IF(S94>899,(CEILING(S94,300)),IF(S94>99,(CEILING(S94,50)),IF(S94>49,(CEILING(S94,30)),IF(S94>9,(CEILING(S94,5)),IF(S94<=0,0,S94))))))) -> 0 | V94: =T94-U94 -> 0 | W94: comercializadora mediflash
C95: 103100097 | D95: CARBONATO DE CALCIO 600 mg TABLETA | E95: UNIDAD | F95: 3682 | G95: 3896 | H95: 3514 | I95: 3488 | J95: 4084 | K95: 5764 | L95: =AVERAGE(F95:K95) -> 4071.3333 | M95: 2928 | N95: =M95-L95 -> -1143.3333 | O95: =+L95*(0.0333333333333333)*$E$16 -> 1085.6889 | P95: =+O95+((L95/30)*$E$16) -> 2171.3778 | Q95: =IF(L95=0,"",IF(M95-P95<=0,"*","")) | R95: =+O95+((L95/30)*$E$17) -> 5835.5778 | S95: =+(R95-O95)+(P95-M95) -> 3993.2667 | T95: =IF(S95>8999,(CEILING(S95,1000)),IF(S95>4999,(CEILING(S95,500)),IF(S95>899,(CEILING(S95,300)),IF(S95>99,(CEILING(S95,50)),IF(S95>49,(CEILING(S95,30)),IF(S95>9,(CEILING(S95,5)),IF(S95<=0,0,S95))))))) -> 4200 | V95: =T95-U95 -> 4200 | W95: CLINICAL PHARMA SAS
C96: 103100098 | D96: CEFALEXINA 500 mg TABLETA | E96: UNIDAD | F96: 497 | G96: 443 | H96: 356 | I96: 321 | J96: 370 | K96: 476 | L96: =AVERAGE(F96:K96) -> 410.5 | M96: 924 | N96: =M96-L96 -> 513.5 | O96: =+L96*(0.0333333333333333)*$E$16 -> 109.46667 | P96: =+O96+((L96/30)*$E$16) -> 218.93333 | Q96: =IF(L96=0,"",IF(M96-P96<=0,"*","")) | R96: =+O96+((L96/30)*$E$17) -> 588.38333 | S96: =+(R96-O96)+(P96-M96) -> -226.15 | T96: =IF(S96>8999,(CEILING(S96,1000)),IF(S96>4999,(CEILING(S96,500)),IF(S96>899,(CEILING(S96,300)),IF(S96>99,(CEILING(S96,50)),IF(S96>49,(CEILING(S96,30)),IF(S96>9,(CEILING(S96,5)),IF(S96<=0,0,S96))))))) -> 0 | V96: =T96-U96 -> 0 | W96: DISMERQ SAS
C97: 103100099 | D97: CEFALEXINA 250 mg/5ml SUSPENSIÓN ORAL | E97: FCO X 60 ML | F97: 0 | G97: 3 | H97: 0 | I97: 0 | J97: 0 | K97: 0 | L97: =AVERAGE(F97:K97) -> 0.5 | M97: 14 | N97: =M97-L97 -> 13.5 | O97: =+L97*(0.0333333333333333)*$E$16 -> 0.13333333 | P97: =+O97+((L97/30)*$E$16) -> 0.26666667 | Q97: =IF(L97=0,"",IF(M97-P97<=0,"*","")) | R97: =+O97+((L97/30)*$E$17) -> 0.71666667 | S97: =+(R97-O97)+(P97-M97) -> -13.15 | T97: =IF(S97>8999,(CEILING(S97,1000)),IF(S97>4999,(CEILING(S97,500)),IF(S97>899,(CEILING(S97,300)),IF(S97>99,(CEILING(S97,50)),IF(S97>49,(CEILING(S97,30)),IF(S97>9,(CEILING(S97,5)),IF(S97<=0,0,S97))))))) -> 0 | V97: =T97-U97 -> 0 | W97: DISMERQ SAS
C98: 103100100 | D98: CEFALOTINA 1 gr AMPOLLA | E98: UNIDAD | F98: 0 | G98: 0 | H98: 0 | I98: 0 | J98: 0 | K98: 0 | L98: =AVERAGE(F98:K98) -> 0 | M98: 0 | N98: =M98-L98 -> 0 | O98: =+L98*(0.0333333333333333)*$E$16 -> 0 | P98: =+O98+((L98/30)*$E$16) -> 0 | Q98: =IF(L98=0,"",IF(M98-P98<=0,"*","")) | R98: =+O98+((L98/30)*$E$17) -> 0 | S98: =+(R98-O98)+(P98-M98) -> 0 | T98: =IF(S98>8999,(CEILING(S98,1000)),IF(S98>4999,(CEILING(S98,500)),IF(S98>899,(CEILING(S98,300)),IF(S98>99,(CEILING(S98,50)),IF(S98>49,(CEILING(S98,30)),IF(S98>9,(CEILING(S98,5)),IF(S98<=0,0,S98))))))) -> 0 | V98: =T98-U98 -> 0 | W98: comercializadora mediflash
C99: 103100103 | D99: CEFRADINA 500 mg TABLETA | E99: UNIDAD | F99: 0 | G99: 0 | H99: 0 | I99: 0 | J99: 0 | K99: 0 | L99: =AVERAGE(F99:K99) -> 0 | M99: 0 | N99: =M99-L99 -> 0 | O99: =+L99*(0.0333333333333333)*$E$16 -> 0 | P99: =+O99+((L99/30)*$E$16) -> 0 | Q99: =IF(L99=0,"",IF(M99-P99<=0,"*","")) | R99: =+O99+((L99/30)*$E$17) -> 0 | S99: =+(R99-O99)+(P99-M99) -> 0 | T99: =IF(S99>8999,(CEILING(S99,1000)),IF(S99>4999,(CEILING(S99,500)),IF(S99>899,(CEILING(S99,300)),IF(S99>99,(CEILING(S99,50)),IF(S99>49,(CEILING(S99,30)),IF(S99>9,(CEILING(S99,5)),IF(S99<=0,0,S99))))))) -> 0 | V99: =T99-U99 -> 0 | W99: CLINICAL PHARMA SAS
C100: 103100104 | D100: CEFTRIAXONA 1 gr AMPOLLA | E100: UNIDAD | F100: 0 | G100: 0 | H100: 0 | I100: 0 | J100: 0 | K100: 0 | L100: =AVERAGE(F100:K100) -> 0 | M100: 0 | N100: =M100-L100 -> 0 | O100: =+L100*(0.0333333333333333)*$E$16 -> 0 | P100: =+O100+((L100/30)*$E$16) -> 0 | Q100: =IF(L100=0,"",IF(M100-P100<=0,"*","")) | R100: =+O100+((L100/30)*$E$17) -> 0 | S100: =+(R100-O100)+(P100-M100) -> 0 | T100: =IF(S100>8999,(CEILING(S100,1000)),IF(S100>4999,(CEILING(S100,500)),IF(S100>899,(CEILING(S100,300)),IF(S100>99,(CEILING(S100,50)),IF(S100>49,(CEILING(S100,30)),IF(S100>9,(CEILING(S100,5)),IF(S100<=0,0,S100))))))) -> 0 | V100: =T100-U100 -> 0 | W100: DISMERQ SAS
C101: 103100107 | D101: CIPROFLOXACINA 100mg/10ml AMPOLLA | E101: UNIDAD | F101: 0 | G101: 0 | H101: 0 | I101: 0 | J101: 0 | K101: 0 | L101: =AVERAGE(F101:K101) -> 0 | M101: 0 | N101: =M101-L101 -> 0 | O101: =+L101*(0.0333333333333333)*$E$16 -> 0 | P101: =+O101+((L101/30)*$E$16) -> 0 | Q101: =IF(L101=0,"",IF(M101-P101<=0,"*","")) | R101: =+O101+((L101/30)*$E$17) -> 0 | S101: =+(R101-O101)+(P101-M101) -> 0 | T101: =IF(S101>8999,(CEILING(S101,1000)),IF(S101>4999,(CEILING(S101,500)),IF(S101>899,(CEILING(S101,300)),IF(S101>99,(CEILING(S101,50)),IF(S101>49,(CEILING(S101,30)),IF(S101>9,(CEILING(S101,5)),IF(S101<=0,0,S101))))))) -> 0 | V101: =T101-U101 -> 0 | W101: DISMERQ SAS
C102: 103100108 | D102: CIPROFLOXACINA 500 mg TABLETA | E102: UNIDAD | F102: 56 | G102: 138 | H102: 60 | I102: 88 | J102: 88 | K102: 80 | L102: =AVERAGE(F102:K102) -> 85 | M102: 680 | N102: =M102-L102 -> 595 | O102: =+L102*(0.0333333333333333)*$E$16 -> 22.666667 | P102: =+O102+((L102/30)*$E$16) -> 45.333333 | Q102: =IF(L102=0,"",IF(M102-P102<=0,"*","")) | R102: =+O102+((L102/30)*$E$17) -> 121.83333 | S102: =+(R102-O102)+(P102-M102) -> -535.5 | T102: =IF(S102>8999,(CEILING(S102,1000)),IF(S102>4999,(CEILING(S102,500)),IF(S102>899,(CEILING(S102,300)),IF(S102>99,(CEILING(S102,50)),IF(S102>49,(CEILING(S102,30)),IF(S102>9,(CEILING(S102,5)),IF(S102<=0,0,S102))))))) -> 0 | V102: =T102-U102 -> 0 | W102: DISMERQ SAS
C103: 103100110 | D103: CLARITROMICINA 500 mg TABLETA | E103: UNIDAD | F103: 66 | G103: 42 | H103: 0 | I103: 0 | J103: 0 | K103: 46 | L103: =AVERAGE(F103:K103) -> 25.666667 | M103: 62 | N103: =M103-L103 -> 36.333333 | O103: =+L103*(0.0333333333333333)*$E$16 -> 6.8444444 | P103: =+O103+((L103/30)*$E$16) -> 13.688889 | Q103: =IF(L103=0,"",IF(M103-P103<=0,"*","")) | R103: =+O103+((L103/30)*$E$17) -> 36.788889 | S103: =+(R103-O103)+(P103-M103) -> -18.366667 | T103: 50 | V103: =T103-U103 -> 50 | W103: comercializadora mediflash
C104: 103100111 | D104: CLINDAMICINA 600 mg/4ml AMPOLLA | E104: UNIDAD | F104: 0 | G104: 0 | H104: 0 | I104: 0 | J104: 0 | K104: 0 | L104: =AVERAGE(F104:K104) -> 0 | M104: 0 | N104: =M104-L104 -> 0 | O104: =+L104*(0.0333333333333333)*$E$16 -> 0 | P104: =+O104+((L104/30)*$E$16) -> 0 | Q104: =IF(L104=0,"",IF(M104-P104<=0,"*","")) | R104: =+O104+((L104/30)*$E$17) -> 0 | S104: =+(R104-O104)+(P104-M104) -> 0 | T104: =IF(S104>8999,(CEILING(S104,1000)),IF(S104>4999,(CEILING(S104,500)),IF(S104>899,(CEILING(S104,300)),IF(S104>99,(CEILING(S104,50)),IF(S104>49,(CEILING(S104,30)),IF(S104>9,(CEILING(S104,5)),IF(S104<=0,0,S104))))))) -> 0 | V104: =T104-U104 -> 0 | W104: SYD COLOMBIA S.A
...

Sheet CONSOLIDADO
B1: EMPRESA SOCIAL DEL ESTADO
B2: BELLOSALUD
B3: MUNICIPIO DE BELLO
B4: Nit. 811.007.148-5
B5: Carrera 42 No 20E 91
B6: Tel: 465 01 10 - 448 20 30
B8: ORDEN DE COMPRA | C8: ORDEN DE COMPRA
D9: EMPRESA SOCIAL DEL ESTADO BELLOSALUD
D10: NECESIDAD DE MEDICAMENTOS SERVICIOS FARMACEUTICOS RZP | Q10: Version: 1 | S10: Fecha: | T10: 46266
S11: Codigo: | T11: FA-F-006
Q12: Elaborado por: Farmacia
B13: MES: | Q13: AÑO:
B15: TIEMPO DE REPOSICIÓN (Tr): | D15: 15
B16: TIEMPO DE ADQUISICIÓN: | D16: 40
B17: TIEMPO DE ADQUISICIÓN: | D17: 40
B19: CODIGO | C19: ARTICULO | D19: U. MANEJO | E19: FEB | F19: MAR | G19: ABR | H19: MAY | I19: JUN | J19: JUL | K19: CONS.PROM. | L19: EXIST. | M19: NmE | N19: PR. | O19: Ctrl | P19: NME | Q19: CAP | R19: CANT
B20: 103118099 | C20: ACETAMINOFEN 1.5% (150mg/5ml) JARABE | D20: FCO X 60 ML | E20: ='ROSALPI '!E19+ZAMORA!F21+PARIS!F21 -> 57 | F20: ='ROSALPI '!F19+ZAMORA!G21+PARIS!G21 -> 31 | G20: ='ROSALPI '!G19+ZAMORA!H21+PARIS!H21 -> 27 | H20: ='ROSALPI '!H19+ZAMORA!I21+PARIS!I21 -> 78 | I20: ='ROSALPI '!I19+ZAMORA!J21+PARIS!J21 -> 63 | J20: ='ROSALPI '!J19+ZAMORA!K21+PARIS!K21 -> 53 | K20: =AVERAGE(E20,F20,G20,H20,I20,J20) -> 51.5 | L20: ='ROSALPI '!L19+ZAMORA!M21+PARIS!M21 -> 80 | M20: =+K20*(0.0333333333333333)*$D$15 -> 25.75 | N20: =+M20+((K20/30)*$D$15) -> 51.5 | O20: =IF(K20=0,"",IF(L20-N20<=0,"*","")) | P20: =+M20+((K20/30)*$D$16) -> 94.416667 | Q20: =+(P20-M20)+(N20-L20) -> 40.166667 | R20: =+'ROSALPI '!T19+ZAMORA!U21+PARIS!T21 -> 30 | S20: 1550 | T20: 286750
B21: 103118093 | C21: ACETAMINOFEN 100 mg/ml SOLUCIÓN ORAL (GOTAS) | D21: FCO X 30 ML | E21: ='ROSALPI '!E20+ZAMORA!F22+PARIS!F22 -> 0 | F21: ='ROSALPI '!F20+ZAMORA!G22+PARIS!G22 -> 0 | G21: ='ROSALPI '!G20+ZAMORA!H22+PARIS!H22 -> 0 | H21: ='ROSALPI '!H20+ZAMORA!I22+PARIS!I22 -> 0 | I21: ='ROSALPI '!I20+ZAMORA!J22+PARIS!J22 -> 1 | J21: ='ROSALPI '!J20+ZAMORA!K22+PARIS!K22 -> 0 | K21: =AVERAGE(E21,F21,G21,H21,I21,J21) -> 0.16666667 | L21: ='ROSALPI '!L20+ZAMORA!M22+PARIS!M22 -> 3 | M21: =+K21*(0.0333333333333333)*$D$15 -> 0.083333333 | N21: =+M21+((K21/30)*$D$15) -> 0.16666667 | O21: =IF(K21=0,"",IF(L21-N21<=0,"*","")) | P21: =+M21+((K21/30)*$D$16) -> 0.30555556 | Q21: =+(P21-M21)+(N21-L21) -> -2.6111111 | R21: =+'ROSALPI '!T20+ZAMORA!U22+PARIS!T22 -> 0 | S21: 1710 | T21: 0
B22: 103118092 | C22: ACETAMINOFEN 500 mg TABLETA | D22: UNIDAD | E22: ='ROSALPI '!E21+ZAMORA!F23+PARIS!F23 -> 42222 | F22: ='ROSALPI '!F21+ZAMORA!G23+PARIS!G23 -> 34449 | G22: ='ROSALPI '!G21+ZAMORA!H23+PARIS!H23 -> 34539 | H22: ='ROSALPI '!H21+ZAMORA!I23+PARIS!I23 -> 34878 | I22: ='ROSALPI '!I21+ZAMORA!J23+PARIS!J23 -> 32526 | J22: ='ROSALPI '!J21+ZAMORA!K23+PARIS!K23 -> 53021 | K22: =AVERAGE(E22,F22,G22,H22,I22,J22) -> 38605.833 | L22: ='ROSALPI '!L21+ZAMORA!M23+PARIS!M23 -> 42427 | M22: =+K22*(0.0333333333333333)*$D$15 -> 19302.917 | N22: =+M22+((K22/30)*$D$15) -> 38605.833 | O22: =IF(K22=0,"",IF(L22-N22<=0,"*","")) | P22: =+M22+((K22/30)*$D$16) -> 70777.361 | Q22: =+(P22-M22)+(N22-L22) -> 47653.278 | R22: =+'ROSALPI '!T21+ZAMORA!U23+PARIS!T23 -> 33000 | S22: 37 | T22: 3330000
B23: 103113026 | C23: ACETATO DE ALUMINIO POLVO x 5mg SOB | D23: SOBRES | E23: ='ROSALPI '!#REF!+ZAMORA!#REF!+PARIS!F24 -> #REF! | F23: ='ROSALPI '!#REF!+ZAMORA!#REF!+PARIS!G24 -> #REF! | G23: ='ROSALPI '!#REF!+ZAMORA!#REF!+PARIS!H24 -> #REF! | H23: ='ROSALPI '!#REF!+ZAMORA!#REF!+PARIS!I24 -> #REF! | I23: ='ROSALPI '!#REF!+ZAMORA!#REF!+PARIS!J24 -> #REF! | J23: ='ROSALPI '!#REF!+ZAMORA!#REF!+PARIS!K24 -> #REF! | K23: =AVERAGE(E23,F23,G23,H23,I23,J23) -> #REF! | L23: ='ROSALPI '!#REF!+ZAMORA!#REF!+PARIS!M24 -> #REF! | M23: =+K23*(0.0333333333333333)*$D$15 -> #REF! | N23: =+M23+((K23/30)*$D$15) -> #REF! | O23: =IF(K23=0,"",IF(L23-N23<=0,"*","")) -> #REF! | P23: =+M23+((K23/30)*$D$16) -> #REF! | Q23: =+(P23-M23)+(N23-L23) -> #REF! | R23: =+'ROSALPI '!#REF!+ZAMORA!#REF!+PARIS!T24 -> #REF! | S23: 0 | T23: 0
B24: 103112150 | C24: ACETAZOLAMIDA 250 mg TAB | D24: TABLETA | E24: ='ROSALPI '!#REF!+ZAMORA!#REF!+PARIS!F25 -> #REF! | F24: ='ROSALPI '!#REF!+ZAMORA!#REF!+PARIS!G25 -> #REF! | G24: ='ROSALPI '!#REF!+ZAMORA!#REF!+PARIS!H25 -> #REF! | H24: ='ROSALPI '!#REF!+ZAMORA!#REF!+PARIS!I25 -> #REF! | I24: ='ROSALPI '!#REF!+ZAMORA!#REF!+PARIS!J25 -> #REF! | J24: ='ROSALPI '!#REF!+ZAMORA!#REF!+PARIS!K25 -> #REF! | K24: =AVERAGE(E24,F24,G24,H24,I24,J24) -> #REF! | L24: ='ROSALPI '!#REF!+ZAMORA!#REF!+PARIS!M25 -> #REF! | M24: =+K24*(0.0333333333333333)*$D$15 -> #REF! | N24: =+M24+((K24/30)*$D$15) -> #REF! | O24: =IF(K24=0,"",IF(L24-N24<=0,"*","")) -> #REF! | P24: =+M24+((K24/30)*$D$16) -> #REF! | Q24: =+(P24-M24)+(N24-L24) -> #REF! | R24: =+'ROSALPI '!#REF!+ZAMORA!#REF!+PARIS!T25 -> #REF! | S24: 0 | T24: 0
B25: 103118100 | C25: ACETILCISTEINA 200 mg POLVO | D25: SOBRE | E25: ='ROSALPI '!#REF!+ZAMORA!#REF!+PARIS!F26 -> #REF! | F25: ='ROSALPI '!#REF!+ZAMORA!#REF!+PARIS!G26 -> #REF! | G25: ='ROSALPI '!#REF!+ZAMORA!#REF!+PARIS!H26 -> #REF! | H25: ='ROSALPI '!#REF!+ZAMORA!#REF!+PARIS!I26 -> #REF! | I25: ='ROSALPI '!#REF!+ZAMORA!#REF!+PARIS!J26 -> #REF! | J25: ='ROSALPI '!#REF!+ZAMORA!#REF!+PARIS!K26 -> #REF! | K25: =AVERAGE(E25,F25,G25,H25,I25,J25) -> #REF! | L25: ='ROSALPI '!#REF!+ZAMORA!#REF!+PARIS!M26 -> #REF! | M25: =+K25*(0.0333333333333333)*$D$15 -> #REF! | N25: =+M25+((K25/30)*$D$15) -> #REF! | O25: =IF(K25=0,"",IF(L25-N25<=0,"*","")) -> #REF! | P25: =+M25+((K25/30)*$D$16) -> #REF! | Q25: =+(P25-M25)+(N25-L25) -> #REF! | R25: =+'ROSALPI '!#REF!+ZAMORA!#REF!+PARIS!T26 -> #REF! | S25: 0 | T25: 0
B26: 103104477 | C26: ACIDO NALIDIXICO 250 mg SUSP. | D26: FRASCO | E26: ='ROSALPI '!#REF!+ZAMORA!#REF!+PARIS!F27 -> #REF! | F26: ='ROSALPI '!#REF!+ZAMORA!#REF!+PARIS!G27 -> #REF! | G26: ='ROSALPI '!#REF!+ZAMORA!#REF!+PARIS!H27 -> #REF! | H26: ='ROSALPI '!#REF!+ZAMORA!#REF!+PARIS!I27 -> #REF! | I26: ='ROSALPI '!#REF!+ZAMORA!#REF!+PARIS!J27 -> #REF! | J26: ='ROSALPI '!#REF!+ZAMORA!#REF!+PARIS!K27 -> #REF! | K26: =AVERAGE(E26,F26,G26,H26,I26,J26) -> #REF! | L26: ='ROSALPI '!#REF!+ZAMORA!#REF!+PARIS!M27 -> #REF! | M26: =+K26*(0.0333333333333333)*$D$15 -> #REF! | N26: =+M26+((K26/30)*$D$15) -> #REF! | O26: =IF(K26=0,"",IF(L26-N26<=0,"*","")) -> #REF! | P26: =+M26+((K26/30)*$D$16) -> #REF! | Q26: =+(P26-M26)+(N26-L26) -> #REF! | R26: =+'ROSALPI '!#REF!+ZAMORA!#REF!+PARIS!T27 -> #REF! | S26: 0 | T26: 0
B27: 103107271 | C27: ACIDO TRICLOROACETICO 85% x 10 ml SLN. | D27: FRASCO X 50 ML | E27: ='ROSALPI '!#REF!+ZAMORA!#REF!+PARIS!F28 -> #REF! | F27: ='ROSALPI '!#REF!+ZAMORA!#REF!+PARIS!G28 -> #REF! | G27: ='ROSALPI '!#REF!+ZAMORA!#REF!+PARIS!H28 -> #REF! | H27: ='ROSALPI '!#REF!+ZAMORA!#REF!+PARIS!I28 -> #REF! | I27: ='ROSALPI '!#REF!+ZAMORA!#REF!+PARIS!J28 -> #REF! | J27: ='ROSALPI '!#REF!+ZAMORA!#REF!+PARIS!K28 -> #REF! | K27: =AVERAGE(E27,F27,G27,H27,I27,J27) -> #REF! | L27: ='ROSALPI '!#REF!+ZAMORA!#REF!+PARIS!M28 -> #REF! | M27: =+K27*(0.0333333333333333)*$D$15 -> #REF! | N27: =+M27+((K27/30)*$D$15) -> #REF! | O27: =IF(K27=0,"",IF(L27-N27<=0,"*","")) -> #REF! | P27: =+M27+((K27/30)*$D$16) -> #REF! | Q27: =+(P27-M27)+(N27-L27) -> #REF! | R27: =+'ROSALPI '!#REF!+ZAMORA!#REF!+PARIS!T28 -> #REF! | S27: 0 | T27: 0
B28: 103118106 | C28: ACIDO ACETIL SALICILICO 100 mg TABLETA | D28: UNIDAD | E28: ='ROSALPI '!E22+ZAMORA!F24+PARIS!F29 -> 7635 | F28: ='ROSALPI '!F22+ZAMORA!G24+PARIS!G29 -> 7360 | G28: ='ROSALPI '!G22+ZAMORA!H24+PARIS!H29 -> 7635 | H28: ='ROSALPI '!H22+ZAMORA!I24+PARIS!I29 -> 6627 | I28: ='ROSALPI '!I22+ZAMORA!J24+PARIS!J29 -> 6468 | J28: ='ROSALPI '!J22+ZAMORA!K24+PARIS!K29 -> 8475 | K28: =AVERAGE(E28,F28,G28,H28,I28,J28) -> 7366.6667 | L28: ='ROSALPI '!L22+ZAMORA!M24+PARIS!M29 -> 9758 | M28: =+K28*(0.0333333333333333)*$D$15 -> 3683.3333 | N28: =+M28+((K28/30)*$D$15) -> 7366.6667 | O28: =IF(K28=0,"",IF(L28-N28<=0,"*","")) | P28: =+M28+((K28/30)*$D$16) -> 13505.556 | Q28: =+(P28-M28)+(N28-L28) -> 7430.8889 | R28: =+'ROSALPI '!T22+ZAMORA!U24+PARIS!T29 -> 3000 | S28: 19 | T28: 703000
B29: 103120085 | C29: ACIDO ASCORBICO 10% SOLUCIÓN ORAL | D29: FCO X 30 ML | E29: ='ROSALPI '!E23+ZAMORA!F25+PARIS!F30 -> 5 | F29: ='ROSALPI '!F23+ZAMORA!G25+PARIS!G30 -> 3 | G29: ='ROSALPI '!G23+ZAMORA!H25+PARIS!H30 -> 2 | H29: ='ROSALPI '!H23+ZAMORA!I25+PARIS!I30 -> 1 | I29: ='ROSALPI '!I23+ZAMORA!J25+PARIS!J30 -> 3 | J29: ='ROSALPI '!J23+ZAMORA!K25+PARIS!K30 -> 13 | K29: =AVERAGE(E29,F29,G29,H29,I29,J29) -> 4.5 | L29: ='ROSALPI '!L23+ZAMORA!M25+PARIS!M30 -> 4 | M29: =+K29*(0.0333333333333333)*$D$15 -> 2.25 | N29: =+M29+((K29/30)*$D$15) -> 4.5 | O29: =IF(K29=0,"",IF(L29-N29<=0,"*","")) -> * | P29: =+M29+((K29/30)*$D$16) -> 8.25 | Q29: =+(P29-M29)+(N29-L29) -> 6.5 | R29: =+'ROSALPI '!T23+ZAMORA!U25+PARIS!T30 -> 3 | S29: 2900 | T29: 121800
B30: 103120100 | C30: ACIDO ASCORBICO 500 mg TABLETA | D30: UNIDAD | E30: ='ROSALPI '!E24+ZAMORA!F26+PARIS!F31 -> 63 | F30: ='ROSALPI '!F24+ZAMORA!G26+PARIS!G31 -> 106 | G30: ='ROSALPI '!G24+ZAMORA!H26+PARIS!H31 -> 151 | H30: ='ROSALPI '!H24+ZAMORA!I26+PARIS!I31 -> 165 | I30: ='ROSALPI '!I24+ZAMORA!J26+PARIS!J31 -> 203 | J30: ='ROSALPI '!J24+ZAMORA!K26+PARIS!K31 -> 197 | K30: =AVERAGE(E30,F30,G30,H30,I30,J30) -> 147.5 | L30: ='ROSALPI '!L24+ZAMORA!M26+PARIS!M31 -> 157 | M30: =+K30*(0.0333333333333333)*$D$15 -> 73.75 | N30: =+M30+((K30/30)*$D$15) -> 147.5 | O30: =IF(K30=0,"",IF(L30-N30<=0,"*","")) | P30: =+M30+((K30/30)*$D$16) -> 270.41667 | Q30: =+(P30-M30)+(N30-L30) -> 187.16667 | R30: =+'ROSALPI '!T24+ZAMORA!U26+PARIS!T31 -> 200 | S30: 0 | T30: 0
B31: 103120101 | C31: ACIDO ASCORBICO 500 MG TABLETA MASTICABLE | D31: UNIDAD | E31: ='ROSALPI '!E25+ZAMORA!F27+PARIS!F32 -> 4430 | F31: ='ROSALPI '!F25+ZAMORA!G27+PARIS!G32 -> 3585 | G31: ='ROSALPI '!G25+ZAMORA!H27+PARIS!H32 -> 4155 | H31: ='ROSALPI '!H25+ZAMORA!I27+PARIS!I32 -> 3830 | I31: ='ROSALPI '!I25+ZAMORA!J27+PARIS!J32 -> 3540 | J31: ='ROSALPI '!J25+ZAMORA!K27+PARIS!K32 -> 4630 | K31: =AVERAGE(E31,F31,G31,H31,I31,J31) -> 4028.3333 | L31: ='ROSALPI '!L25+ZAMORA!M27+PARIS!M32 -> 4343 | M31: =+K31*(0.0333333333333333)*$D$15 -> 2014.1667 | N31: =+M31+((K31/30)*$D$15) -> 4028.3333 | O31: =IF(K31=0,"",IF(L31-N31<=0,"*","")) | P31: =+M31+((K31/30)*$D$16) -> 7385.2778 | Q31: =+(P31-M31)+(N31-L31) -> 5056.4444 | R31: =+'ROSALPI '!T25+ZAMORA!U27+PARIS!T32 -> 4500 | S31: 112 | T31: 224000
B32: 103120091 | C32: ACIDO FOLICO 1 mg TABLETA | D32: UNIDAD | E32: ='ROSALPI '!E26+ZAMORA!F28+PARIS!F33 -> 1620 | F32: ='ROSALPI '!F26+ZAMORA!G28+PARIS!G33 -> 1396 | G32: ='ROSALPI '!G26+ZAMORA!H28+PARIS!H33 -> 1472 | H32: ='ROSALPI '!H26+ZAMORA!I28+PARIS!I33 -> 1856 | I32: ='ROSALPI '!I26+ZAMORA!J28+PARIS!J33 -> 1361 | J32: ='ROSALPI '!J26+ZAMORA!K28+PARIS!K33 -> 1840 | K32: =AVERAGE(E32,F32,G32,H32,I32,J32) -> 1590.8333 | L32: ='ROSALPI '!L26+ZAMORA!M28+PARIS!M33 -> 2308 | M32: =+K32*(0.0333333333333333)*$D$15 -> 795.41667 | N32: =+M32+((K32/30)*$D$15) -> 1590.8333 | O32: =IF(K32=0,"",IF(L32-N32<=0,"*","")) | P32: =+M32+((K32/30)*$D$16) -> 2916.5278 | Q32: =+(P32-M32)+(N32-L32) -> 1403.9444 | R32: =+'ROSALPI '!T26+ZAMORA!U28+PARIS!T33 -> 510 | S32: 27 | T32: 143100
B33: 103120093 | C33: ACIDO FOLICO 5MG TABLETAS | D33: UNIDAD | E33: ='ROSALPI '!E27+ZAMORA!F29+PARIS!F35 -> 60 | F33: ='ROSALPI '!F27+ZAMORA!G29+PARIS!G35 -> 159 | G33: ='ROSALPI '!G27+ZAMORA!H29+PARIS!H35 -> 187 | H33: ='ROSALPI '!H27+ZAMORA!I29+PARIS!I35 -> 90 | I33: ='ROSALPI '!I27+ZAMORA!J29+PARIS!J35 -> 52 | J33: ='ROSALPI '!J27+ZAMORA!K29+PARIS!K35 -> 30 | K33: =AVERAGE(E33,F33,G33,H33,I33,J33) -> 96.333333 | L33: ='ROSALPI '!L27+ZAMORA!M29+PARIS!M35 -> 655 | M33: =+K33*(0.0333333333333333)*$D$15 -> 48.166667 | N33: =+M33+((K33/30)*$D$15) -> 96.333333 | O33: =IF(K33=0,"",IF(L33-N33<=0,"*","")) | P33: =+M33+((K33/30)*$D$16) -> 176.61111 | Q33: =+(P33-M33)+(N33-L33) -> -430.22222 | R33: =+'ROSALPI '!T27+ZAMORA!U29+PARIS!T35 -> 0 | S33: 108 | T33: 108000
B34: 103113305 | C34: ACIDO FUSIDICO 2% CREMA | D34: TUBO | E34: ='ROSALPI '!#REF!+ZAMORA!F30+PARIS!F36 -> #REF! | F34: ='ROSALPI '!#REF!+ZAMORA!G30+PARIS!G36 -> #REF! | G34: ='ROSALPI '!#REF!+ZAMORA!H30+PARIS!H36 -> #REF! | H34: ='ROSALPI '!#REF!+ZAMORA!I30+PARIS!I36 -> #REF! | I34: ='ROSALPI '!#REF!+ZAMORA!J30+PARIS!J36 -> #REF! | J34: ='ROSALPI '!#REF!+ZAMORA!K30+PARIS!K36 -> #REF! | K34: =AVERAGE(E34,F34,G34,H34,I34,J34) -> #REF! | L34: ='ROSALPI '!#REF!+ZAMORA!M30+PARIS!M36 -> #REF! | M34: =+K34*(0.0333333333333333)*$D$15 -> #REF! | N34: =+M34+((K34/30)*$D$15) -> #REF! | O34: =IF(K34=0,"",IF(L34-N34<=0,"*","")) -> #REF! | P34: =+M34+((K34/30)*$D$16) -> #REF! | Q34: =+(P34-M34)+(N34-L34) -> #REF! | R34: =+'ROSALPI '!#REF!+ZAMORA!U30+PARIS!T36 -> #REF! | S34: 0 | T34: 0
B35: 103113150 | C35: ACIDO RETINOICO 0.05% CREMA | D35: POTE X 30 g | E35: ='ROSALPI '!E28+ZAMORA!F31+PARIS!F37 -> 3 | F35: ='ROSALPI '!F28+ZAMORA!G31+PARIS!G37 -> 2 | G35: ='ROSALPI '!G28+ZAMORA!H31+PARIS!H37 -> 2 | H35: ='ROSALPI '!H28+ZAMORA!I31+PARIS!I37 -> 0 | I35: ='ROSALPI '!I28+ZAMORA!J31+PARIS!J37 -> 0 | J35: ='ROSALPI '!J28+ZAMORA!K31+PARIS!K37 -> 0 | K35: =AVERAGE(E35,F35,G35,H35,I35,J35) -> 1.1666667 | L35: ='ROSALPI '!L28+ZAMORA!M31+PARIS!M37 -> 6 | M35: =+K35*(0.0333333333333333)*$D$15 -> 0.58333333 | N35: =+M35+((K35/30)*$D$15) -> 1.1666667 | O35: =IF(K35=0,"",IF(L35-N35<=0,"*","")) | P35: =+M35+((K35/30)*$D$16) -> 2.1388889 | Q35: =+(P35-M35)+(N35-L35) -> -3.2777778 | R35: =+'ROSALPI '!T28+ZAMORA!U31+PARIS!T37 -> 0 | S35: 8800 | T35: 176000
B36: 103113151 | C36: ACIDO RETINOICO 0.05% LOCIÓN | D36: FCO X 60 ML | E36: ='ROSALPI '!E29+ZAMORA!F32+PARIS!F38 -> 3360 | F36: ='ROSALPI '!F29+ZAMORA!G32+PARIS!G38 -> 2950 | G36: ='ROSALPI '!G29+ZAMORA!H32+PARIS!H38 -> 2440 | H36: ='ROSALPI '!H29+ZAMORA!I32+PARIS!I38 -> 2160 | I36: ='ROSALPI '!I29+ZAMORA!J32+PARIS!J38 -> 2550 | J36: ='ROSALPI '!J29+ZAMORA!K32+PARIS!K38 -> 3330 | K36: =AVERAGE(E36,F36,G36,H36,I36,J36) -> 2798.3333 | L36: ='ROSALPI '!L29+ZAMORA!M32+PARIS!M38 -> 2909 | M36: =+K36*(0.0333333333333333)*$D$15 -> 1399.1667 | N36: =+M36+((K36/30)*$D$15) -> 2798.3333 | O36: =IF(K36=0,"",IF(L36-N36<=0,"*","")) | P36: =+M36+((K36/30)*$D$16) -> 5130.2778 | Q36: =+(P36-M36)+(N36-L36) -> 3620.4444 | R36: =+'ROSALPI '!T29+ZAMORA!U32+PARIS!T38 -> 2000 | S36: 194 | T36: 970
B37: 103118228 | C37: ACIDO VALPROICO 250 mg CAPSULA | D37: UNIDAD | E37: ='ROSALPI '!E30+ZAMORA!F33+PARIS!F39 -> 41 | F37: ='ROSALPI '!F30+ZAMORA!G33+PARIS!G39 -> 16 | G37: ='ROSALPI '!G30+ZAMORA!H33+PARIS!H39 -> 21 | H37: ='ROSALPI '!H30+ZAMORA!I33+PARIS!I39 -> 33 | I37: ='ROSALPI '!I30+ZAMORA!J33+PARIS!J39 -> 31 | J37: ='ROSALPI '!J30+ZAMORA!K33+PARIS!K39 -> 44 | K37: =AVERAGE(E37,F37,G37,H37,I37,J37) -> 31 | L37: ='ROSALPI '!L30+ZAMORA!M33+PARIS!M39 -> 111 | M37: =+K37*(0.0333333333333333)*$D$15 -> 15.5 | N37: =+M37+((K37/30)*$D$15) -> 31 | O37: =IF(K37=0,"",IF(L37-N37<=0,"*","")) | P37: =+M37+((K37/30)*$D$16) -> 56.833333 | Q37: =+(P37-M37)+(N37-L37) -> -38.666667 | R37: =+'ROSALPI '!T30+ZAMORA!U33+PARIS!T39 -> 10 | S37: 165 | T37: 2953500
B38: 103110814 | C38: ACIDO VALPROICO 250 mg/5ml JARABE | D38: FCO X 120 ML | E38: ='ROSALPI '!E31+ZAMORA!F35+PARIS!F40 -> 477 | F38: ='ROSALPI '!F31+ZAMORA!G35+PARIS!G40 -> 330 | G38: ='ROSALPI '!G31+ZAMORA!H35+PARIS!H40 -> 241 | H38: ='ROSALPI '!H31+ZAMORA!I35+PARIS!I40 -> 241 | I38: ='ROSALPI '!I31+ZAMORA!J35+PARIS!J40 -> 240 | J38: ='ROSALPI '!J31+ZAMORA!K35+PARIS!K40 -> 422 | K38: =AVERAGE(E38,F38,G38,H38,I38,J38) -> 325.16667 | L38: ='ROSALPI '!L31+ZAMORA!M35+PARIS!M40 -> 446 | M38: =+K38*(0.0333333333333333)*$D$15 -> 162.58333 | N38: =+M38+((K38/30)*$D$15) -> 325.16667 | O38: =IF(K38=0,"",IF(L38-N38<=0,"*","")) | P38: =+M38+((K38/30)*$D$16) -> 596.13889 | Q38: =+(P38-M38)+(N38-L38) -> 312.72222 | R38: =+'ROSALPI '!T31+ZAMORA!U35+PARIS!T40 -> 200 | S38: 4687 | T38: 445265
B39: 103112175 | C39: ACYCLOVIR UNGUENTO OFT. | D39: TUBO | E39: ='ROSALPI '!#REF!+ZAMORA!F36+PARIS!F41 -> #REF! | F39: ='ROSALPI '!#REF!+ZAMORA!G36+PARIS!G41 -> #REF! | G39: ='ROSALPI '!#REF!+ZAMORA!H36+PARIS!H41 -> #REF! | H39: ='ROSALPI '!#REF!+ZAMORA!I36+PARIS!I41 -> #REF! | I39: ='ROSALPI '!#REF!+ZAMORA!J36+PARIS!J41 -> #REF! | J39: ='ROSALPI '!#REF!+ZAMORA!K36+PARIS!K41 -> #REF! | K39: =AVERAGE(E39,F39,G39,H39,I39,J39) -> #REF! | L39: ='ROSALPI '!#REF!+ZAMORA!M36+PARIS!M41 -> #REF! | M39: =+K39*(0.0333333333333333)*$D$15 -> #REF! | N39: =+M39+((K39/30)*$D$15) -> #REF! | O39: =IF(K39=0,"",IF(L39-N39<=0,"*","")) -> #REF! | P39: =+M39+((K39/30)*$D$16) -> #REF! | Q39: =+(P39-M39)+(N39-L39) -> #REF! | R39: =+'ROSALPI '!#REF!+ZAMORA!U36+PARIS!T41 -> #REF! | S39: 0 | T39: 0
B40: 103104633 | C40: ACYCLOVIR 200 mg TABLETA | D40: UNIDAD | E40: ='ROSALPI '!E33+ZAMORA!F37+PARIS!F42 -> 48 | F40: ='ROSALPI '!F33+ZAMORA!G37+PARIS!G42 -> 31 | G40: ='ROSALPI '!G33+ZAMORA!H37+PARIS!H42 -> 31 | H40: ='ROSALPI '!H33+ZAMORA!I37+PARIS!I42 -> 44 | I40: ='ROSALPI '!I33+ZAMORA!J37+PARIS!J42 -> 40 | J40: ='ROSALPI '!J33+ZAMORA!K37+PARIS!K42 -> 38 | K40: =AVERAGE(E40,F40,G40,H40,I40,J40) -> 38.666667 | L40: ='ROSALPI '!L33+ZAMORA!M37+PARIS!M42 -> 199 | M40: =+K40*(0.0333333333333333)*$D$15 -> 19.333333 | N40: =+M40+((K40/30)*$D$15) -> 38.666667 | O40: =IF(K40=0,"",IF(L40-N40<=0,"*","")) | P40: =+M40+((K40/30)*$D$16) -> 70.888889 | Q40: =+(P40-M40)+(N40-L40) -> -108.77778 | R40: =+'ROSALPI '!T33+ZAMORA!U37+PARIS!T42 -> 0 | S40: 110 | T40: 110000
B41: 103104640 | C41: ACYCLOVIR 5% (5MG/100) CREMA | D41: TUBO | E41: ='ROSALPI '!#REF!+ZAMORA!F38+PARIS!F43 -> #REF! | F41: ='ROSALPI '!#REF!+ZAMORA!G38+PARIS!G43 -> #REF! | G41: ='ROSALPI '!#REF!+ZAMORA!H38+PARIS!H43 -> #REF! | H41: ='ROSALPI '!#REF!+ZAMORA!I38+PARIS!I43 -> #REF! | I41: ='ROSALPI '!#REF!+ZAMORA!J38+PARIS!J43 -> #REF! | J41: ='ROSALPI '!#REF!+ZAMORA!K38+PARIS!K43 -> #REF! | K41: =AVERAGE(E41,F41,G41,H41,I41,J41) -> #REF! | L41: ='ROSALPI '!#REF!+ZAMORA!M38+PARIS!M43 -> #REF! | M41: =+K41*(0.0333333333333333)*$D$15 -> #REF! | N41: =+M41+((K41/30)*$D$15) -> #REF! | O41: =IF(K41=0,"",IF(L41-N41<=0,"*","")) -> #REF! | P41: =+M41+((K41/30)*$D$16) -> #REF! | Q41: =+(P41-M41)+(N41-L41) -> #REF! | R41: =+'ROSALPI '!#REF!+ZAMORA!U38+PARIS!T43 -> #REF! | S41: 0 | T41: 0
B42: 103104634 | C42: ACYCLOVIR 800 mg TABLETA | D42: UNIDAD | E42: ='ROSALPI '!E34+ZAMORA!F39+PARIS!F44 -> 250 | F42: ='ROSALPI '!F34+ZAMORA!G39+PARIS!G44 -> 90 | G42: ='ROSALPI '!G34+ZAMORA!H39+PARIS!H44 -> 360 | H42: ='ROSALPI '!H34+ZAMORA!I39+PARIS!I44 -> 190 | I42: ='ROSALPI '!I34+ZAMORA!J39+PARIS!J44 -> 141 | J42: ='ROSALPI '!J34+ZAMORA!K39+PARIS!K44 -> 82 | K42: =AVERAGE(E42,F42,G42,H42,I42,J42) -> 185.5 | L42: ='ROSALPI '!L34+ZAMORA!M39+PARIS!M44 -> 353 | M42: =+K42*(0.0333333333333333)*$D$15 -> 92.75 | N42: =+M42+((K42/30)*$D$15) -> 185.5 | O42: =IF(K42=0,"",IF(L42-N42<=0,"*","")) | P42: =+M42+((K42/30)*$D$16) -> 340.08333 | Q42: =+(P42-M42)+(N42-L42) -> 79.833333 | R42: =+'ROSALPI '!T34+ZAMORA!U39+PARIS!T44 -> 0 | S42: 548 | T42: 526080
B43: 103107062 | C43: ADENOSINA 6 MG / 2 ML | D43: INYECTABLE | E43: ='ROSALPI '!E35+ZAMORA!F40+PARIS!F46 -> 1005 | F43: ='ROSALPI '!F35+ZAMORA!G40+PARIS!G46 -> 1800 | G43: ='ROSALPI '!G35+ZAMORA!H40+PARIS!H46 -> 2040 | H43: ='ROSALPI '!H35+ZAMORA!I40+PARIS!I46 -> 1710 | I43: ='ROSALPI '!I35+ZAMORA!J40+PARIS!J46 -> 1920 | J43: ='ROSALPI '!J35+ZAMORA!K40+PARIS!K46 -> 2475 | K43: =AVERAGE(E43,F43,G43,H43,I43,J43) -> 1825 | L43: ='ROSALPI '!L35+ZAMORA!M40+PARIS!M46 -> 945 | M43: =+K43*(0.0333333333333333)*$D$15 -> 912.5 | N43: =+M43+((K43/30)*$D$15) -> 1825 | O43: =IF(K43=0,"",IF(L43-N43<=0,"*","")) -> * | P43: =+M43+((K43/30)*$D$16) -> 3345.8333 | Q43: =+(P43-M43)+(N43-L43) -> 3313.3333 | R43: =+'ROSALPI '!T35+ZAMORA!U40+PARIS!T46 -> 2400 | S43: 20000 | T43: 0
B44: 103104631 | C44: ADRENALINA 1mg/ml AMPOLLA | D44: UNIDAD | E44: ='ROSALPI '!E36+ZAMORA!F41+PARIS!F47 -> 502 | F44: ='ROSALPI '!F36+ZAMORA!G41+PARIS!G47 -> 399 | G44: ='ROSALPI '!G36+ZAMORA!H41+PARIS!H47 -> 311 | H44: ='ROSALPI '!H36+ZAMORA!I41+PARIS!I47 -> 544 | I44: ='ROSALPI '!I36+ZAMORA!J41+PARIS!J47 -> 323 | J44: ='ROSALPI '!J36+ZAMORA!K41+PARIS!K47 -> 343 | K44: =AVERAGE(E44,F44,G44,H44,I44,J44) -> 403.66667 | L44: ='ROSALPI '!L36+ZAMORA!M41+PARIS!M47 -> 8607 | M44: =+K44*(0.0333333333333333)*$D$15 -> 201.83333 | N44: =+M44+((K44/30)*$D$15) -> 403.66667 | O44: =IF(K44=0,"",IF(L44-N44<=0,"*","")) | P44: =+M44+((K44/30)*$D$16) -> 740.05556 | Q44: =+(P44-M44)+(N44-L44) -> -7665.1111 | R44: =+'ROSALPI '!T36+ZAMORA!U41+PARIS!T47 -> 30 | S44: 950 | T44: 0
B45: 103110016 | C45: AGUA ESTERIL 5 ml AMPOLLA | D45: UNIDAD | E45: ='ROSALPI '!E37+ZAMORA!F42+PARIS!F48 -> 71 | F45: ='ROSALPI '!F37+ZAMORA!G42+PARIS!G48 -> 61 | G45: ='ROSALPI '!G37+ZAMORA!H42+PARIS!H48 -> 58 | H45: ='ROSALPI '!H37+ZAMORA!I42+PARIS!I48 -> 78 | I45: ='ROSALPI '!I37+ZAMORA!J42+PARIS!J48 -> 90 | J45: ='ROSALPI '!J37+ZAMORA!K42+PARIS!K48 -> 88 | K45: =AVERAGE(E45,F45,G45,H45,I45,J45) -> 74.333333 | L45: ='ROSALPI '!L37+ZAMORA!M42+PARIS!M48 -> 88 | M45: =+K45*(0.0333333333333333)*$D$15 -> 37.166667 | N45: =+M45+((K45/30)*$D$15) -> 74.333333 | O45: =IF(K45=0,"",IF(L45-N45<=0,"*","")) | P45: =+M45+((K45/30)*$D$16) -> 136.27778 | Q45: =+(P45-M45)+(N45-L45) -> 85.444444 | R45: =+'ROSALPI '!T37+ZAMORA!U42+PARIS!T48 -> 60 | S45: 435 | T45: 30450
B46: 103199988 | C46: AGUA ESTERIL USP BOLSA X 500ML - UNIDAD | D46: UNIDAD | E46: ='ROSALPI '!E38+ZAMORA!F43+PARIS!F49 -> 46 | F46: ='ROSALPI '!F38+ZAMORA!G43+PARIS!G49 -> 38 | G46: ='ROSALPI '!G38+ZAMORA!H43+PARIS!H49 -> 38 | H46: ='ROSALPI '!H38+ZAMORA!I43+PARIS!I49 -> 40 | I46: ='ROSALPI '!I38+ZAMORA!J43+PARIS!J49 -> 43 | J46: ='ROSALPI '!J38+ZAMORA!K43+PARIS!K49 -> 46 | K46: =AVERAGE(E46,F46,G46,H46,I46,J46) -> 41.833333 | L46: ='ROSALPI '!L38+ZAMORA!M43+PARIS!M49 -> 57 | M46: =+K46*(0.0333333333333333)*$D$15 -> 20.916667 | N46: =+M46+((K46/30)*$D$15) -> 41.833333 | O46: =IF(K46=0,"",IF(L46-N46<=0,"*","")) | P46: =+M46+((K46/30)*$D$16) -> 76.694444 | Q46: =+(P46-M46)+(N46-L46) -> 40.611111 | R46: =+'ROSALPI '!T38+ZAMORA!U43+PARIS!T49 -> 30 | S46: 2533 | T46: 88655
B47: 103104497 | C47: ALBENDAZOL 2% SUSPENSIÓN ORAL | D47: FRASCO | E47: ='ROSALPI '!E39+ZAMORA!F44+PARIS!F50 -> 180 | F47: ='ROSALPI '!F39+ZAMORA!G44+PARIS!G50 -> 390 | G47: ='ROSALPI '!G39+ZAMORA!H44+PARIS!H50 -> 480 | H47: ='ROSALPI '!H39+ZAMORA!I44+PARIS!I50 -> 210 | I47: ='ROSALPI '!I39+ZAMORA!J44+PARIS!J50 -> 330 | J47: ='ROSALPI '!J39+ZAMORA!K44+PARIS!K50 -> 240 | K47: =AVERAGE(E47,F47,G47,H47,I47,J47) -> 305 | L47: ='ROSALPI '!L39+ZAMORA!M44+PARIS!M50 -> 570 | M47: =+K47*(0.0333333333333333)*$D$15 -> 152.5 | N47: =+M47+((K47/30)*$D$15) -> 305 | O47: =IF(K47=0,"",IF(L47-N47<=0,"*","")) | P47: =+M47+((K47/30)*$D$16) -> 559.16667 | Q47: =+(P47-M47)+(N47-L47) -> 141.66667 | R47: =+'ROSALPI '!T39+ZAMORA!U44+PARIS!T50 -> 300 | S47: 760 | T47: 152000
B48: 103104501 | C48: ALBENDAZOL 200 mg TABLETA | D48: UNIDAD | E48: ='ROSALPI '!E40+ZAMORA!F46+PARIS!F51 -> 1470 | F48: ='ROSALPI '!F40+ZAMORA!G46+PARIS!G51 -> 1450 | G48: ='ROSALPI '!G40+ZAMORA!H46+PARIS!H51 -> 1480 | H48: ='ROSALPI '!H40+ZAMORA!I46+PARIS!I51 -> 1060 | I48: ='ROSALPI '!I40+ZAMORA!J46+PARIS!J51 -> 1180 | J48: ='ROSALPI '!J40+ZAMORA!K46+PARIS!K51 -> 1490 | K48: =AVERAGE(E48,F48,G48,H48,I48,J48) -> 1355 | L48: ='ROSALPI '!L40+ZAMORA!M46+PARIS!M51 -> 1240 | M48: =+K48*(0.0333333333333333)*$D$15 -> 677.5 | N48: =+M48+((K48/30)*$D$15) -> 1355 | O48: =IF(K48=0,"",IF(L48-N48<=0,"*","")) -> * | P48: =+M48+((K48/30)*$D$16) -> 2484.1667 | Q48: =+(P48-M48)+(N48-L48) -> 1921.6667 | R48: =+'ROSALPI '!T40+ZAMORA!U46+PARIS!T51 -> 600 | S48: 230 | T48: 11500
B50: 103107100 | C50: ALFAMETILDOPA 250 mg TABLETA | D50: UNIDAD | E50: ='ROSALPI '!E42+ZAMORA!F48+PARIS!F53 -> 0 | F50: ='ROSALPI '!F42+ZAMORA!G48+PARIS!G53 -> 0 | G50: ='ROSALPI '!G42+ZAMORA!H48+PARIS!H53 -> 0 | H50: ='ROSALPI '!H42+ZAMORA!I48+PARIS!I53 -> 0 | I50: ='ROSALPI '!I42+ZAMORA!J48+PARIS!J53 -> 0 | J50: ='ROSALPI '!J42+ZAMORA!K48+PARIS!K53 -> 0 | K50: =AVERAGE(E50,F50,G50,H50,I50,J50) -> 0 | L50: ='ROSALPI '!L42+ZAMORA!M48+PARIS!M53 -> 0 | M50: =+K50*(0.0333333333333333)*$D$15 -> 0 | N50: =+M50+((K50/30)*$D$15) -> 0 | O50: =IF(K50=0,"",IF(L50-N50<=0,"*","")) | P50: =+M50+((K50/30)*$D$16) -> 0 | Q50: =+(P50-M50)+(N50-L50) -> 0 | R50: =+'ROSALPI '!T42+ZAMORA!U48+PARIS!T53 -> 0 | S50: 1388 | T50: 458040
B51: 103102013 | C51: ALOPURINOL 100 mg TABLETA | D51: UNIDAD | E51: ='ROSALPI '!E44+ZAMORA!F49+PARIS!F54 -> 0 | F51: ='ROSALPI '!F44+ZAMORA!G49+PARIS!G54 -> 0 | G51: ='ROSALPI '!G44+ZAMORA!H49+PARIS!H54 -> 0 | H51: ='ROSALPI '!H44+ZAMORA!I49+PARIS!I54 -> 0 | I51: ='ROSALPI '!I44+ZAMORA!J49+PARIS!J54 -> 0 | J51: ='ROSALPI '!J44+ZAMORA!K49+PARIS!K54 -> 0 | K51: =AVERAGE(E51,F51,G51,H51,I51,J51) -> 0 | L51: ='ROSALPI '!L44+ZAMORA!M49+PARIS!M54 -> 0 | M51: =+K51*(0.0333333333333333)*$D$15 -> 0 | N51: =+M51+((K51/30)*$D$15) -> 0 | O51: =IF(K51=0,"",IF(L51-N51<=0,"*","")) | P51: =+M51+((K51/30)*$D$16) -> 0 | Q51: =+(P51-M51)+(N51-L51) -> 0 | R51: =+'ROSALPI '!T44+ZAMORA!U49+PARIS!T54 -> 0 | S51: 86 | T51: 68800
B52: 103102014 | C52: ALOPURINOL 300 mg TABLETA | D52: UNIDAD | E52: ='ROSALPI '!E45+ZAMORA!F50+PARIS!F55 -> 660 | F52: ='ROSALPI '!F45+ZAMORA!G50+PARIS!G55 -> 390 | G52: ='ROSALPI '!G45+ZAMORA!H50+PARIS!H55 -> 390 | H52: ='ROSALPI '!H45+ZAMORA!I50+PARIS!I55 -> 340 | I52: ='ROSALPI '!I45+ZAMORA!J50+PARIS!J55 -> 360 | J52: ='ROSALPI '!J45+ZAMORA!K50+PARIS!K55 -> 570 | K52: =AVERAGE(E52,F52,G52,H52,I52,J52) -> 451.66667 | L52: ='ROSALPI '!L45+ZAMORA!M50+PARIS!M55 -> 620 | M52: =+K52*(0.0333333333333333)*$D$15 -> 225.83333 | N52: =+M52+((K52/30)*$D$15) -> 451.66667 | O52: =IF(K52=0,"",IF(L52-N52<=0,"*","")) | P52: =+M52+((K52/30)*$D$16) -> 828.05556 | Q52: =+(P52-M52)+(N52-L52) -> 433.88889 | R52: =+'ROSALPI '!T45+ZAMORA!U50+PARIS!T55 -> 100 | S52: 0 | T52: 0
B53: 103118537 | C53: ALPRAZOLAM 0.25 mg TABLETA (CONTROL ESPECIAL) | D53: UNIDAD | E53: ='ROSALPI '!E46+ZAMORA!F51+PARIS!F56 -> 789 | F53: ='ROSALPI '!F46+ZAMORA!G51+PARIS!G56 -> 820 | G53: ='ROSALPI '!G46+ZAMORA!H51+PARIS!H56 -> 560 | H53: ='ROSALPI '!H46+ZAMORA!I51+PARIS!I56 -> 590 | I53: ='ROSALPI '!I46+ZAMORA!J51+PARIS!J56 -> 480 | J53: ='ROSALPI '!J46+ZAMORA!K51+PARIS!K56 -> 750 | K53: =AVERAGE(E53,F53,G53,H53,I53,J53) -> 664.83333 | L53: ='ROSALPI '!L46+ZAMORA!M51+PARIS!M56 -> 931 | M53: =+K53*(0.0333333333333333)*$D$15 -> 332.41667 | N53: =+M53+((K53/30)*$D$15) -> 664.83333 | O53: =IF(K53=0,"",IF(L53-N53<=0,"*","")) | P53: =+M53+((K53/30)*$D$16) -> 1218.8611 | Q53: =+(P53-M53)+(N53-L53) -> 620.27778 | R53: =+'ROSALPI '!T46+ZAMORA!U51+PARIS!T56 -> 1200 | S53: 0 | T53: 0
B54: 103118536 | C54: ALPRAZOLAM 0.5 mg TABLETA (CONTROL ESPECIAL) | D54: UNIDAD | E54: ='ROSALPI '!E47+ZAMORA!F52+PARIS!F57 -> 7650 | F54: ='ROSALPI '!F47+ZAMORA!G52+PARIS!G57 -> 6044 | G54: ='ROSALPI '!G47+ZAMORA!H52+PARIS!H57 -> 6420 | H54: ='ROSALPI '!H47+ZAMORA!I52+PARIS!I57 -> 6226 | I54: ='ROSALPI '!I47+ZAMORA!J52+PARIS!J57 -> 6000 | J54: ='ROSALPI '!J47+ZAMORA!K52+PARIS!K57 -> 8820 | K54: =AVERAGE(E54,F54,G54,H54,I54,J54) -> 6860 | L54: ='ROSALPI '!L47+ZAMORA!M52+PARIS!M57 -> 5730 | M54: =+K54*(0.0333333333333333)*$D$15 -> 3430 | N54: =+M54+((K54/30)*$D$15) -> 6860 | O54: =IF(K54=0,"",IF(L54-N54<=0,"*","")) -> * | P54: =+M54+((K54/30)*$D$16) -> 12576.667 | Q54: =+(P54-M54)+(N54-L54) -> 10276.667 | R54: =+'ROSALPI '!T47+ZAMORA!U52+PARIS!T57 -> 6000 | S54: 0 | T54: 0
B55: 103118370 | C55: AMANTADINA 100 mg TABLETA | D55: UNIDAD | E55: ='ROSALPI '!E48+ZAMORA!F53+PARIS!F58 -> 15735 | F55: ='ROSALPI '!F48+ZAMORA!G53+PARIS!G58 -> 12315 | G55: ='ROSALPI '!G48+ZAMORA!H53+PARIS!H58 -> 12480 | H55: ='ROSALPI '!H48+ZAMORA!I53+PARIS!I58 -> 12675 | I55: ='ROSALPI '!I48+ZAMORA!J53+PARIS!J58 -> 12915 | J55: ='ROSALPI '!J48+ZAMORA!K53+PARIS!K58 -> 17220 | K55: =AVERAGE(E55,F55,G55,H55,I55,J55) -> 13890 | L55: ='ROSALPI '!L48+ZAMORA!M53+PARIS!M58 -> 13942 | M55: =+K55*(0.0333333333333333)*$D$15 -> 6945 | N55: =+M55+((K55/30)*$D$15) -> 13890 | O55: =IF(K55=0,"",IF(L55-N55<=0,"*","")) | P55: =+M55+((K55/30)*$D$16) -> 25465 | Q55: =+(P55-M55)+(N55-L55) -> 18468 | R55: =+'ROSALPI '!T48+ZAMORA!U53+PARIS!T58 -> 12000 | S55: 1085 | T55: 390600
B56: 103104204 | C56: AMIKACINA 100 mg/2ml AMPOLLA | D56: UNIDAD | E56: ='ROSALPI '!E49+ZAMORA!F54+PARIS!F59 -> 10 | F56: ='ROSALPI '!F49+ZAMORA!G54+PARIS!G59 -> 2 | G56: ='ROSALPI '!G49+ZAMORA!H54+PARIS!H59 -> 4 | H56: ='ROSALPI '!H49+ZAMORA!I54+PARIS!I59 -> 6 | I56: ='ROSALPI '!I49+ZAMORA!J54+PARIS!J59 -> 15 | J56: ='ROSALPI '!J49+ZAMORA!K54+PARIS!K59 -> 11 | K56: =AVERAGE(E56,F56,G56,H56,I56,J56) -> 8 | L56: ='ROSALPI '!L49+ZAMORA!M54+PARIS!M59 -> 13 | M56: =+K56*(0.0333333333333333)*$D$15 -> 4 | N56: =+M56+((K56/30)*$D$15) -> 8 | O56: =IF(K56=0,"",IF(L56-N56<=0,"*","")) | P56: =+M56+((K56/30)*$D$16) -> 14.666667 | Q56: =+(P56-M56)+(N56-L56) -> 5.6666667 | R56: =+'ROSALPI '!T49+ZAMORA!U54+PARIS!T59 -> 10 | S56: 0 | T56: 0
B57: 103104207 | C57: AMIKACINA 500 mg/2mL AMPOLLA | D57: UNIDAD | E57: ='ROSALPI '!E50+ZAMORA!F55+PARIS!F60 -> 1223 | F57: ='ROSALPI '!F50+ZAMORA!G55+PARIS!G60 -> 902 | G57: ='ROSALPI '!G50+ZAMORA!H55+PARIS!H60 -> 888 | H57: ='ROSALPI '!H50+ZAMORA!I55+PARIS!I60 -> 907 | I57: ='ROSALPI '!I50+ZAMORA!J55+PARIS!J60 -> 967 | J57: ='ROSALPI '!J50+ZAMORA!K55+PARIS!K60 -> 1224 | K57: =AVERAGE(E57,F57,G57,H57,I57,J57) -> 1018.5 | L57: ='ROSALPI '!L50+ZAMORA!M55+PARIS!M60 -> 1076 | M57: =+K57*(0.0333333333333333)*$D$15 -> 509.25 | N57: =+M57+((K57/30)*$D$15) -> 1018.5 | O57: =IF(K57=0,"",IF(L57-N57<=0,"*","")) | P57: =+M57+((K57/30)*$D$16) -> 1867.25 | Q57: =+(P57-M57)+(N57-L57) -> 1300.5 | R57: =+'ROSALPI '!T50+ZAMORA!U55+PARIS!T60 -> 800 | S57: 1755 | T57: 0
B58: 103116040 | C58: AMINOFILINA 2.40% AMPOLLA | D58: UNIDAD | E58: ='ROSALPI '!E51+ZAMORA!F56+PARIS!F61 -> 780 | F58: ='ROSALPI '!F51+ZAMORA!G56+PARIS!G61 -> 840 | G58: ='ROSALPI '!G51+ZAMORA!H56+PARIS!H61 -> 690 | H58: ='ROSALPI '!H51+ZAMORA!I56+PARIS!I61 -> 690 | I58: ='ROSALPI '!I51+ZAMORA!J56+PARIS!J61 -> 570 | J58: ='ROSALPI '!J51+ZAMORA!K56+PARIS!K61 -> 690 | K58: =AVERAGE(E58,F58,G58,H58,I58,J58) -> 710 | L58: ='ROSALPI '!L51+ZAMORA!M56+PARIS!M61 -> 877 | M58: =+K58*(0.0333333333333333)*$D$15 -> 355 | N58: =+M58+((K58/30)*$D$15) -> 710 | O58: =IF(K58=0,"",IF(L58-N58<=0,"*","")) | P58: =+M58+((K58/30)*$D$16) -> 1301.6667 | Q58: =+(P58-M58)+(N58-L58) -> 779.66667 | R58: =+'ROSALPI '!T51+ZAMORA!U56+PARIS!T61 -> 600 | S58: 0 | T58: 0
B59: 103107061 | C59: AMIODARONA 150 mg AMPOLLA | D59: UNIDAD | E59: ='ROSALPI '!E52+ZAMORA!F57+PARIS!F62 -> 5010 | F59: ='ROSALPI '!F52+ZAMORA!G57+PARIS!G62 -> 4425 | G59: ='ROSALPI '!G52+ZAMORA!H57+PARIS!H62 -> 5145 | H59: ='ROSALPI '!H52+ZAMORA!I57+PARIS!I62 -> 5010 | I59: ='ROSALPI '!I52+ZAMORA!J57+PARIS!J62 -> 5145 | J59: ='ROSALPI '!J52+ZAMORA!K57+PARIS!K62 -> 6660 | K59: =AVERAGE(E59,F59,G59,H59,I59,J59) -> 5232.5 | L59: ='ROSALPI '!L52+ZAMORA!M57+PARIS!M62 -> 4110 | M59: =+K59*(0.0333333333333333)*$D$15 -> 2616.25 | N59: =+M59+((K59/30)*$D$15) -> 5232.5 | O59: =IF(K59=0,"",IF(L59-N59<=0,"*","")) -> * | P59: =+M59+((K59/30)*$D$16) -> 9592.9167 | Q59: =+(P59-M59)+(N59-L59) -> 8099.1667 | R59: =+'ROSALPI '!T52+ZAMORA!U57+PARIS!T62 -> 6000 | S59: 0 | T59: 0
B60: 103107065 | C60: AMIODARONA 200 mg TABLETA | D60: UNIDAD | E60: ='ROSALPI '!E53+ZAMORA!F58+PARIS!F63 -> 15540 | F60: ='ROSALPI '!F53+ZAMORA!G58+PARIS!G63 -> 12310 | G60: ='ROSALPI '!G53+ZAMORA!H58+PARIS!H63 -> 13770 | H60: ='ROSALPI '!H53+ZAMORA!I58+PARIS!I63 -> 13095 | I60: ='ROSALPI '!I53+ZAMORA!J58+PARIS!J63 -> 13200 | J60: ='ROSALPI '!J53+ZAMORA!K58+PARIS!K63 -> 16705 | K60: =AVERAGE(E60,F60,G60,H60,I60,J60) -> 14103.333 | L60: ='ROSALPI '!L53+ZAMORA!M58+PARIS!M63 -> 13664 | M60: =+K60*(0.0333333333333333)*$D$15 -> 7051.6667 | N60: =+M60+((K60/30)*$D$15) -> 14103.333 | O60: =IF(K60=0,"",IF(L60-N60<=0,"*","")) -> * | P60: =+M60+((K60/30)*$D$16) -> 25856.111 | Q60: =+(P60-M60)+(N60-L60) -> 19243.778 | R60: =+'ROSALPI '!T53+ZAMORA!U58+PARIS!T63 -> 10000 | S60: 470 | T60: 564000
B61: 103118312 | C61: AMITRIPTILINA 25 mg TABLETA | D61: UNIDAD | E61: ='ROSALPI '!E54+ZAMORA!F59+PARIS!F64 -> 7 | F61: ='ROSALPI '!F54+ZAMORA!G59+PARIS!G64 -> 2 | G61: ='ROSALPI '!G54+ZAMORA!H59+PARIS!H64 -> 2 | H61: ='ROSALPI '!H54+ZAMORA!I59+PARIS!I64 -> 13 | I61: ='ROSALPI '!I54+ZAMORA!J59+PARIS!J64 -> 18 | J61: ='ROSALPI '!J54+ZAMORA!K59+PARIS!K64 -> 31 | K61: =AVERAGE(E61,F61,G61,H61,I61,J61) -> 12.166667 | L61: ='ROSALPI '!L54+ZAMORA!M59+PARIS!M64 -> 18 | M61: =+K61*(0.0333333333333333)*$D$15 -> 6.0833333 | N61: =+M61+((K61/30)*$D$15) -> 12.166667 | O61: =IF(K61=0,"",IF(L61-N61<=0,"*","")) | P61: =+M61+((K61/30)*$D$16) -> 22.305556 | Q61: =+(P61-M61)+(N61-L61) -> 10.388889 | R61: =+'ROSALPI '!T54+ZAMORA!U59+PARIS!T64 -> 10 | S61: 37 | T61: 111000
B62: 103107957 | C62: AMLODIPINO 10 mg TABLETA | D62: UNIDAD | E62: ='ROSALPI '!E55+ZAMORA!F60+PARIS!F65 -> 721 | F62: ='ROSALPI '!F55+ZAMORA!G60+PARIS!G65 -> 754 | G62: ='ROSALPI '!G55+ZAMORA!H60+PARIS!H65 -> 801 | H62: ='ROSALPI '!H55+ZAMORA!I60+PARIS!I65 -> 714 | I62: ='ROSALPI '!I55+ZAMORA!J60+PARIS!J65 -> 885 | J62: ='ROSALPI '!J55+ZAMORA!K60+PARIS!K65 -> 1021 | K62: =AVERAGE(E62,F62,G62,H62,I62,J62) -> 816 | L62: ='ROSALPI '!L55+ZAMORA!M60+PARIS!M65 -> 942 | M62: =+K62*(0.0333333333333333)*$D$15 -> 408 | N62: =+M62+((K62/30)*$D$15) -> 816 | O62: =IF(K62=0,"",IF(L62-N62<=0,"*","")) | P62: =+M62+((K62/30)*$D$16) -> 1496 | Q62: =+(P62-M62)+(N62-L62) -> 962 | R62: =+'ROSALPI '!T55+ZAMORA!U60+PARIS!T65 -> 400 | S62: 40 | T62: 360000
... B85: 103107221 | C85: BETAMETILDIGOXINA 0.02 mg AMPOLLA | D85: UNIDAD | E85: ='ROSALPI '!E78+ZAMORA!F83+PARIS!F88 -> 1226 | F85: ='ROSALPI '!F78+ZAMORA!G83+PARIS!G88 -> 1333 | G85: ='ROSALPI '!G78+ZAMORA!H83+PARIS!H88 -> 1148 | H85: ='ROSALPI '!H78+ZAMORA!I83+PARIS!I88 -> 1095 | I85: ='ROSALPI '!I78+ZAMORA!J83+PARIS!J88 -> 804 | J85: ='ROSALPI '!J78+ZAMORA!K83+PARIS!K88 -> 1399 | K85: =AVERAGE(E85,F85,G85,H85,I85,J85) -> 1167.5 | L85: ='ROSALPI '!L78+ZAMORA!M83+PARIS!M88 -> 1599 | M85: =+K85*(0.0333333333333333)*$D$15 -> 583.75 | N85: =+M85+((K85/30)*$D$15) -> 1167.5 | O85: =IF(K85=0,"",IF(L85-N85<=0,"*","")) | P85: =+M85+((K85/30)*$D$16) -> 2140.4167 | Q85: =+(P85-M85)+(N85-L85) -> 1125.1667 | R85: =+'ROSALPI '!T78+ZAMORA!U83+PARIS!T88 -> 810 | S85: 0 | T85: 0
B86: 103107225 | C86: BETAMETILDIGOXINA 0.1 mg TABLETA | D86: UNIDAD | E86: ='ROSALPI '!#REF!+ZAMORA!F84+PARIS!F89 -> #REF! | F86: ='ROSALPI '!#REF!+ZAMORA!G84+PARIS!G89 -> #REF! | G86: ='ROSALPI '!#REF!+ZAMORA!H84+PARIS!H89 -> #REF! | H86: ='ROSALPI '!#REF!+ZAMORA!I84+PARIS!I89 -> #REF! | I86: ='ROSALPI '!#REF!+ZAMORA!J84+PARIS!J89 -> #REF! | J86: ='ROSALPI '!#REF!+ZAMORA!K84+PARIS!K89 -> #REF! | K86: =AVERAGE(E86,F86,G86,H86,I86,J86) -> #REF! | L86: ='ROSALPI '!#REF!+ZAMORA!M84+PARIS!M89 -> #REF! | M86: =+K86*(0.0333333333333333)*$D$15 -> #REF! | N86: =+M86+((K86/30)*$D$15) -> #REF! | O86: =IF(K86=0,"",IF(L86-N86<=0,"*","")) -> #REF! | P86: =+M86+((K86/30)*$D$16) -> #REF! | Q86: =+(P86-M86)+(N86-L86) -> #REF! | R86: =+'ROSALPI '!#REF!+ZAMORA!U84+PARIS!T89 -> #REF! | S86: 0 | T86: 0
B87: 103107220 | C87: BETAMETILDIGOXINA 0.6 mg/ml SOLUCIÓN ORAL | D87: FRASCO | E87: ='ROSALPI '!#REF!+ZAMORA!F85+PARIS!F90 -> #REF! | F87: ='ROSALPI '!#REF!+ZAMORA!G85+PARIS!G90 -> #REF! | G87: ='ROSALPI '!#REF!+ZAMORA!H85+PARIS!H90 -> #REF! | H87: ='ROSALPI '!#REF!+ZAMORA!I85+PARIS!I90 -> #REF! | I87: ='ROSALPI '!#REF!+ZAMORA!J85+PARIS!J90 -> #REF! | J87: ='ROSALPI '!#REF!+ZAMORA!K85+PARIS!K90 -> #REF! | K87: =AVERAGE(E87,F87,G87,H87,I87,J87) -> #REF! | L87: ='ROSALPI '!#REF!+ZAMORA!M85+PARIS!M90 -> #REF! | M87: =+K87*(0.0333333333333333)*$D$15 -> #REF! | N87: =+M87+((K87/30)*$D$15) -> #REF! | O87: =IF(K87=0,"",IF(L87-N87<=0,"*","")) -> #REF! | P87: =+M87+((K87/30)*$D$16) -> #REF! | Q87: =+(P87-M87)+(N87-L87) -> #REF! | R87: =+'ROSALPI '!#REF!+ZAMORA!U85+PARIS!T90 -> #REF! | S87: 0 | T87: 0
B88: 103106585 | C88: BICARBONATO DE SODIO 10mEg /10ml AMPOLLA | D88: UNIDAD | E88: ='ROSALPI '!E79+ZAMORA!F86+PARIS!F91 -> 3240 | F88: ='ROSALPI '!F79+ZAMORA!G86+PARIS!G91 -> 2700 | G88: ='ROSALPI '!G79+ZAMORA!H86+PARIS!H91 -> 3120 | H88: ='ROSALPI '!H79+ZAMORA!I86+PARIS!I91 -> 3120 | I88: ='ROSALPI '!I79+ZAMORA!J86+PARIS!J91 -> 2980 | J88: ='ROSALPI '!J79+ZAMORA!K86+PARIS!K91 -> 3610 | K88: =AVERAGE(E88,F88,G88,H88,I88,J88) -> 3128.3333 | L88: ='ROSALPI '!L79+ZAMORA!M86+PARIS!M91 -> 3470 | M88: =+K88*(0.0333333333333333)*$D$15 -> 1564.1667 | N88: =+M88+((K88/30)*$D$15) -> 3128.3333 | O88: =IF(K88=0,"",IF(L88-N88<=0,"*","")) | P88: =+M88+((K88/30)*$D$16) -> 5735.2778 | Q88: =+(P88-M88)+(N88-L88) -> 3829.4444 | R88: =+'ROSALPI '!T79+ZAMORA!U86+PARIS!T91 -> 2300 | S88: 0 | T88: 0
B89: 103118375 | C89: BIPERIDENO CLORHIDRATO 2 mg TABLETA | D89: UNIDAD | E89: ='ROSALPI '!E80+ZAMORA!F87+PARIS!F92 -> 6 | F89: ='ROSALPI '!F80+ZAMORA!G87+PARIS!G92 -> 0 | G89: ='ROSALPI '!G80+ZAMORA!H87+PARIS!H92 -> 0 | H89: ='ROSALPI '!H80+ZAMORA!I87+PARIS!I92 -> 0 | I89: ='ROSALPI '!I80+ZAMORA!J87+PARIS!J92 -> 0 | J89: ='ROSALPI '!J80+ZAMORA!K87+PARIS!K92 -> 0 | K89: =AVERAGE(E89,F89,G89,H89,I89,J89) -> 1 | L89: ='ROSALPI '!L80+ZAMORA!M87+PARIS!M92 -> 11 | M89: =+K89*(0.0333333333333333)*$D$15 -> 0.5 | N89: =+M89+((K89/30)*$D$15) -> 1 | O89: =IF(K89=0,"",IF(L89-N89<=0,"*","")) | P89: =+M89+((K89/30)*$D$16) -> 1.8333333 | Q89: =+(P89-M89)+(N89-L89) -> -8.6666667 | R89: =+'ROSALPI '!T80+ZAMORA!U87+PARIS!T92 -> 0 | S89: 205 | T89: 61500
B90: 103108063 | C90: BISACODILO 5mg TABLETA | D90: UNIDAD | E90: ='ROSALPI '!E81+ZAMORA!F88+PARIS!F93 -> 1945 | F90: ='ROSALPI '!F81+ZAMORA!G88+PARIS!G93 -> 1950 | G90: ='ROSALPI '!G81+ZAMORA!H88+PARIS!H93 -> 2315 | H90: ='ROSALPI '!H81+ZAMORA!I88+PARIS!I93 -> 3570 | I90: ='ROSALPI '!I81+ZAMORA!J88+PARIS!J93 -> 2030 | J90: ='ROSALPI '!J81+ZAMORA!K88+PARIS!K93 -> 2970 | K90: =AVERAGE(E90,F90,G90,H90,I90,J90) -> 2463.3333 | L90: ='ROSALPI '!L81+ZAMORA!M88+PARIS!M93 -> 17424 | M90: =+K90*(0.0333333333333333)*$D$15 -> 1231.6667 | N90: =+M90+((K90/30)*$D$15) -> 2463.3333 | O90: =IF(K90=0,"",IF(L90-N90<=0,"*","")) | P90: =+M90+((K90/30)*$D$16) -> 4516.1111 | Q90: =+(P90-M90)+(N90-L90) -> -11676.222 | R90: =+'ROSALPI '!T81+ZAMORA!U88+PARIS!T93 -> 0 | S90: 41 | T90: 250100
B91: 103109027 | C91: BROMOCRIPTINA 2.5 mg TABLETA | D91: UNIDAD | E91: ='ROSALPI '!#REF!+ZAMORA!F89+PARIS!F94 -> #REF! | F91: ='ROSALPI '!#REF!+ZAMORA!G89+PARIS!G94 -> #REF! | G91: ='ROSALPI '!#REF!+ZAMORA!H89+PARIS!H94 -> #REF! | H91: ='ROSALPI '!#REF!+ZAMORA!I89+PARIS!I94 -> #REF! | I91: ='ROSALPI '!#REF!+ZAMORA!J89+PARIS!J94 -> #REF! | J91: ='ROSALPI '!#REF!+ZAMORA!K89+PARIS!K94 -> #REF! | K91: =AVERAGE(E91,F91,G91,H91,I91,J91) -> #REF! | L91: ='ROSALPI '!#REF!+ZAMORA!M89+PARIS!M94 -> #REF! | M91: =+K91*(0.0333333333333333)*$D$15 -> #REF! | N91: =+M91+((K91/30)*$D$15) -> #REF! | O91: =IF(K91=0,"",IF(L91-N91<=0,"*","")) -> #REF! | P91: =+M91+((K91/30)*$D$16) -> #REF! | Q91: =+(P91-M91)+(N91-L91) -> #REF! | R91: =+'ROSALPI '!#REF!+ZAMORA!U89+PARIS!T94 -> #REF! | S91: 0 | T91: 0
B92: 103116054 | C92: BROMURO DE IPRATROPIO 0.02 mg INHALADOR | D92: FCO X 200 DOSIS | E92: ='ROSALPI '!E82+ZAMORA!F90+PARIS!F95 -> 4012 | F92: ='ROSALPI '!F82+ZAMORA!G90+PARIS!G95 -> 4106 | G92: ='ROSALPI '!G82+ZAMORA!H90+PARIS!H95 -> 3724 | H92: ='ROSALPI '!H82+ZAMORA!I90+PARIS!I95 -> 3578 | I92: ='ROSALPI '!I82+ZAMORA!J90+PARIS!J95 -> 4294 | J92: ='ROSALPI '!J82+ZAMORA!K90+PARIS!K95 -> 6094 | K92: =AVERAGE(E92,F92,G92,H92,I92,J92) -> 4301.3333 | L92: ='ROSALPI '!L82+ZAMORA!M90+PARIS!M95 -> 3168 | M92: =+K92*(0.0333333333333333)*$D$15 -> 2150.6667 | N92: =+M92+((K92/30)*$D$15) -> 4301.3333 | O92: =IF(K92=0,"",IF(L92-N92<=0,"*","")) -> * | P92: =+M92+((K92/30)*$D$16) -> 7885.7778 | Q92: =+(P92-M92)+(N92-L92) -> 6868.4444 | R92: =+'ROSALPI '!T82+ZAMORA!U90+PARIS!T95 -> 4400 | S92: 7738 | T92: 3869000
B93: 103116052 | C93: BROMURO DE IPRATROPIO 0.025% GOTAS | D93: FRASCO | E93: ='ROSALPI '!E83+ZAMORA!F91+PARIS!F96 -> 677 | F93: ='ROSALPI '!F83+ZAMORA!G91+PARIS!G96 -> 653 | G93: ='ROSALPI '!G83+ZAMORA!H91+PARIS!H96 -> 566 | H93: ='ROSALPI '!H83+ZAMORA!I91+PARIS!I96 -> 501 | I93: ='ROSALPI '!I83+ZAMORA!J91+PARIS!J96 -> 550 | J93: ='ROSALPI '!J83+ZAMORA!K91+PARIS!K96 -> 656 | K93: =AVERAGE(E93,F93,G93,H93,I93,J93) -> 600.5 | L93: ='ROSALPI '!L83+ZAMORA!M91+PARIS!M96 -> 1329 | M93: =+K93*(0.0333333333333333)*$D$15 -> 300.25 | N93: =+M93+((K93/30)*$D$15) -> 600.5 | O93: =IF(K93=0,"",IF(L93-N93<=0,"*","")) | P93: =+M93+((K93/30)*$D$16) -> 1100.9167 | Q93: =+(P93-M93)+(N93-L93) -> 72.166667 | R93: =+'ROSALPI '!T83+ZAMORA!U91+PARIS!T96 -> 0 | S93: 0 | T93: 0
B94: 103116055 | C94: BROMURO DE IPRATROPIO 0.025% GOTAS (ATROVENT) | D94: FRASCO | E94: ='ROSALPI '!#REF!+ZAMORA!F92+PARIS!F97 -> #REF! | F94: ='ROSALPI '!#REF!+ZAMORA!G92+PARIS!G97 -> #REF! | G94: ='ROSALPI '!#REF!+ZAMORA!H92+PARIS!H97 -> #REF! | H94: ='ROSALPI '!#REF!+ZAMORA!I92+PARIS!I97 -> #REF! | I94: ='ROSALPI '!#REF!+ZAMORA!J92+PARIS!J97 -> #REF! | J94: ='ROSALPI '!#REF!+ZAMORA!K92+PARIS!K97 -> #REF! | K94: =AVERAGE(E94,F94,G94,H94,I94,J94) -> #REF! | L94: ='ROSALPI '!#REF!+ZAMORA!M92+PARIS!M97 -> #REF! | M94: =+K94*(0.0333333333333333)*$D$15 -> #REF! | N94: =+M94+((K94/30)*$D$15) -> #REF! | O94: =IF(K94=0,"",IF(L94-N94<=0,"*","")) -> #REF! | P94: =+M94+((K94/30)*$D$16) -> #REF! | Q94: =+(P94-M94)+(N94-L94) -> #REF! | R94: =+'ROSALPI '!#REF!+ZAMORA!U92+PARIS!T97 -> #REF! | S94: 0 | T94: 0
B95: 103120030 | C95: CALCIO + VIT D 1550mg-200 u.i TABLETA | D95: UNIDAD | E95: ='ROSALPI '!E84+ZAMORA!F93+PARIS!F98 -> 2732 | F95: ='ROSALPI '!F84+ZAMORA!G93+PARIS!G98 -> 2100 | G95: ='ROSALPI '!G84+ZAMORA!H93+PARIS!H98 -> 2100 | H95: ='ROSALPI '!H84+ZAMORA!I93+PARIS!I98 -> 1208 | I95: ='ROSALPI '!I84+ZAMORA!J93+PARIS!J98 -> 2048 | J95: ='ROSALPI '!J84+ZAMORA!K93+PARIS!K98 -> 2720 | K95: =AVERAGE(E95,F95,G95,H95,I95,J95) -> 2151.3333 | L95: ='ROSALPI '!L84+ZAMORA!M93+PARIS!M98 -> 3213 | M95: =+K95*(0.0333333333333333)*$D$15 -> 1075.6667 | N95: =+M95+((K95/30)*$D$15) -> 2151.3333 | O95: =IF(K95=0,"",IF(L95-N95<=0,"*","")) | P95: =+M95+((K95/30)*$D$16) -> 3944.1111 | Q95: =+(P95-M95)+(N95-L95) -> 1806.7778 | R95: =+'ROSALPI '!T84+ZAMORA!U93+PARIS!T98 -> 1500 | S95: 117 | T95: 2106000
B96: 103121124 | C96: CALCIO CITRATO+ VIT D 1500 mg/200 UI TABLETA | D96: UNIDAD | E96: ='ROSALPI '!#REF!+ZAMORA!F94+PARIS!F99 -> #REF! | F96: ='ROSALPI '!#REF!+ZAMORA!G94+PARIS!G99 -> #REF! | G96: ='ROSALPI '!#REF!+ZAMORA!H94+PARIS!H99 -> #REF! | H96: ='ROSALPI '!#REF!+ZAMORA!I94+PARIS!I99 -> #REF! | I96: ='ROSALPI '!#REF!+ZAMORA!J94+PARIS!J99 -> #REF! | J96: ='ROSALPI '!#REF!+ZAMORA!K94+PARIS!K99 -> #REF! | K96: =AVERAGE(E96,F96,G96,H96,I96,J96) -> #REF! | L96: ='ROSALPI '!#REF!+ZAMORA!M94+PARIS!M99 -> #REF! | M96: =+K96*(0.0333333333333333)*$D$15 -> #REF! | N96: =+M96+((K96/30)*$D$15) -> #REF! | O96: =IF(K96=0,"",IF(L96-N96<=0,"*","")) -> #REF! | P96: =+M96+((K96/30)*$D$16) -> #REF! | Q96: =+(P96-M96)+(N96-L96) -> #REF! | R96: =+'ROSALPI '!#REF!+ZAMORA!U94+PARIS!T99 -> #REF! | S96: 890 | T96: 0
B97: 103106199 | C97: CALCIO GLUCONATO 10% AMPOLLA | D97: UNIDAD | E97: ='ROSALPI '!E85+ZAMORA!F95+PARIS!F100 -> 4240 | F97: ='ROSALPI '!F85+ZAMORA!G95+PARIS!G100 -> 3130 | G97: ='ROSALPI '!G85+ZAMORA!H95+PARIS!H100 -> 3910 | H97: ='ROSALPI '!H85+ZAMORA!I95+PARIS!I100 -> 3790 | I97: ='ROSALPI '!I85+ZAMORA!J95+PARIS!J100 -> 3070 | J97: ='ROSALPI '!J85+ZAMORA!K95+PARIS!K100 -> 4490 | K97: =AVERAGE(E97,F97,G97,H97,I97,J97) -> 3771.6667 | L97: ='ROSALPI '!L85+ZAMORA!M95+PARIS!M100 -> 2607 | M97: =+K97*(0.0333333333333333)*$D$15 -> 1885.8333 | N97: =+M97+((K97/30)*$D$15) -> 3771.6667 | O97: =IF(K97=0,"",IF(L97-N97<=0,"*","")) -> * | P97: =+M97+((K97/30)*$D$16) -> 6914.7222 | Q97: =+(P97-M97)+(N97-L97) -> 6193.5556 | R97: =+'ROSALPI '!T85+ZAMORA!U95+PARIS!T100 -> 4000 | S97: 0 | T97: 0
B98: 103120029 | C98: CALCITRIOL 0.25 mg CAPSULA | D98: UNIDAD | E98: ='ROSALPI '!E86+ZAMORA!F96+PARIS!F101 -> 234 | F98: ='ROSALPI '!F86+ZAMORA!G96+PARIS!G101 -> 414 | G98: ='ROSALPI '!G86+ZAMORA!H96+PARIS!H101 -> 477 | H98: ='ROSALPI '!H86+ZAMORA!I96+PARIS!I101 -> 492 | I98: ='ROSALPI '!I86+ZAMORA!J96+PARIS!J101 -> 458 | J98: ='ROSALPI '!J86+ZAMORA!K96+PARIS!K101 -> 318 | K98: =AVERAGE(E98,F98,G98,H98,I98,J98) -> 398.83333 | L98: ='ROSALPI '!L86+ZAMORA!M96+PARIS!M101 -> 1091 | M98: =+K98*(0.0333333333333333)*$D$15 -> 199.41667 | N98: =+M98+((K98/30)*$D$15) -> 398.83333 | O98: =IF(K98=0,"",IF(L98-N98<=0,"*","")) | P98: =+M98+((K98/30)*$D$16) -> 731.19444 | Q98: =+(P98-M98)+(N98-L98) -> -160.38889 | R98: =+'ROSALPI '!T86+ZAMORA!U96+PARIS!T101 -> 0 | S98: 105 | T98: 278250
B99: 103120028 | C99: CALCITRIOL 0.5 MCG CAPSULAS | D99: UNIDAD | E99: ='ROSALPI '!E87+ZAMORA!F97+PARIS!F102 -> 58 | F99: ='ROSALPI '!F87+ZAMORA!G97+PARIS!G102 -> 138 | G99: ='ROSALPI '!G87+ZAMORA!H97+PARIS!H102 -> 60 | H99: ='ROSALPI '!H87+ZAMORA!I97+PARIS!I102 -> 88 | I99: ='ROSALPI '!I87+ZAMORA!J97+PARIS!J102 -> 88 | J99: ='ROSALPI '!J87+ZAMORA!K97+PARIS!K102 -> 85 | K99: =AVERAGE(E99,F99,G99,H99,I99,J99) -> 86.166667 | L99: ='ROSALPI '!L87+ZAMORA!M97+PARIS!M102 -> 696 | M99: =+K99*(0.0333333333333333)*$D$15 -> 43.083333 | N99: =+M99+((K99/30)*$D$15) -> 86.166667 | O99: =IF(K99=0,"",IF(L99-N99<=0,"*","")) | P99: =+M99+((K99/30)*$D$16) -> 157.97222 | Q99: =+(P99-M99)+(N99-L99) -> -494.94444 | R99: =+'ROSALPI '!T87+ZAMORA!U97+PARIS!T102 -> 0 | S99: 130 | T99: 377000
B100: 103107110 | C100: CAPTOPRIL 25 mg TABLETA | D100: UNIDAD | E100: ='ROSALPI '!E88+ZAMORA!F98+PARIS!F103 -> 66 | F100: ='ROSALPI '!F88+ZAMORA!G98+PARIS!G103 -> 42 | G100: ='ROSALPI '!G88+ZAMORA!H98+PARIS!H103 -> 0 | H100: ='ROSALPI '!H88+ZAMORA!I98+PARIS!I103 -> 0 | I100: ='ROSALPI '!I88+ZAMORA!J98+PARIS!J103 -> 0 | J100: ='ROSALPI '!J88+ZAMORA!K98+PARIS!K103 -> 46 | K100: =AVERAGE(E100,F100,G100,H100,I100,J100) -> 25.666667 | L100: ='ROSALPI '!L88+ZAMORA!M98+PARIS!M103 -> 62 | M100: =+K100*(0.0333333333333333)*$D$15 -> 12.833333 | N100: =+M100+((K100/30)*$D$15) -> 25.666667 | O100: =IF(K100=0,"",IF(L100-N100<=0,"*","")) | P100: =+M100+((K100/30)*$D$16) -> 47.055556 | Q100: =+(P100-M100)+(N100-L100) -> -2.1111111 | R100: =+'ROSALPI '!T88+ZAMORA!U98+PARIS!T103 -> 50 | S100: 64 | T100: 131840
B101: 103107116 | C101: CAPTOPRIL 50 mg TABLETA | D101: UNIDAD | E101: ='ROSALPI '!E89+ZAMORA!F99+PARIS!F104 -> 0 | F101: ='ROSALPI '!F89+ZAMORA!G99+PARIS!G104 -> 0 | G101: ='ROSALPI '!G89+ZAMORA!H99+PARIS!H104 -> 56 | H101: ='ROSALPI '!H89+ZAMORA!I99+PARIS!I104 -> 56 | I101: ='ROSALPI '!I89+ZAMORA!J99+PARIS!J104 -> 0 | J101: ='ROSALPI '!J89+ZAMORA!K99+PARIS!K104 -> 0 | K101: =AVERAGE(E101,F101,G101,H101,I101,J101) -> 18.666667 | L101: ='ROSALPI '!L89+ZAMORA!M99+PARIS!M104 -> 0 | M101: =+K101*(0.0333333333333333)*$D$15 -> 9.3333333 | N101: =+M101+((K101/30)*$D$15) -> 18.666667 | O101: =IF(K101=0,"",IF(L101-N101<=0,"*","")) -> * | P101: =+M101+((K101/30)*$D$16) -> 34.222222 | Q101: =+(P101-M101)+(N101-L101) -> 43.555556 | R101: =+'ROSALPI '!T89+ZAMORA!U99+PARIS!T104 -> 0 | S101: 62 | T101: 272800
B102: 103118234 | C102: CARBAMAZEPINA 100mg/5ml SUSPENSIÓN ORAL | D102: FCO X 120 ML | E102: ='ROSALPI '!E90+ZAMORA!F100+PARIS!F105 -> 0 | F102: ='ROSALPI '!F90+ZAMORA!G100+PARIS!G105 -> 0 | G102: ='ROSALPI '!G90+ZAMORA!H100+PARIS!H105 -> 0 | H102: ='ROSALPI '!H90+ZAMORA!I100+PARIS!I105 -> 0 | I102: ='ROSALPI '!I90+ZAMORA!J100+PARIS!J105 -> 0 | J102: ='ROSALPI '!J90+ZAMORA!K100+PARIS!K105 -> 0 | K102: =AVERAGE(E102,F102,G102,H102,I102,J102) -> 0 | L102: ='ROSALPI '!L90+ZAMORA!M100+PARIS!M105 -> 0 | M102: =+K102*(0.0333333333333333)*$D$15 -> 0 | N102: =+M102+((K102/30)*$D$15) -> 0 | O102: =IF(K102=0,"",IF(L102-N102<=0,"*","")) | P102: =+M102+((K102/30)*$D$16) -> 0 | Q102: =+(P102-M102)+(N102-L102) -> 0 | R102: =+'ROSALPI '!T90+ZAMORA!U100+PARIS!T105 -> 0 | S102: 5360 | T102: 53600
B103: 103118237 | C103: CARBAMAZEPINA 200 mg TABLETA | D103: UNIDAD | E103: ='ROSALPI '!E91+ZAMORA!F101+PARIS!F106 -> 0 | F103: ='ROSALPI '!F91+ZAMORA!G101+PARIS!G106 -> 0 | G103: ='ROSALPI '!G91+ZAMORA!H101+PARIS!H106 -> 0 | H103: ='ROSALPI '!H91+ZAMORA!I101+PARIS!I106 -> 0 | I103: ='ROSALPI '!I91+ZAMORA!J101+PARIS!J106 -> 0 | J103: ='ROSALPI '!J91+ZAMORA!K101+PARIS!K106 -> 0 | K103: =AVERAGE(E103,F103,G103,H103,I103,J103) -> 0 | L103: ='ROSALPI '!L91+ZAMORA!M101+PARIS!M106 -> 0 | M103: =+K103*(0.0333333333333333)*$D$15 -> 0 | N103: =+M103+((K103/30)*$D$15) -> 0 | O103: =IF(K103=0,"",IF(L103-N103<=0,"*","")) | P103: =+M103+((K103/30)*$D$16) -> 0 | Q103: =+(P103-M103)+(N103-L103) -> 0 | R103: =+'ROSALPI '!T91+ZAMORA!U101+PARIS!T106 -> 0 | S103: 124 | T103: 1004400
B104: 103119040 | C104: CARBON ACTIVADO POLVO x 500 g | D104: SOBRE | E104: ='ROSALPI '!E92+ZAMORA!F102+PARIS!F107 -> 174 | F104: ='ROSALPI '!F92+ZAMORA!G102+PARIS!G107 -> 155 | G104: ='ROSALPI '!G92+ZAMORA!H102+PARIS!H107 -> 147 | H104: ='ROSALPI '!H92+ZAMORA!I102+PARIS!I107 -> 134 | I104: ='ROSALPI '!I92+ZAMORA!J102+PARIS!J107 -> 112 | J104: ='ROSALPI '!J92+ZAMORA!K102+PARIS!K107 -> 389 | K104: =AVERAGE(E104,F104,G104,H104,I104,J104) -> 185.16667 | L104: ='ROSALPI '!L92+ZAMORA!M102+PARIS!M107 -> 147 | M104: =+K104*(0.0333333333333333)*$D$15 -> 92.583333 | N104: =+M104+((K104/30)*$D$15) -> 185.16667 | O104: =IF(K104=0,"",IF(L104-N104<=0,"*","")) -> * | P104: =+M104+((K104/30)*$D$16) -> 339.47222 | Q104: =+(P104-M104)+(N104-L104) -> 285.05556 | R104: =+'ROSALPI '!T92+ZAMORA!U102+PARIS!T107 -> 600 | S104: 0 | T104: 0
B105: 103120031 | C105: CARBONATO DE CALCIO 600 mg TABLETA | D105: UNIDAD | E105: ='ROSALPI '!E93+ZAMORA!F103+PARIS!F108 -> 394 | F105: ='ROSALPI '!F93+ZAMORA!G103+PARIS!G108 -> 440 | G105: ='ROSALPI '!G93+ZAMORA!H103+PARIS!H108 -> 342 | H105: ='ROSALPI '!H93+ZAMORA!I103+PARIS!I108 -> 234 | I105: ='ROSALPI '!I93+ZAMORA!J103+PARIS!J108 -> 306 | J105: ='ROSALPI '!J93+ZAMORA!K103+PARIS!K108 -> 392 | K105: =AVERAGE(E105,F105,G105,H105,I105,J105) -> 351.33333 | L105: ='ROSALPI '!L93+ZAMORA!M103+PARIS!M108 -> 446 | M105: =+K105*(0.0333333333333333)*$D$15 -> 175.66667 | N105: =+M105+((K105/30)*$D$15) -> 351.33333 | O105: =IF(K105=0,"",IF(L105-N105<=0,"*","")) | P105: =+M105+((K105/30)*$D$16) -> 644.11111 | Q105: =+(P105-M105)+(N105-L105) -> 373.77778 | R105: =+'ROSALPI '!T93+ZAMORA!U103+PARIS!T108 -> 300 | S105: 74 | T105: 1117400
B106: 103104156 | C106: CEFALEXINA 500 mg TABLETA | D106: UNIDAD | E106: ='ROSALPI '!E94+ZAMORA!F104+PARIS!F109 -> 690 | F106: ='ROSALPI '!F94+ZAMORA!G104+PARIS!G109 -> 360 | G106: ='ROSALPI '!G94+ZAMORA!H104+PARIS!H109 -> 390 | H106: ='ROSALPI '!H94+ZAMORA!I104+PARIS!I109 -> 510 | I106: ='ROSALPI '!I94+ZAMORA!J104+PARIS!J109 -> 675 | J106: ='ROSALPI '!J94+ZAMORA!K104+PARIS!K109 -> 615 | K106: =AVERAGE(E106,F106,G106,H106,I106,J106) -> 540 | L106: ='ROSALPI '!L94+ZAMORA!M104+PARIS!M109 -> 617 | M106: =+K106*(0.0333333333333333)*$D$15 -> 270 | N106: =+M106+((K106/30)*$D$15) -> 540 | O106: =IF(K106=0,"",IF(L106-N106<=0,"*","")) | P106: =+M106+((K106/30)*$D$16) -> 990 | Q106: =+(P106-M106)+(N106-L106) -> 643 | R106: =+'ROSALPI '!T94+ZAMORA!U104+PARIS!T109 -> 360 | S106: 288 | T106: 1152000
B107: 103104146 | C107: CEFALEXINA 250 mg/5ml SUSPENSIÓN ORAL | D107: FCO X 60 ML | E107: ='ROSALPI '!E95+ZAMORA!F105+PARIS!F110 -> 110 | F107: ='ROSALPI '!F95+ZAMORA!G105+PARIS!G110 -> 0 | G107: ='ROSALPI '!G95+ZAMORA!H105+PARIS!H110 -> 0 | H107: ='ROSALPI '!H95+ZAMORA!I105+PARIS!I110 -> 0 | I107: ='ROSALPI '!I95+ZAMORA!J105+PARIS!J110 -> 0 | J107: ='ROSALPI '!J95+ZAMORA!K105+PARIS!K110 -> 0 | K107: =AVERAGE(E107,F107,G107,H107,I107,J107) -> 18.333333 | L107: ='ROSALPI '!L95+ZAMORA!M105+PARIS!M110 -> 710 | M107: =+K107*(0.0333333333333333)*$D$15 -> 9.1666667 | N107: =+M107+((K107/30)*$D$15) -> 18.333333 | O107: =IF(K107=0,"",IF(L107-N107<=0,"*","")) | P107: =+M107+((K107/30)*$D$16) -> 33.611111 | Q107: =+(P107-M107)+(N107-L107) -> -667.22222 | R107: =+'ROSALPI '!T95+ZAMORA!U105+PARIS!T110 -> 0 | S107: 0 | T107: 0
B108: 103104006 | C108: CEFALOTINA 1 gr AMPOLLA | D108: UNIDAD | E108: ='ROSALPI '!E96+ZAMORA!F106+PARIS!F111 -> 60 | F108: ='ROSALPI '!F96+ZAMORA!G106+PARIS!G111 -> 180 | G108: ='ROSALPI '!G96+ZAMORA!H106+PARIS!H111 -> 60 | H108: ='ROSALPI '!H96+ZAMORA!I106+PARIS!I111 -> 0 | I108: ='ROSALPI '!I96+ZAMORA!J106+PARIS!J111 -> 60 | J108: ='ROSALPI '!J96+ZAMORA!K106+PARIS!K111 -> 0 | K108: =AVERAGE(E108,F108,G108,H108,I108,J108) -> 60 | L108: ='ROSALPI '!L96+ZAMORA!M106+PARIS!M111 -> 480 | M108: =+K108*(0.0333333333333333)*$D$15 -> 30 | N108: =+M108+((K108/30)*$D$15) -> 60 | O108: =IF(K108=0,"",IF(L108-N108<=0,"*","")) | P108: =+M108+((K108/30)*$D$16) -> 110 | Q108: =+(P108-M108)+(N108-L108) -> -340 | R108: =+'ROSALPI '!T96+ZAMORA!U106+PARIS!T111 -> 0 | S108: 2900 | T108: 0
B109: 103104005 | C109: CEFRADINA DE 1 gr (VERACEF). | D109: FCO AMPOLLA | E109: ='ROSALPI '!#REF!+ZAMORA!F107+PARIS!F112 -> #REF! | F109: ='ROSALPI '!#REF!+ZAMORA!G107+PARIS!G112 -> #REF! | G109: ='ROSALPI '!#REF!+ZAMORA!H107+PARIS!H112 -> #REF! | H109: ='ROSALPI '!#REF!+ZAMORA!I107+PARIS!I112 -> #REF! | I109: ='ROSALPI '!#REF!+ZAMORA!J107+PARIS!J112 -> #REF! | J109: ='ROSALPI '!#REF!+ZAMORA!K107+PARIS!K112 -> #REF! | K109: =AVERAGE(E109,F109,G109,H109,I109,J109) -> #REF! | L109: ='ROSALPI '!#REF!+ZAMORA!M107+PARIS!M112 -> #REF! | M109: =+K109*(0.0333333333333333)*$D$15 -> #REF! | N109: =+M109+((K109/30)*$D$15) -> #REF! | O109: =IF(K109=0,"",IF(L109-N109<=0,"*","")) -> #REF! | P109: =+M109+((K109/30)*$D$16) -> #REF! | Q109: =+(P109-M109)+(N109-L109) -> #REF! | R109: =+'ROSALPI '!#REF!+ZAMORA!U107+PARIS!T112 -> #REF! | S109: 0 | T109: 0
B110: 103104177 | C110: CEFRADINA 500 mg TABLETA | D110: UNIDAD | E110: ='ROSALPI '!E97+ZAMORA!F108+PARIS!F113 -> 725 | F110: ='ROSALPI '!F97+ZAMORA!G108+PARIS!G113 -> 547 | G110: ='ROSALPI '!G97+ZAMORA!H108+PARIS!H113 -> 514 | H110: ='ROSALPI '!H97+ZAMORA!I108+PARIS!I113 -> 545 | I110: ='ROSALPI '!I97+ZAMORA!J108+PARIS!J113 -> 726 | J110: ='ROSALPI '!J97+ZAMORA!K108+PARIS!K113 -> 993 | K110: =AVERAGE(E110,F110,G110,H110,I110,J110) -> 675 | L110: ='ROSALPI '!L97+ZAMORA!M108+PARIS!M113 -> 617 | M110: =+K110*(0.0333333333333333)*$D$15 -> 337.5 | N110: =+M110+((K110/30)*$D$15) -> 675 | O110: =IF(K110=0,"",IF(L110-N110<=0,"*","")) -> * | P110: =+M110+((K110/30)*$D$16) -> 1237.5 | Q110: =+(P110-M110)+(N110-L110) -> 958 | R110: =+'ROSALPI '!T97+ZAMORA!U108+PARIS!T113 -> 1008 | S110: 492 | T110: 49200
B111: 103104161 | C111: CEFTRIAXONA 500 MG INY | D111: INYECTABLE | E111: ='ROSALPI '!#REF!+ZAMORA!F109+PARIS!F114 -> #REF! | F111: ='ROSALPI '!#REF!+ZAMORA!G109+PARIS!G114 -> #REF! | G111: ='ROSALPI '!#REF!+ZAMORA!H109+PARIS!H114 -> #REF! | H111: ='ROSALPI '!#REF!+ZAMORA!I109+PARIS!I114 -> #REF! | I111: ='ROSALPI '!#REF!+ZAMORA!J109+PARIS!J114 -> #REF! | J111: ='ROSALPI '!#REF!+ZAMORA!K109+PARIS!K114 -> #REF! | K111: =AVERAGE(E111,F111,G111,H111,I111,J111) -> #REF! | L111: ='ROSALPI '!#REF!+ZAMORA!M109+PARIS!M114 -> #REF! | M111: =+K111*(0.0333333333333333)*$D$15 -> #REF! | N111: =+M111+((K111/30)*$D$15) -> #REF! | O111: =IF(K111=0,"",IF(L111-N111<=0,"*","")) -> #REF! | P111: =+M111+((K111/30)*$D$16) -> #REF! | Q111: =+(P111-M111)+(N111-L111) -> #REF! | R111: =+'ROSALPI '!#REF!+ZAMORA!U109+PARIS!T114 -> #REF! | S111: 0 | T111: 0
B112: 103104159 | C112: CEFTRIAXONA 1 gr AMPOLLA | D112: UNIDAD | E112: ='ROSALPI '!E98+ZAMORA!F110+PARIS!F115 -> 114 | F112: ='ROSALPI '!F98+ZAMORA!G110+PARIS!G115 -> 524 | G112: ='ROSALPI '!G98+ZAMORA!H110+PARIS!H115 -> 538 | H112: ='ROSALPI '!H98+ZAMORA!I110+PARIS!I115 -> 42 | I112: ='ROSALPI '!I98+ZAMORA!J110+PARIS!J115 -> 31 | J112: ='ROSALPI '!J98+ZAMORA!K110+PARIS!K115 -> 38 | K112: =AVERAGE(E112,F112,G112,H112,I112,J112) -> 214.5 | L112: ='ROSALPI '!L98+ZAMORA!M110+PARIS!M115 -> 389 | M112: =+K112*(0.0333333333333333)*$D$15 -> 107.25 | N112: =+M112+((K112/30)*$D$15) -> 214.5 | O112: =IF(K112=0,"",IF(L112-N112<=0,"*","")) | P112: =+M112+((K112/30)*$D$16) -> 393.25 | Q112: =+(P112-M112)+(N112-L112) -> 111.5 | R112: =+'ROSALPI '!T98+ZAMORA!U110+PARIS!T115 -> 50 | S112: 1632 | T112: 0
B113: 103112225 | C113: CICLOPENTOLATO HCL 1% (CYCLOGYL) GOTAS OFTALMICAS | D113: FRASCO | E113: ='ROSALPI '!#REF!+ZAMORA!F111+PARIS!F116 -> #REF! | F113: ='ROSALPI '!#REF!+ZAMORA!G111+PARIS!G116 -> #REF! | G113: ='ROSALPI '!#REF!+ZAMORA!H111+PARIS!H116 -> #REF! | H113: ='ROSALPI '!#REF!+ZAMORA!I111+PARIS!I116 -> #REF! | I113: ='ROSALPI '!#REF!+ZAMORA!J111+PARIS!J116 -> #REF! | J113: ='ROSALPI '!#REF!+ZAMORA!K111+PARIS!K116 -> #REF! | K113: =AVERAGE(E113,F113,G113,H113,I113,J113) -> #REF! | L113: ='ROSALPI '!#REF!+ZAMORA!M111+PARIS!M116 -> #REF! | M113: =+K113*(0.0333333333333333)*$D$15 -> #REF! | N113: =+M113+((K113/30)*$D$15) -> #REF! | O113: =IF(K113=0,"",IF(L113-N113<=0,"*","")) -> #REF! | P113: =+M113+((K113/30)*$D$16) -> #REF! | Q113: =+(P113-M113)+(N113-L113) -> #REF! | R113: =+'ROSALPI '!#REF!+ZAMORA!U111+PARIS!T116 -> #REF! | S113: 0 | T113: 0
B114: 103104158 | C114: CIPROFLOXACINA 100mg/10ml AMPOLLA | D114: UNIDAD | E114: ='ROSALPI '!E99+ZAMORA!F112+PARIS!F117 -> 38 | F114: ='ROSALPI '!F99+ZAMORA!G112+PARIS!G117 -> 27 | G114: ='ROSALPI '!G99+ZAMORA!H112+PARIS!H117 -> 24 | H114: ='ROSALPI '!H99+ZAMORA!I112+PARIS!I117 -> 21 | I114: ='ROSALPI '!I99+ZAMORA!J112+PARIS!J117 -> 23 | J114: ='ROSALPI '!J99+ZAMORA!K112+PARIS!K117 -> 32 | K114: =AVERAGE(E114,F114,G114,H114,I114,J114) -> 27.5 | L114: ='ROSALPI '!L99+ZAMORA!M112+PARIS!M117 -> 30 | M114: =+K114*(0.0333333333333333)*$D$15 -> 13.75 | N114: =+M114+((K114/30)*$D$15) -> 27.5 | O114: =IF(K114=0,"",IF(L114-N114<=0,"*","")) | P114: =+M114+((K114/30)*$D$16) -> 50.416667 | Q114: =+(P114-M114)+(N114-L114) -> 34.166667 | R114: =+'ROSALPI '!T99+ZAMORA!U112+PARIS!T117 -> 20 | S114: 0 | T114: 0
B115: 103104330 | C115: CIPROFLOXACINA 500 mg TABLETA | D115: UNIDAD | E115: ='ROSALPI '!E100+ZAMORA!F113+PARIS!F118 -> 248 | F115: ='ROSALPI '!F100+ZAMORA!G113+PARIS!G118 -> 187 | G115: ='ROSALPI '!G100+ZAMORA!H113+PARIS!H118 -> 189 | H115: ='ROSALPI '!H100+ZAMORA!I113+PARIS!I118 -> 336 | I115: ='ROSALPI '!I100+ZAMORA!J113+PARIS!J118 -> 363 | J115: ='ROSALPI '!J100+ZAMORA!K113+PARIS!K118 -> 337 | K115: =AVERAGE(E115,F115,G115,H115,I115,J115) -> 276.66667 | L115: ='ROSALPI '!L100+ZAMORA!M113+PARIS!M118 -> 336 | M115: =+K115*(0.0333333333333333)*$D$15 -> 138.33333 | N115: =+M115+((K115/30)*$D$15) -> 276.66667 | O115: =IF(K115=0,"",IF(L115-N115<=0,"*","")) | P115: =+M115+((K115/30)*$D$16) -> 507.22222 | Q115: =+(P115-M115)+(N115-L115) -> 309.55556 | R115: =+'ROSALPI '!T100+ZAMORA!U113+PARIS!T118 -> 205 | S115: 191 | T115: 191000
B116: 103104136 | C116: CLARITROMICINA 500 mg TABLETA | D116: UNIDAD | E116: ='ROSALPI '!E101+ZAMORA!F114+PARIS!F119 -> 1 | F116: ='ROSALPI '!F101+ZAMORA!G114+PARIS!G119 -> 0 | G116: ='ROSALPI '!G101+ZAMORA!H114+PARIS!H119 -> 0 | H116: ='ROSALPI '!H101+ZAMORA!I114+PARIS!I119 -> 0 | I116: ='ROSALPI '!I101+ZAMORA!J114+PARIS!J119 -> 1 | J116: ='ROSALPI '!J101+ZAMORA!K114+PARIS!K119 -> 1 | K116: =AVERAGE(E116,F116,G116,H116,I116,J116) -> 0.5 | L116: ='ROSALPI '!L101+ZAMORA!M114+PARIS!M119 -> 6 | M116: =+K116*(0.0333333333333333)*$D$15 -> 0.25 | N116: =+M116+((K116/30)*$D$15) -> 0.5 | O116: =IF(K116=0,"",IF(L116-N116<=0,"*","")) | P116: =+M116+((K116/30)*$D$16) -> 0.91666667 | Q116: =+(P116-M116)+(N116-L116) -> -4.8333333 | R116: =+'ROSALPI '!T101+ZAMORA!U114+PARIS!T119 -> 0 | S116: 0 | T116: 0
B117: 103104135 | C117: CLINDAMICINA 600 mg/4ml AMPOLLA | D117: UNIDAD | E117: ='ROSALPI '!E102+ZAMORA!F115+PARIS!F120 -> 71 | F117: ='ROSALPI '!F102+ZAMORA!G115+PARIS!G120 -> 70 | G117: ='ROSALPI '!G102+ZAMORA!H115+PARIS!H120 -> 56 | H117: ='ROSALPI '!H102+ZAMORA!I115+PARIS!I120 -> 71 | I117: ='ROSALPI '!I102+ZAMORA!J115+PARIS!J120 -> 63 | J117: ='ROSALPI '!J102+ZAMORA!K115+PARIS!K120 -> 38 | K117: =AVERAGE(E117,F117,G117,H117,I117,J117) -> 61.5 | L117: ='ROSALPI '!L102+ZAMORA!M115+PARIS!M120 -> 108 | M117: =+K117*(0.0333333333333333)*$D$15 -> 30.75 | N117: =+M117+((K117/30)*$D$15) -> 61.5 | O117: =IF(K117=0,"",IF(L117-N117<=0,"*","")) | P117: =+M117+((K117/30)*$D$16) -> 112.75 | Q117: =+(P117-M117)+(N117-L117) -> 35.5 | R117: =+'ROSALPI '!T102+ZAMORA!U115+PARIS!T120 -> 0 | S117: 1981 | T117: 0
B118: 103118422 | C118: CLONAZEPAM 0.5 mg TABLETA (CONTROL ESPECIAL) | D118: UNIDAD | E118: ='ROSALPI '!E103+ZAMORA!F116+PARIS!F121 -> 4 | F118: ='ROSALPI '!F103+ZAMORA!G116+PARIS!G121 -> 5 | G118: ='ROSALPI '!G103+ZAMORA!H116+PARIS!H121 -> 7 | H118: ='ROSALPI '!H103+ZAMORA!I116+PARIS!I121 -> 7 | I118: ='ROSALPI '!I103+ZAMORA!J116+PARIS!J121 -> 10 | J118: ='ROSALPI '!J103+ZAMORA!K116+PARIS!K121 -> 6 | K118: =AVERAGE(E118,F118,G118,H118,I118,J118) -> 6.5 | L118: ='ROSALPI '!L103+ZAMORA!M116+PARIS!M121 -> 10 | M118: =+K118*(0.0333333333333333)*$D$15 -> 3.25 | N118: =+M118+((K118/30)*$D$15) -> 6.5 | O118: =IF(K118=0,"",IF(L118-N118<=0,"*","")) | P118: =+M118+((K118/30)*$D$16) -> 11.916667 | Q118: =+(P118-M118)+(N118-L118) -> 5.1666667 | R118: =+'ROSALPI '!T103+ZAMORA!U116+PARIS!T121 -> 4 | S118: 79 | T118: 0
B119: 103118023 | C119: CLONAZEPAM 2 mg TABLETA (CONTROL ESPECIAL) | D119: UNIDAD | E119: ='ROSALPI '!E104+ZAMORA!F117+PARIS!F122 -> 0 | F119: ='ROSALPI '!F104+ZAMORA!G117+PARIS!G122 -> 0 | G119: ='ROSALPI '!G104+ZAMORA!H117+PARIS!H122 -> 0 | H119: ='ROSALPI '!H104+ZAMORA!I117+PARIS!I122 -> 0 | I119: ='ROSALPI '!I104+ZAMORA!J117+PARIS!J122 -> 0 | J119: ='ROSALPI '!J104+ZAMORA!K117+PARIS!K122 -> 0 | K119: =AVERAGE(E119,F119,G119,H119,I119,J119) -> 0 | L119: ='ROSALPI '!L104+ZAMORA!M117+PARIS!M122 -> 0 | M119: =+K119*(0.0333333333333333)*$D$15 -> 0 | N119: =+M119+((K119/30)*$D$15) -> 0 | O119: =IF(K119=0,"",IF(L119-N119<=0,"*","")) | P119: =+M119+((K119/30)*$D$16) -> 0 | Q119: =+(P119-M119)+(N119-L119) -> 0 | R119: =+'ROSALPI '!T104+ZAMORA!U117+PARIS!T122 -> 0 | S119: 75 | T119: 67500
B120: 103118020 | C120: CLONAZEPAM 2.5mg/ml SOLUCIÓN ORAL (CONTROL ESPECIAL) | D120: FCO X 20 ML | E120: ='ROSALPI '!E105+ZAMORA!F118+PARIS!F123 -> 425 | F120: ='ROSALPI '!F105+ZAMORA!G118+PARIS!G123 -> 426 | G120: ='ROSALPI '!G105+ZAMORA!H118+PARIS!H123 -> 488 | H120: ='ROSALPI '!H105+ZAMORA!I118+PARIS!I123 -> 275 | I120: ='ROSALPI '!I105+ZAMORA!J118+PARIS!J123 -> 371 | J120: ='ROSALPI '!J105+ZAMORA!K118+PARIS!K123 -> 483 | K120: =AVERAGE(E120,F120,G120,H120,I120,J120) -> 411.33333 | L120: ='ROSALPI '!L105+ZAMORA!M118+PARIS!M123 -> 459 | M120: =+K120*(0.0333333333333333)*$D$15 -> 205.66667 | N120: =+M120+((K120/30)*$D$15) -> 411.33333 | O120: =IF(K120=0,"",IF(L120-N120<=0,"*","")) | P120: =+M120+((K120/30)*$D$16) -> 754.11111 | Q120: =+(P120-M120)+(N120-L120) -> 500.77778 | R120: =+'ROSALPI '!T105+ZAMORA!U118+PARIS!T123 -> 300 | S120: 5156 | T120: 0
B121: 103107081 | C121: CLONIDINA 150 mcg TABLETA | D121: UNIDAD | E121: ='ROSALPI '!E106+ZAMORA!F119+PARIS!F124 -> 4 | F121: ='ROSALPI '!F106+ZAMORA!G119+PARIS!G124 -> 5 | G121: ='ROSALPI '!G106+ZAMORA!H119+PARIS!H124 -> 4 | H121: ='ROSALPI '!H106+ZAMORA!I119+PARIS!I124 -> 2 | I121: ='ROSALPI '!I106+ZAMORA!J119+PARIS!J124 -> 0 | J121: ='ROSALPI '!J106+ZAMORA!K119+PARIS!K124 -> 1 | K121: =AVERAGE(E121,F121,G121,H121,I121,J121) -> 2.6666667 | L121: ='ROSALPI '!L106+ZAMORA!M119+PARIS!M124 -> 8 | M121: =+K121*(0.0333333333333333)*$D$15 -> 1.3333333 | N121: =+M121+((K121/30)*$D$15) -> 2.6666667 | O121: =IF(K121=0,"",IF(L121-N121<=0,"*","")) | P121: =+M121+((K121/30)*$D$16) -> 4.8888889 | Q121: =+(P121-M121)+(N121-L121) -> -1.7777778 | R121: =+'ROSALPI '!T106+ZAMORA!U119+PARIS!T124 -> 0 | S121: 40 | T121: 90000
B122: 103118108 | C122: CLOPIDROGUEL 75 mg TABLETA | D122: UNIDAD | E122: ='ROSALPI '!E107+ZAMORA!F120+PARIS!F125 -> 6 | F122: ='ROSALPI '!F107+ZAMORA!G120+PARIS!G125 -> 2 | G122: ='ROSALPI '!G107+ZAMORA!H120+PARIS!H125 -> 2 | H122: ='ROSALPI '!H107+ZAMORA!I120+PARIS!I125 -> 3 | I122: ='ROSALPI '!I107+ZAMORA!J120+PARIS!J125 -> 3 | J122: ='ROSALPI '!J107+ZAMORA!K120+PARIS!K125 -> 4 | K122: =AVERAGE(E122,F122,G122,H122,I122,J122) -> 3.3333333 | L122: ='ROSALPI '!L107+ZAMORA!M120+PARIS!M125 -> 14 | M122: =+K122*(0.0333333333333333)*$D$15 -> 1.6666667 | N122: =+M122+((K122/30)*$D$15) -> 3.3333333 | O122: =IF(K122=0,"",IF(L122-N122<=0,"*","")) | P122: =+M122+((K122/30)*$D$16) -> 6.1111111 | Q122: =+(P122-M122)+(N122-L122) -> -6.2222222 | R122: =+'ROSALPI '!T107+ZAMORA!U120+PARIS!T125 -> 0 | S122: 135 | T122: 702000
B123: 103103046 | C123: CLORFENIRAMINA 2 mg/5ml JARABE | D123: FRASCO | E123: ='ROSALPI '!#REF!+ZAMORA!F121+PARIS!F126 -> #REF! | F123: ='ROSALPI '!#REF!+ZAMORA!G121+PARIS!G126 -> #REF! | G123: ='ROSALPI '!#REF!+ZAMORA!H121+PARIS!H126 -> #REF! | H123: ='ROSALPI '!#REF!+ZAMORA!I121+PARIS!I126 -> #REF! | I123: ='ROSALPI '!#REF!+ZAMORA!J121+PARIS!J126 -> #REF! | J123: ='ROSALPI '!#REF!+ZAMORA!K121+PARIS!K126 -> #REF! | K123: =AVERAGE(E123,F123,G123,H123,I123,J123) -> #REF! | L123: ='ROSALPI '!#REF!+ZAMORA!M121+PARIS!M126 -> #REF! | M123: =+K123*(0.0333333333333333)*$D$15 -> #REF! | N123: =+M123+((K123/30)*$D$15) -> #REF! | O123: =IF(K123=0,"",IF(L123-N123<=0,"*","")) -> #REF! | P123: =+M123+((K123/30)*$D$16) -> #REF! | Q123: =+(P123-M123)+(N123-L123) -> #REF! | R123: =+'ROSALPI '!#REF!+ZAMORA!U121+PARIS!T126 -> #REF! | S123: 0 | T123: 0
B124: 103103045 | C124: CLORFENIRAMINA 4 mg TABLETA | D124: UNIDAD | E124: ='ROSALPI '!#REF!+ZAMORA!F122+PARIS!F127 -> #REF! | F124: ='ROSALPI '!#REF!+ZAMORA!G122+PARIS!G127 -> #REF! | G124: ='ROSALPI '!#REF!+ZAMORA!H122+PARIS!H127 -> #REF! | H124: ='ROSALPI '!#REF!+ZAMORA!I122+PARIS!I127 -> #REF! | I124: ='ROSALPI '!#REF!+ZAMORA!J122+PARIS!J127 -> #REF! | J124: ='ROSALPI '!#REF!+ZAMORA!K122+PARIS!K127 -> #REF! | K124: =AVERAGE(E124,F124,G124,H124,I124,J124) -> #REF! | L124: ='ROSALPI '!#REF!+ZAMORA!M122+PARIS!M127 -> #REF! | M124: =+K124*(0.0333333333333333)*$D$15 -> #REF! | N124: =+M124+((K124/30)*$D$15) -> #REF! | O124: =IF(K124=0,"",IF(L124-N124<=0,"*","")) -> #REF! | P124: =+M124+((K124/30)*$D$16) -> #REF! | Q124: =+(P124-M124)+(N124-L124) -> #REF! | R124: =+'ROSALPI '!#REF!+ZAMORA!U122+PARIS!T127 -> #REF! | S124: 0 | T124: 0
B125: 103104047 | C125: CLOROQUINA 150 mg TABLETA | D125: UNIDAD | E125: ='ROSALPI '!E108+ZAMORA!F123+PARIS!F128 -> 3 | F125: ='ROSALPI '!F108+ZAMORA!G123+PARIS!G128 -> 2 | G125: ='ROSALPI '!G108+ZAMORA!H123+PARIS!H128 -> 1 | H125: ='ROSALPI '!H108+ZAMORA!I123+PARIS!I128 -> 1 | I125: ='ROSALPI '!I108+ZAMORA!J123+PARIS!J128 -> 6 | J125: ='ROSALPI '!J108+ZAMORA!K123+PARIS!K128 -> 8 | K125: =AVERAGE(E125,F125,G125,H125,I125,J125) -> 3.5 | L125: ='ROSALPI '!L108+ZAMORA!M123+PARIS!M128 -> 9 | M125: =+K125*(0.0333333333333333)*$D$15 -> 1.75 | N125: =+M125+((K125/30)*$D$15) -> 3.5 | O125: =IF(K125=0,"",IF(L125-N125<=0,"*","")) | P125: =+M125+((K125/30)*$D$16) -> 6.4166667 | Q125: =+(P125-M125)+(N125-L125) -> -0.83333333 | R125: =+'ROSALPI '!T108+ZAMORA!U123+PARIS!T128 -> 0 | S125: 194 | T125: 58200
B126: 103110090 | C126: CLORURO DE SODIO 2 mEq/ml AMPOLLA | D126: UNIDAD | E126: ='ROSALPI '!E109+ZAMORA!F124+PARIS!F129 -> 1 | F126: ='ROSALPI '!F109+ZAMORA!G124+PARIS!G129 -> 2 | G126: ='ROSALPI '!G109+ZAMORA!H124+PARIS!H129 -> 0 | H126: ='ROSALPI '!H109+ZAMORA!I124+PARIS!I129 -> 8 | I126: ='ROSALPI '!I109+ZAMORA!J124+PARIS!J129 -> 0 | J126: ='ROSALPI '!J109+ZAMORA!K124+PARIS!K129 -> 2 | K126: =AVERAGE(E126,F126,G126,H126,I126,J126) -> 2.1666667 | L126: ='ROSALPI '!L109+ZAMORA!M124+PARIS!M129 -> 10 | M126: =+K126*(0.0333333333333333)*$D$15 -> 1.0833333 | N126: =+M126+((K126/30)*$D$15) -> 2.1666667 | O126: =IF(K126=0,"",IF(L126-N126<=0,"*","")) | P126: =+M126+((K126/30)*$D$16) -> 3.9722222 | Q126: =+(P126-M126)+(N126-L126) -> -4.9444444 | R126: =+'ROSALPI '!T109+ZAMORA!U124+PARIS!T129 -> 0 | S126: 0 | T126: 0
...

Sheet OKA
A1: codigo safix | B1: CANTIDAD TOTAL | K1: Cordial saludo. | L1: MARCA | M1: DESCRIPCION | O1: PROVEEDOR | P1: PRECIO UNITARIO OKA | Q1: PTE ROSALPI | R1: PTE ZAMORA | S1: PTE PARIS | T1: total Pendientes | U1: TOTAL | V1: NOVEDADDES PROVEEDOR
A2: 103100535 | B2: =D2+G2+J2 -> 30 | C2: R | D2: ='ROSALPI '!T19 -> 0 | E2: - | F2: Z | G2: =ZAMORA!U21 -> 20 | H2: - | I2: P | J2: =PARIS!T21 -> 10 | K2: =CONCATENATE(C2,D2,E2,F2,G2,H2,I2,J2) -> R0-Z20-P10 | M2: ACETAMINOFEN 1.5% 150MG/60ML JARABE | N2: FCO X 120 ML | O2: SYD COLOMBIA S.A | P2: 1684 | Q2: ='ROSALPI '!V19 -> 0 | R2: =ZAMORA!W21 -> 20 | S2: =PARIS!V21 -> 10 | T2: =Q2+R2+S2 -> 30 | U2: =P2*T2 -> 50520
A3: 103100001 | B3: =D3+G3+J3 -> 0 | C3: R | D3: ='ROSALPI '!T20 -> 0 | E3: - | F3: Z | G3: =ZAMORA!U22 -> 0 | H3: - | I3: P | J3: =PARIS!T22 -> 0 | K3: =CONCATENATE(C3,D3,E3,F3,G3,H3,I3,J3) -> R0-Z0-P0 | M3: ACETAMINOFEN 100 mg/ml SOLUCIÓN ORAL (GOTAS) | N3: FCO X 30 ML | O3: CLINICAL PHARMA SAS | P3: 1975 | Q3: ='ROSALPI '!V20 -> 0 | R3: =ZAMORA!W22 -> 0 | S3: =PARIS!V22 -> 0 | T3: =Q3+R3+S3 -> 0 | U3: 0
A4: 103100002 | B4: =D4+G4+J4 -> 33000 | C4: R | D4: ='ROSALPI '!T21 -> 0 | E4: - | F4: Z | G4: =ZAMORA!U23 -> 8000 | H4: - | I4: P | J4: =PARIS!T23 -> 25000 | K4: =CONCATENATE(C4,D4,E4,F4,G4,H4,I4,J4) -> R0-Z8000-P25000 | M4: ACETAMINOFEN 500 mg TABLETA | N4: UNIDAD | O4: DISMERQ SAS | P4: 45 | Q4: ='ROSALPI '!V21 -> 0 | R4: =ZAMORA!W23 -> 8000 | S4: =PARIS!V23 -> 25000 | T4: =Q4+R4+S4 -> 33000 | U4: =P4*T4 -> 1485000
A5: 103100006 | B5: =D5+G5+J5 -> 9000 | C5: R | D5: ='ROSALPI '!T22 -> 0 | E5: - | F5: Z | G5: =ZAMORA!U24 -> 3000 | H5: - | I5: P | J5: =PARIS!T24 -> 6000 | K5: =CONCATENATE(C5,D5,E5,F5,G5,H5,I5,J5) -> R0-Z3000-P6000 | M5: ACIDO ACETIL SALICILICO 100 mg TABLETA | N5: UNIDAD | O5: DISMERQ SAS | P5: 42 | Q5: ='ROSALPI '!V22 -> 0 | R5: =ZAMORA!W24 -> 3000 | S5: =PARIS!V24 -> 6000 | T5: =Q5+R5+S5 -> 9000 | U5: =P5*T5 -> 378000
A6: 103100007 | B6: =D6+G6+J6 -> 0 | C6: R | D6: ='ROSALPI '!T23 -> 0 | E6: - | F6: Z | G6: =ZAMORA!U25 -> 0 | H6: - | I6: P | J6: =PARIS!T25 -> 0 | K6: =CONCATENATE(C6,D6,E6,F6,G6,H6,I6,J6) -> R0-Z0-P0 | M6: ACIDO ASCORBICO 10% SOLUCIÓN ORAL | N6: FCO X 30 ML | O6: comercializadora mediflash | P6: 2800 | Q6: ='ROSALPI '!V23 -> 0 | R6: =ZAMORA!W25 -> 0 | S6: =PARIS!V25 -> 0 | T6: =Q6+R6+S6 -> 0 | U6: =P6*T6 -> 0
A7: 103100009 | B7: =D7+G7+J7 -> 200 | C7: R | D7: ='ROSALPI '!T24 -> 0 | E7: - | F7: Z | G7: =ZAMORA!U26 -> 200 | H7: - | I7: P | J7: =PARIS!T26 -> 0 | K7: =CONCATENATE(C7,D7,E7,F7,G7,H7,I7,J7) -> R0-Z200-P0 | M7: ACIDO ASCORBICO 500 mg TABLETA | N7: UNIDAD | O7: SYD COLOMBIA S.A | P7: 124 | Q7: ='ROSALPI '!V24 -> 0 | R7: =ZAMORA!W26 -> 200 | S7: =PARIS!V26 -> 0 | T7: =Q7+R7+S7 -> 200 | U7: =P7*T7 -> 24800
A8: 103100010 | B8: =D8+G8+J8 -> 0 | C8: R | D8: ='ROSALPI '!T25 -> 0 | E8: - | F8: Z | G8: =ZAMORA!U27 -> 0 | H8: - | I8: P | J8: =PARIS!T27 -> 0 | K8: =CONCATENATE(C8,D8,E8,F8,G8,H8,I8,J8) -> R0-Z0-P0 | M8: ACIDO ASCORBICO 500 MG TABLETA MASTICABLE | N8: UNIDAD | O8: SYD COLOMBIA S.A | P8: 154 | Q8: ='ROSALPI '!V25 -> 0 | R8: =ZAMORA!W27 -> 0 | S8: =PARIS!V27 -> 0 | T8: =Q8+R8+S8 -> 0 | U8: =P8*T8 -> 0
A9: 103100012 | B9: =D9+G9+J9 -> 1500 | C9: R | D9: ='ROSALPI '!T26 -> 0 | E9: - | F9: Z | G9: =ZAMORA!U28 -> 500 | H9: - | I9: P | J9: =PARIS!T28 -> 1000 | K9: =CONCATENATE(C9,D9,E9,F9,G9,H9,I9,J9) -> R0-Z500-P1000 | M9: ACIDO FOLICO 1 mg TABLETA | N9: UNIDAD | O9: SYD COLOMBIA S.A | P9: 30 | Q9: ='ROSALPI '!V26 -> 0 | R9: =ZAMORA!W28 -> 500 | S9: =PARIS!V28 -> 1000 | T9: =Q9+R9+S9 -> 1500 | U9: =P9*T9 -> 45000
A10: 103100013 | B10: =D10+G10+J10 -> 0 | C10: R | D10: ='ROSALPI '!T27 -> 0 | E10: - | F10: Z | G10: =ZAMORA!U29 -> 0 | H10: - | I10: P | J10: =PARIS!T29 -> 0 | K10: =CONCATENATE(C10,D10,E10,F10,G10,H10,I10,J10) -> R0-Z0-P0 | M10: ACIDO FOLICO 5MG TABLETAS | N10: UNIDAD | O10: SYD COLOMBIA S.A | P10: 115 | Q10: ='ROSALPI '!V27 -> 0 | R10: =ZAMORA!W29 -> 0 | S10: =PARIS!V29 -> 0 | T10: =Q10+R10+S10 -> 0 | U10: =P10*T10 -> 0
A11: 103100014 | B11: =D11+G11+J11 -> 8 | C11: R | D11: ='ROSALPI '!T28 -> 0 | E11: - | F11: Z | G11: =ZAMORA!U30 -> 5 | H11: - | I11: P | J11: =PARIS!T30 -> 3 | K11: =CONCATENATE(C11,D11,E11,F11,G11,H11,I11,J11) -> R0-Z5-P3 | M11: ACIDO RETINOICO 0.05% CREMA | N11: POTE X 30 g | O11: DISMERQ SAS | P11: 23272 | Q11: ='ROSALPI '!V28 -> 0 | R11: =ZAMORA!W30 -> 5 | S11: =PARIS!V30 -> 3 | T11: =Q11+R11+S11 -> 8 | U11: =P11*T11 -> 186176
A12: 103100015 | B12: =D12+G12+J12 -> 0 | C12: R | D12: ='ROSALPI '!T29 -> 0 | E12: - | F12: Z | G12: =ZAMORA!U31 -> 0 | H12: - | I12: P | J12: =PARIS!T31 -> 0 | K12: =CONCATENATE(C12,D12,E12,F12,G12,H12,I12,J12) -> R0-Z0-P0 | M12: ACIDO RETINOICO 0.05% LOCIÓN | N12: FCO X 60 ML | O12: DISMERQ SAS | P12: 22471 | Q12: ='ROSALPI '!V29 -> 0 | R12: =ZAMORA!W31 -> 0 | S12: =PARIS!V31 -> 0 | T12: =Q12+R12+S12 -> 0 | U12: =P12*T12 -> 0
A13: 103100017 | B13: =D13+G13+J13 -> 6500 | C13: R | D13: ='ROSALPI '!T30 -> 0 | E13: - | F13: Z | G13: =ZAMORA!U32 -> 2000 | H13: - | I13: P | J13: =PARIS!T32 -> 4500 | K13: =CONCATENATE(C13,D13,E13,F13,G13,H13,I13,J13) -> R0-Z2000-P4500 | L13: FERBIN | M13: ACIDO VALPROICO 250 mg CAPSULA | N13: UNIDAD | O13: DISMERQ SAS | P13: 265 | Q13: ='ROSALPI '!V30 -> 0 | R13: =ZAMORA!W32 -> 2000 | S13: =PARIS!V32 -> 4500 | T13: =Q13+R13+S13 -> 6500 | U13: =P13*T13 -> 1722500
A14: 103100018 | B14: =D14+G14+J14 -> 20 | C14: R | D14: ='ROSALPI '!T31 -> 0 | E14: - | F14: Z | G14: =ZAMORA!U33 -> 10 | H14: - | I14: P | J14: =PARIS!T33 -> 10 | K14: =CONCATENATE(C14,D14,E14,F14,G14,H14,I14,J14) -> R0-Z10-P10 | L14: FERBIN | M14: ACIDO VALPROICO 250 mg/5ml JARABE | N14: FCO X 120 ML | O14: DISMERQ SAS | P14: 6440 | Q14: ='ROSALPI '!V31 -> 0 | R14: =ZAMORA!W33 -> 10 | S14: =PARIS!V33 -> 10 | T14: =Q14+R14+S14 -> 20 | U14: =P14*T14 -> 128800
A15: 103100016 | B15: =D15+G15+J15 -> 0 | C15: R | D15: ='ROSALPI '!T32 -> 0 | E15: - | F15: Z | G15: =ZAMORA!U34 -> 0 | H15: - | I15: P | J15: =PARIS!T34 -> 0 | K15: =CONCATENATE(C15,D15,E15,F15,G15,H15,I15,J15) -> R0-Z0-P0 | M15: ACIDO TRANEXANICO AMPOLLA 500 MG /5ML | N15: AMPOLLA 500MG/5 ML | O15: DISMERQ SAS | P15: 3500 | Q15: ='ROSALPI '!V32 -> 0 | R15: =ZAMORA!W34 -> 0 | S15: =PARIS!V34 -> 0 | T15: =Q15+R15+S15 -> 0 | U15: =P15*T15 -> 0
A16: 103100004 | B16: =D16+G16+J16 -> 200 | C16: R | D16: ='ROSALPI '!T33 -> 0 | E16: - | F16: Z | G16: =ZAMORA!U35 -> 200 | H16: - | I16: P | J16: =PARIS!T35 -> 0 | K16: =CONCATENATE(C16,D16,E16,F16,G16,H16,I16,J16) -> R0-Z200-P0 | M16: ACICLOVIR 200 mg TABLETA | N16: UNIDAD | O16: SYD COLOMBIA S.A | P16: 195 | Q16: ='ROSALPI '!V33 -> 0 | R16: =ZAMORA!W35 -> 200 | S16: =PARIS!V35 -> 0 | T16: =Q16+R16+S16 -> 200 | U16: =P16*T16 -> 39000
A17: 103100005 | B17: =D17+G17+J17 -> 0 | C17: R | D17: ='ROSALPI '!T34 -> 0 | E17: - | F17: Z | G17: =ZAMORA!U36 -> 0 | H17: - | I17: P | J17: =PARIS!T36 -> 0 | K17: =CONCATENATE(C17,D17,E17,F17,G17,H17,I17,J17) -> R0-Z0-P0 | M17: ACICLOVIR 800 mg TABLETA | N17: UNIDAD | O17: SYD COLOMBIA S.A | P17: 743 | Q17: ='ROSALPI '!V34 -> 0 | R17: =ZAMORA!W36 -> 0 | S17: =PARIS!V36 -> 0 | T17: =Q17+R17+S17 -> 0 | U17: =P17*T17 -> 0
A18: 103100019 | B18: =D18+G18+J18 -> 0 | C18: R | D18: ='ROSALPI '!T35 -> 0 | E18: - | F18: Z | G18: =ZAMORA!U37 -> 0 | H18: - | I18: P | J18: =PARIS!T37 -> 0 | K18: =CONCATENATE(C18,D18,E18,F18,G18,H18,I18,J18) -> R0-Z0-P0 | M18: ADENOSINA 6 mg/2 ml AMPOLLA | N18: INYECTABLE | O18: SYD COLOMBIA S.A | P18: 26888 | Q18: ='ROSALPI '!V35 -> 0 | R18: =ZAMORA!W37 -> 0 | S18: =PARIS!V37 -> 0 | T18: =Q18+R18+S18 -> 0 | U18: 0
A19: 103100020 | B19: =D19+G19+J19 -> 0 | C19: R | D19: ='ROSALPI '!T36 -> 0 | E19: - | F19: Z | G19: =ZAMORA!U38 -> 0 | H19: - | I19: P | J19: =PARIS!T38 -> 0 | K19: =CONCATENATE(C19,D19,E19,F19,G19,H19,I19,J19) -> R0-Z0-P0 | M19: ADRENALINA 1mg/ml AMPOLLA | N19: UNIDAD | O19: SYD COLOMBIA S.A | P19: 1609 | Q19: ='ROSALPI '!V36 -> 0 | R19: =ZAMORA!W38 -> 0 | S19: =PARIS!V38 -> 0 | T19: =Q19+R19+S19 -> 0 | U19: =P19*T19 -> 0
A20: 103100021 | B20: =D20+G20+J20 -> 0 | C20: R | D20: ='ROSALPI '!T37 -> 0 | E20: - | F20: Z | G20: =ZAMORA!U39 -> 0 | H20: - | I20: P | J20: =PARIS!T39 -> 0 | K20: =CONCATENATE(C20,D20,E20,F20,G20,H20,I20,J20) -> R0-Z0-P0 | M20: AGUA ESTERIL 5 ml AMPOLLA | N20: UNIDAD | O20: comercializadora mediflash | P20: 778 | Q20: ='ROSALPI '!V37 -> 0 | R20: =ZAMORA!W39 -> 0 | S20: =PARIS!V39 -> 0 | T20: =Q20+R20+S20 -> 0 | U20: =P20*T20 -> 0
A21: 103100022 | B21: =D21+G21+J21 -> 0 | C21: R | D21: ='ROSALPI '!T38 -> 0 | E21: - | F21: Z | G21: =ZAMORA!U40 -> 0 | H21: - | I21: P | J21: =PARIS!T40 -> 0 | K21: =CONCATENATE(C21,D21,E21,F21,G21,H21,I21,J21) -> R0-Z0-P0 | M21: AGUA ESTERIL USP BOLSA X 500ML - UNIDAD | N21: UNIDAD | O21: comercializadora mediflash | P21: 4200 | Q21: ='ROSALPI '!V38 -> 0 | R21: =ZAMORA!W40 -> 0 | S21: =PARIS!V40 -> 0 | T21: =Q21+R21+S21 -> 0 | U21: =P21*T21 -> 0
A22: 103100024 | B22: =D22+G22+J22 -> 130 | C22: R | D22: ='ROSALPI '!T39 -> 0 | E22: - | F22: Z | G22: =ZAMORA!U41 -> 30 | H22: - | I22: P | J22: =PARIS!T41 -> 100 | K22: =CONCATENATE(C22,D22,E22,F22,G22,H22,I22,J22) -> R0-Z30-P100 | M22: ALBENDAZOL 400mg/20 ml SUSPENSIÓN ORAL | N22: FRASCO | O22: comercializadora mediflash | P22: 996 | Q22: ='ROSALPI '!V39 -> 0 | R22: =ZAMORA!W41 -> 30 | S22: =PARIS!V41 -> 100 | T22: =Q22+R22+S22 -> 130 | U22: =P22*T22 -> 129480
A23: 103100023 | B23: =D23+G23+J23 -> 60 | C23: R | D23: ='ROSALPI '!T40 -> 0 | E23: - | F23: Z | G23: =ZAMORA!U42 -> 60 | H23: - | I23: P | J23: =PARIS!T42 -> 0 | K23: =CONCATENATE(C23,D23,E23,F23,G23,H23,I23,J23) -> R0-Z60-P0 | M23: ALBENDAZOL 200 mg TABLETA | N23: UNIDAD | O23: comercializadora mediflash | P23: 341 | Q23: ='ROSALPI '!V40 -> 0 | R23: =ZAMORA!W42 -> 60 | S23: =PARIS!V42 -> 0 | T23: =Q23+R23+S23 -> 60 | U23: =P23*T23 -> 20460
A24: 103100712 | B24: =D24+G24+J24 -> 42 | C24: R | D24: ='ROSALPI '!T41 -> 0 | E24: - | F24: Z | G24: =ZAMORA!U43 -> 30 | H24: - | I24: P | J24: =PARIS!T43 -> 12 | K24: =CONCATENATE(C24,D24,E24,F24,G24,H24,I24,J24) -> R0-Z30-P12 | M24: ALCOHOL ANTISEPTICO MK 700ML - FRASCO | N24: FRASCO | O24: SYD COLOMBIA S.A | P24: 7969 | Q24: ='ROSALPI '!V41 -> 0 | R24: =ZAMORA!W43 -> 30 | S24: =PARIS!V43 -> 12 | T24: =Q24+R24+S24 -> 42 | U24: =P24*T24 -> 334698
A25: 103100025 | B25: =D25+G25+J25 -> 300 | C25: R | D25: ='ROSALPI '!T42 -> 0 | E25: - | F25: Z | G25: =ZAMORA!U44 -> 300 | H25: - | I25: P | J25: =PARIS!T44 -> 0 | K25: =CONCATENATE(C25,D25,E25,F25,G25,H25,I25,J25) -> R0-Z300-P0 | M25: ALFAMETILDOPA 250 mg TABLETA | N25: UNIDAD | O25: SYD COLOMBIA S.A | P25: 1885 | Q25: ='ROSALPI '!V42 -> 0 | R25: =ZAMORA!W44 -> 300 | S25: =PARIS!V44 -> 0 | T25: =Q25+R25+S25 -> 300 | U25: =P25*T25 -> 565500
A26: 103100942 | B26: =D26+G26+J26 -> 1150 | C26: R | D26: ='ROSALPI '!T43 -> 0 | E26: - | F26: Z | G26: =ZAMORA!U45 -> 700 | H26: - | I26: P | J26: =PARIS!T45 -> 450 | K26: =CONCATENATE(C26,D26,E26,F26,G26,H26,I26,J26) -> R0-Z700-P450 | M26: ALIMENTO EN POLVO FORMULA CASEA A BASE DE MALTODEXTRINA CON VITAMINASY MINERALES SOBRE D | N26: SOBRE 1 GR | O26: QUIRUCLEAN | P26: 800 | Q26: ='ROSALPI '!V43 -> 0 | R26: =ZAMORA!W45 -> 700 | S26: =PARIS!V45 -> 450 | T26: =Q26+R26+S26 -> 1150 | U26: =P26*T26 -> 920000
A27: 103100028 | B27: =D27+G27+J27 -> 3000 | C27: R | D27: ='ROSALPI '!T44 -> 0 | E27: - | F27: Z | G27: =ZAMORA!U46 -> 600 | H27: - | I27: P | J27: =PARIS!T46 -> 2400 | K27: =CONCATENATE(C27,D27,E27,F27,G27,H27,I27,J27) -> R0-Z600-P2400 | M27: ALOPURINOL 100 mg TABLETA | N27: UNIDAD | O27: comercializadora mediflash | P27: 643 | Q27: ='ROSALPI '!V44 -> 0 | R27: =ZAMORA!W46 -> 600 | S27: =PARIS!V46 -> 2400 | T27: =Q27+R27+S27 -> 3000 | U27: =P27*T27 -> 1929000
A28: 103100029 | B28: =D28+G28+J28 -> 400 | C28: R | D28: ='ROSALPI '!T45 -> 0 | E28: - | F28: Z | G28: =ZAMORA!U47 -> 400 | H28: - | I28: P | J28: =PARIS!T47 -> 0 | K28: =CONCATENATE(C28,D28,E28,F28,G28,H28,I28,J28) -> R0-Z400-P0 | M28: ALOPURINOL 300 mg TABLETA | N28: UNIDAD | O28: DISMERQ SAS | P28: 510 | Q28: ='ROSALPI '!V45 -> 0 | R28: =ZAMORA!W47 -> 400 | S28: =PARIS!V47 -> 0 | T28: =Q28+R28+S28 -> 400 | U28: =P28*T28 -> 204000
A29: 103100030 | B29: =D29+G29+J29 -> 0 | C29: R | D29: ='ROSALPI '!T46 -> 0 | E29: - | F29: Z | G29: =ZAMORA!U48 -> 0 | H29: - | I29: P | J29: =PARIS!T48 -> 0 | K29: =CONCATENATE(C29,D29,E29,F29,G29,H29,I29,J29) -> R0-Z0-P0 | M29: ALPRAZOLAM 0.25 mg TABLETA (CONTROL ESPECIAL) | N29: UNIDAD | O29: CLINICAL PHARMA SAS | P29: 1623 | Q29: ='ROSALPI '!V46 -> 0 | R29: =ZAMORA!W48 -> 0 | S29: =PARIS!V48 -> 0 | T29: =Q29+R29+S29 -> 0 | U29: 0
A30: 103100031 | B30: =D30+G30+J30 -> 0 | C30: R | D30: ='ROSALPI '!T47 -> 0 | E30: - | F30: Z | G30: =ZAMORA!U49 -> 0 | H30: - | I30: P | J30: =PARIS!T49 -> 0 | K30: =CONCATENATE(C30,D30,E30,F30,G30,H30,I30,J30) -> R0-Z0-P0 | M30: ALPRAZOLAM 0.5 mg TABLETA (CONTROL ESPECIAL) | N30: UNIDAD | O30: #N/A | P30: #N/A | Q30: ='ROSALPI '!V47 -> 0 | R30: =ZAMORA!W49 -> 0 | S30: =PARIS!V49 -> 0 | T30: =Q30+R30+S30 -> 0 | U30: 0
A31: 103100032 | B31: =D31+G31+J31 -> 0 | C31: R | D31: ='ROSALPI '!T48 -> 0 | E31: - | F31: Z | G31: =ZAMORA!U50 -> 0 | H31: - | I31: P | J31: =PARIS!T50 -> 0 | K31: =CONCATENATE(C31,D31,E31,F31,G31,H31,I31,J31) -> R0-Z0-P0 | M31: AMANTADINA 100 mg TABLETA | N31: UNIDAD | O31: SYD COLOMBIA S.A | P31: 1386 | Q31: ='ROSALPI '!V48 -> 0 | R31: =ZAMORA!W50 -> 0 | S31: =PARIS!V50 -> 0 | T31: =Q31+R31+S31 -> 0 | U31: =P31*T31 -> 0
A32: 103100033 | B32: =D32+G32+J32 -> 0 | C32: R | D32: ='ROSALPI '!T49 -> 0 | E32: - | F32: Z | G32: =ZAMORA!U51 -> 0 | H32: - | I32: P | J32: =PARIS!T51 -> 0 | K32: =CONCATENATE(C32,D32,E32,F32,G32,H32,I32,J32) -> R0-Z0-P0 | M32: AMIKACINA 100 mg/2ml AMPOLLA | N32: UNIDAD | O32: comercializadora mediflash | P32: 4876 | Q32: ='ROSALPI '!V49 -> 0 | R32: =ZAMORA!W51 -> 0 | S32: =PARIS!V51 -> 0 | T32: =Q32+R32+S32 -> 0 | U32: =P32*T32 -> 0
A33: 103100034 | B33: =D33+G33+J33 -> 0 | C33: R | D33: ='ROSALPI '!T50 -> 0 | E33: - | F33: Z | G33: =ZAMORA!U52 -> 0 | H33: - | I33: P | J33: =PARIS!T52 -> 0 | K33: =CONCATENATE(C33,D33,E33,F33,G33,H33,I33,J33) -> R0-Z0-P0 | M33: AMIKACINA 500 mg/2mL AMPOLLA | N33: UNIDAD | O33: comercializadora mediflash | P33: 3156 | Q33: ='ROSALPI '!V50 -> 0 | R33: =ZAMORA!W52 -> 0 | S33: =PARIS!V52 -> 0 | T33: =Q33+R33+S33 -> 0 | U33: =P33*T33 -> 0
A34: 103100035 | B34: =D34+G34+J34 -> 0 | C34: R | D34: ='ROSALPI '!T51 -> 0 | E34: - | F34: Z | G34: =ZAMORA!U53 -> 0 | H34: - | I34: P | J34: =PARIS!T53 -> 0 | K34: =CONCATENATE(C34,D34,E34,F34,G34,H34,I34,J34) -> R0-Z0-P0 | M34: AMINOFILINA 2.40% AMPOLLA | N34: UNIDAD | O34: #N/A | P34: #N/A | Q34: ='ROSALPI '!V51 -> 0 | R34: =ZAMORA!W53 -> 0 | S34: =PARIS!V53 -> 0 | T34: =Q34+R34+S34 -> 0 | U34: 0
A35: 103100036 | B35: =D35+G35+J35 -> 0 | C35: R | D35: ='ROSALPI '!T52 -> 0 | E35: - | F35: Z | G35: =ZAMORA!U54 -> 0 | H35: - | I35: P | J35: =PARIS!T54 -> 0 | K35: =CONCATENATE(C35,D35,E35,F35,G35,H35,I35,J35) -> R0-Z0-P0 | M35: AMIODARONA 150 mg AMPOLLA | N35: UNIDAD | O35: SYD COLOMBIA S.A | P35: 3304 | Q35: ='ROSALPI '!V52 -> 0 | R35: =ZAMORA!W54 -> 0 | S35: =PARIS!V54 -> 0 | T35: =Q35+R35+S35 -> 0 | U35: 0
A36: 103100037 | B36: =D36+G36+J36 -> 400 | C36: R | D36: ='ROSALPI '!T53 -> 0 | E36: - | F36: Z | G36: =ZAMORA!U55 -> 300 | H36: - | I36: P | J36: =PARIS!T55 -> 100 | K36: =CONCATENATE(C36,D36,E36,F36,G36,H36,I36,J36) -> R0-Z300-P100 | M36: AMIODARONA 200 mg TABLETA | N36: UNIDAD | O36: DISMERQ SAS | P36: 580 | Q36: ='ROSALPI '!V53 -> 0 | R36: =ZAMORA!W55 -> 300 | S36: =PARIS!V55 -> 100 | T36: =Q36+R36+S36 -> 400 | U36: =P36*T36 -> 232000
A37: 103100038 | B37: =D37+G37+J37 -> 1800 | C37: R | D37: ='ROSALPI '!T54 -> 0 | E37: - | F37: Z | G37: =ZAMORA!U56 -> 600 | H37: - | I37: P | J37: =PARIS!T56 -> 1200 | K37: =CONCATENATE(C37,D37,E37,F37,G37,H37,I37,J37) -> R0-Z600-P1200 | M37: AMITRIPTILINA 25 mg TABLETA | N37: UNIDAD | O37: DISMERQ SAS | P37: 50 | Q37: ='ROSALPI '!V54 -> 0 | R37: =ZAMORA!W56 -> 600 | S37: =PARIS!V56 -> 1200 | T37: =Q37+R37+S37 -> 1800 | U37: =P37*T37 -> 90000
A38: 103100039 | B38: =D38+G38+J38 -> 12000 | C38: R | D38: ='ROSALPI '!T55 -> 0 | E38: - | F38: Z | G38: =ZAMORA!U57 -> 6000 | H38: - | I38: P | J38: =PARIS!T57 -> 6000 | K38: =CONCATENATE(C38,D38,E38,F38,G38,H38,I38,J38) -> R0-Z6000-P6000 | M38: AMLODIPINO 10 mg TABLETA | N38: UNIDAD | O38: DISMERQ SAS | P38: 60 | Q38: ='ROSALPI '!V55 -> 0 | R38: =ZAMORA!W57 -> 6000 | S38: =PARIS!V57 -> 6000 | T38: =Q38+R38+S38 -> 12000 | U38: =P38*T38 -> 720000
A39: 103100040 | B39: =D39+G39+J39 -> 22000 | C39: R | D39: ='ROSALPI '!T56 -> 0 | E39: - | F39: Z | G39: =ZAMORA!U58 -> 10000 | H39: - | I39: P | J39: =PARIS!T58 -> 12000 | K39: =CONCATENATE(C39,D39,E39,F39,G39,H39,I39,J39) -> R0-Z10000-P12000 | M39: AMLODIPINO 5 mg TABLETA | N39: UNIDAD | O39: SYD COLOMBIA S.A | P39: 26 | Q39: ='ROSALPI '!V56 -> 0 | R39: =ZAMORA!W58 -> 10000 | S39: =PARIS!V58 -> 12000 | T39: =Q39+R39+S39 -> 22000 | U39: =P39*T39 -> 572000
A40: 103100041 | B40: =D40+G40+J40 -> 20 | C40: R | D40: ='ROSALPI '!T57 -> 0 | E40: - | F40: Z | G40: =ZAMORA!U59 -> 10 | H40: - | I40: P | J40: =PARIS!T59 -> 10 | K40: =CONCATENATE(C40,D40,E40,F40,G40,H40,I40,J40) -> R0-Z10-P10 | M40: AMOXACILINA 250 mg/5ml SUSPENSIÓN ORAL | N40: FCO X 100 ML | O40: DISMERQ SAS | P40: 5880 | Q40: ='ROSALPI '!V57 -> 0 | R40: =ZAMORA!W59 -> 10 | S40: =PARIS!V59 -> 10 | T40: =Q40+R40+S40 -> 20 | U40: =P40*T40 -> 117600
A41: 103100042 | B41: =D41+G41+J41 -> 900 | C41: R | D41: ='ROSALPI '!T58 -> 0 | E41: - | F41: Z | G41: =ZAMORA!U60 -> 400 | H41: - | I41: P | J41: =PARIS!T60 -> 500 | K41: =CONCATENATE(C41,D41,E41,F41,G41,H41,I41,J41) -> R0-Z400-P500 | M41: AMOXACILINA 500 mg TABLETA | N41: UNIDAD | O41: comercializadora mediflash | P41: 290 | Q41: ='ROSALPI '!V58 -> 0 | R41: =ZAMORA!W60 -> 400 | S41: =PARIS!V60 -> 500 | T41: =Q41+R41+S41 -> 900 | U41: =P41*T41 -> 261000
A42: 103100044 | B42: =D42+G42+J42 -> 0 | C42: R | D42: ='ROSALPI '!T59 -> 0 | E42: - | F42: Z | G42: =ZAMORA!U61 -> 0 | H42: - | I42: P | J42: =PARIS!T61 -> 0 | K42: =CONCATENATE(C42,D42,E42,F42,G42,H42,I42,J42) -> R0-Z0-P0 | M42: AMPICILINA 1 g/3.4 ml AMPOLLA | N42: UNIDAD | O42: SYD COLOMBIA S.A | P42: 1971 | Q42: ='ROSALPI '!V59 -> 0 | R42: =ZAMORA!W61 -> 0 | S42: =PARIS!V61 -> 0 | T42: =Q42+R42+S42 -> 0 | U42: =P42*T42 -> 0
A43: 103100045 | B43: =D43+G43+J43 -> 0 | C43: R | D43: ='ROSALPI '!T60 -> 0 | E43: - | F43: Z | G43: =ZAMORA!U62 -> 0 | H43: - | I43: P | J43: =PARIS!T62 -> 0 | K43: =CONCATENATE(C43,D43,E43,F43,G43,H43,I43,J43) -> R0-Z0-P0 | M43: AMPICILINA 1G + SULBACTAM 0.5 G AMPOLLA | N43: UNIDAD | O43: DISMERQ SAS | P43: 2688 | Q43: ='ROSALPI '!V60 -> 0 | R43: =ZAMORA!W62 -> 0 | S43: =PARIS!V62 -> 0 | T43: =Q43+R43+S43 -> 0 | U43: =P43*T43 -> 0
A44: 103100532 | B44: =D44+G44+J44 -> 0 | C44: R | D44: ='ROSALPI '!T61 -> 0 | E44: - | F44: Z | G44: =ZAMORA!U63 -> 0 | H44: - | I44: P | J44: =PARIS!T63 -> 0 | K44: =CONCATENATE(C44,D44,E44,F44,G44,H44,I44,J44) -> R0-Z0-P0 | M44: AMPICILINA 250 mg/5 mL SUSPENSIÓN ORAL | N44: FRASCO | O44: CLINICAL PHARMA SAS | P44: 4211 | Q44: ='ROSALPI '!V61 -> 0 | R44: =ZAMORA!W63 -> 0 | S44: =PARIS!V63 -> 0 | T44: =Q44+R44+S44 -> 0 | U44: 0
A45: 103100046 | B45: =D45+G45+J45 -> 0 | C45: R | D45: ='ROSALPI '!T62 -> 0 | E45: - | F45: Z | G45: =ZAMORA!U64 -> 0 | H45: - | I45: P | J45: =PARIS!T64 -> 0 | K45: =CONCATENATE(C45,D45,E45,F45,G45,H45,I45,J45) -> R0-Z0-P0 | M45: AMPICILINA 500 mg AMPOLLA | N45: UNIDAD | O45: SYD COLOMBIA S.A | P45: 1678 | Q45: ='ROSALPI '!V62 -> 0 | R45: =ZAMORA!W64 -> 0 | S45: =PARIS!V64 -> 0 | T45: =Q45+R45+S45 -> 0 | U45: 0
A46: 103100047 | B46: =D46+G46+J46 -> 0 | C46: R | D46: ='ROSALPI '!T63 -> 0 | E46: - | F46: Z | G46: =ZAMORA!U65 -> 0 | H46: - | I46: P | J46: =PARIS!T65 -> 0 | K46: =CONCATENATE(C46,D46,E46,F46,G46,H46,I46,J46) -> R0-Z0-P0 | M46: AMPICILINA 500 mg CAPSULA | N46: UNIDAD | O46: CLINICAL PHARMA SAS | P46: 311 | Q46: ='ROSALPI '!V63 -> 0 | R46: =ZAMORA!W65 -> 0 | S46: =PARIS!V65 -> 0 | T46: =Q46+R46+S46 -> 0 | U46: =P46*T46 -> 0
A47: 103100053 | B47: =D47+G47+J47 -> 0 | C47: R | D47: ='ROSALPI '!T64 -> 0 | E47: - | F47: Z | G47: =ZAMORA!U66 -> 0 | H47: - | I47: P | J47: =PARIS!T66 -> 0 | K47: =CONCATENATE(C47,D47,E47,F47,G47,H47,I47,J47) -> R0-Z0-P0 | M47: ATAZANAVIR 300 MG TABLETAS | N47: UNIDAD | O47: #N/A | P47: #N/A | Q47: ='ROSALPI '!V64 -> 0 | R47: =ZAMORA!W66 -> 0 | S47: =PARIS!V66 -> 0 | T47: =Q47+R47+S47 -> 0 | U47: =P47*T47 -> #N/A
A48: 103100056 | B48: =D48+G48+J48 -> 0 | C48: R | D48: ='ROSALPI '!T65 -> 0 | E48: - | F48: Z | G48: =ZAMORA!U67 -> 0 | H48: - | I48: P | J48: =PARIS!T67 -> 0 | K48: =CONCATENATE(C48,D48,E48,F48,G48,H48,I48,J48) -> R0-Z0-P0 | M48: ATORVASTATINA 20 mg TABLETA | N48: UNIDAD | O48: #N/A | P48: #N/A | Q48: ='ROSALPI '!V65 -> 0 | R48: =ZAMORA!W67 -> 0 | S48: =PARIS!V67 -> 0 | T48: =Q48+R48+S48 -> 0 | U48: 0
A49: 103100057 | B49: =D49+G49+J49 -> 0 | C49: R | D49: ='ROSALPI '!T66 -> 0 | E49: - | F49: Z | G49: =ZAMORA!U68 -> 0 | H49: - | I49: P | J49: =PARIS!T68 -> 0 | K49: =CONCATENATE(C49,D49,E49,F49,G49,H49,I49,J49) -> R0-Z0-P0 | M49: ATROPINA 1% AMPOLLA | N49: UNIDAD | O49: SYD COLOMBIA S.A | P49: 1278 | Q49: ='ROSALPI '!V66 -> 0 | R49: =ZAMORA!W68 -> 0 | S49: =PARIS!V68 -> 0 | T49: =Q49+R49+S49 -> 0 | U49: 0
A50: 103100059 | B50: =D50+G50+J50 -> 200 | C50: R | D50: ='ROSALPI '!T67 -> 0 | E50: - | F50: Z | G50: =ZAMORA!U69 -> 0 | H50: - | I50: P | J50: =PARIS!T69 -> 200 | K50: =CONCATENATE(C50,D50,E50,F50,G50,H50,I50,J50) -> R0-Z0-P200 | M50: AZATIOPRINA 50 mg TABLETA | N50: UNIDAD | O50: DISMERQ SAS | P50: 343 | Q50: ='ROSALPI '!V67 -> 0 | R50: =ZAMORA!W69 -> 0 | S50: =PARIS!V69 -> 200 | T50: =Q50+R50+S50 -> 200 | U50: =P50*T50 -> 68600
A51: 103100060 | B51: =D51+G51+J51 -> 0 | C51: R | D51: ='ROSALPI '!T68 -> 0 | E51: - | F51: Z | G51: =ZAMORA!U70 -> 0 | H51: - | I51: P | J51: =PARIS!T70 -> 0 | K51: =CONCATENATE(C51,D51,E51,F51,G51,H51,I51,J51) -> R0-Z0-P0 | M51: AZITROMICINA 200 MG/5ML FRASCO X 15 ML | N51: SUSPENSIÓN ORAL | O51: comercializadora mediflash | P51: 7429 | Q51: ='ROSALPI '!V68 -> 0 | R51: =ZAMORA!W70 -> 0 | S51: =PARIS!V70 -> 0 | T51: =Q51+R51+S51 -> 0 | U51: 0
A52: 103100061 | B52: =D52+G52+J52 -> 0 | C52: R | D52: ='ROSALPI '!T69 -> 0 | E52: - | F52: Z | G52: =ZAMORA!U71 -> 0 | H52: - | I52: P | J52: =PARIS!T71 -> 0 | K52: =CONCATENATE(C52,D52,E52,F52,G52,H52,I52,J52) -> R0-Z0-P0 | M52: AZITROMICINA 500 mg TABLETA | N52: UNIDAD | O52: comercializadora mediflash | P52: 1000 | Q52: ='ROSALPI '!V69 -> 0 | R52: =ZAMORA!W71 -> 0 | S52: =PARIS!V71 -> 0 | T52: =Q52+R52+S52 -> 0 | U52: =P52*T52 -> 0
A53: 103100536 | B53: =D53+G53+J53 -> 0 | C53: R | D53: ='ROSALPI '!T70 -> 0 | E53: - | F53: Z | G53: =ZAMORA!U72 -> 0 | H53: - | I53: P | J53: =PARIS!T72 -> 0 | K53: =CONCATENATE(C53,D53,E53,F53,G53,H53,I53,J53) -> R0-Z0-P0 | M53: BECLOMETASONA 250 mcg/dosis INHALADOR | N53: FRASCO | O53: comercializadora mediflash | P53: 11300 | Q53: ='ROSALPI '!V70 -> 0 | R53: =ZAMORA!W72 -> 0 | S53: =PARIS!V72 -> 0 | T53: =Q53+R53+S53 -> 0 | U53: 0
A54: 103100062 | B54: =D54+G54+J54 -> 5 | C54: R | D54: ='ROSALPI '!T71 -> 0 | E54: - | F54: Z | G54: =ZAMORA!U73 -> 5 | H54: - | I54: P | J54: =PARIS!T73 -> 0 | K54: =CONCATENATE(C54,D54,E54,F54,G54,H54,I54,J54) -> R0-Z5-P0 | M54: BECLOMETASONA 50 mcg INHALADOR | N54: FRASCO | O54: comercializadora mediflash | P54: 7600 | Q54: ='ROSALPI '!V71 -> 0 | R54: =ZAMORA!W73 -> 5 | S54: =PARIS!V73 -> 0 | T54: =Q54+R54+S54 -> 5 | U54: =P54*T54 -> 38000
A55: 103100063 | B55: =D55+G55+J55 -> 10 | C55: R | D55: ='ROSALPI '!T72 -> 0 | E55: - | F55: Z | G55: =ZAMORA!U74 -> 10 | H55: - | I55: P | J55: =PARIS!T74 -> 0 | K55: =CONCATENATE(C55,D55,E55,F55,G55,H55,I55,J55) -> R0-Z10-P0 | M55: BECLOMETASONA 50 mcg NASAL (AEROSOL) | N55: FRASCO | O55: DISMERQ SAS | P55: 10612 | Q55: ='ROSALPI '!V72 -> 0 | R55: =ZAMORA!W74 -> 10 | S55: =PARIS!V74 -> 0 | T55: =Q55+R55+S55 -> 10 | U55: =P55*T55 -> 106120
A56: 103100064 | B56: =D56+G56+J56 -> 7 | C56: R | D56: ='ROSALPI '!T73 -> 0 | E56: - | F56: Z | G56: =ZAMORA!U75 -> 3 | H56: - | I56: P | J56: =PARIS!T75 -> 4 | K56: =CONCATENATE(C56,D56,E56,F56,G56,H56,I56,J56) -> R0-Z3-P4 | M56: BENZOATO DE BENCILO 25% LOCIÓN | N56: FRASCO | O56: comercializadora mediflash | P56: 7713 | Q56: ='ROSALPI '!V73 -> 0 | R56: =ZAMORA!W75 -> 3 | S56: =PARIS!V75 -> 4 | T56: =Q56+R56+S56 -> 7 | U56: =P56*T56 -> 53991
A57: 103100068 | B57: =D57+G57+J57 -> 15 | C57: R | D57: ='ROSALPI '!T74 -> 0 | E57: - | F57: Z | G57: =ZAMORA!U76 -> 15 | H57: - | I57: P | J57: =PARIS!T76 -> 0 | K57: =CONCATENATE(C57,D57,E57,F57,G57,H57,I57,J57) -> R0-Z15-P0 | M57: BETAMETASONA DIPROPIONATO 0.05% CREMA x 20 gr | N57: TUBO X 20 g | O57: DISMERQ SAS | P57: 3851 | Q57: ='ROSALPI '!V74 -> 0 | R57: =ZAMORA!W76 -> 15 | S57: =PARIS!V76 -> 0 | T57: =Q57+R57+S57 -> 15 | U57: =P57*T57 -> 57765
A58: 103100069 | B58: =D58+G58+J58 -> 20 | C58: R | D58: ='ROSALPI '!T75 -> 0 | E58: - | F58: Z | G58: =ZAMORA!U77 -> 10 | H58: - | I58: P | J58: =PARIS!T77 -> 10 | K58: =CONCATENATE(C58,D58,E58,F58,G58,H58,I58,J58) -> R0-Z10-P10 | M58: BETAMETASONA DIPROPIONATO 0.05% CREMA x 40 gr | N58: TUBO X 40 g | O58: SYD COLOMBIA S.A | P58: 5058 | Q58: ='ROSALPI '!V75 -> 0 | R58: =ZAMORA!W77 -> 0 | S58: =PARIS!V77 -> 10 | T58: =Q58+R58+S58 -> 10 | U58: =P58*T58 -> 50580
A59: 103100070 | B59: =D59+G59+J59 -> 0 | C59: R | D59: ='ROSALPI '!T76 -> 0 | E59: - | F59: Z | G59: =ZAMORA!U78 -> 0 | H59: - | I59: P | J59: =PARIS!T78 -> 0 | K59: =CONCATENATE(C59,D59,E59,F59,G59,H59,I59,J59) -> R0-Z0-P0 | M59: BETAMETASONA FOSFATO + ACETATO 3+3 mg/ml AMPOLLA | N59: UNIDAD | O59: #N/A | P59: #N/A | Q59: ='ROSALPI '!V76 -> 0 | R59: =ZAMORA!W78 -> 0 | S59: =PARIS!V78 -> 0 | T59: =Q59+R59+S59 -> 0 | U59: 0
A60: 103100071 | B60: =D60+G60+J60 -> 0 | C60: R | D60: ='ROSALPI '!T77 -> 0 | E60: - | F60: Z | G60: =ZAMORA!U79 -> 0 | H60: - | I60: P | J60: =PARIS!T79 -> 0 | K60: =CONCATENATE(C60,D60,E60,F60,G60,H60,I60,J60) -> R0-Z0-P0 | M60: BETAMETASONA FOSFATO SÓDICO 4mg/ml AMPOLLA | N60: UNIDAD | O60: comercializadora mediflash | P60: 926 | Q60: ='ROSALPI '!V77 -> 0 | R60: =ZAMORA!W79 -> 0 | S60: =PARIS!V79 -> 0 | T60: =Q60+R60+S60 -> 0 | U60: 0
A61: 103100072 | B61: =D61+G61+J61 -> 0 | C61: R | D61: ='ROSALPI '!T78 -> 0 | E61: - | F61: Z | G61: =ZAMORA!U80 -> 0 | H61: - | I61: P | J61: =PARIS!T80 -> 0 | K61: =CONCATENATE(C61,D61,E61,F61,G61,H61,I61,J61) -> R0-Z0-P0 | M61: BETAMETILDIGOXINA 0.02 mg AMPOLLA | N61: UNIDAD | O61: comercializadora mediflash | P61: 4071 | Q61: ='ROSALPI '!V78 -> 0 | R61: =ZAMORA!W80 -> 0 | S61: =PARIS!V80 -> 0 | T61: =Q61+R61+S61 -> 0 | U61: 0
A62: 103100075 | B62: =D62+G62+J62 -> 0 | C62: R | D62: ='ROSALPI '!T79 -> 0 | E62: - | F62: Z | G62: =ZAMORA!U81 -> 0 | H62: - | I62: P | J62: =PARIS!T81 -> 0 | K62: =CONCATENATE(C62,D62,E62,F62,G62,H62,I62,J62) -> R0-Z0-P0 | M62: BICARBONATO DE SODIO 10mEg /10ml AMPOLLA | N62: UNIDAD | O62: SYD COLOMBIA S.A | P62: 3512 | Q62: ='ROSALPI '!V79 -> 0 | R62: =ZAMORA!W81 -> 0 | S62: =PARIS!V81 -> 0 | T62: =Q62+R62+S62 -> 0 | U62: 0
A63: 103100076 | B63: =D63+G63+J63 -> 0 | C63: R | D63: ='ROSALPI '!T80 -> 0 | E63: - | F63: Z | G63: =ZAMORA!U82 -> 0 | H63: - | I63: P | J63: =PARIS!T82 -> 0 | K63: =CONCATENATE(C63,D63,E63,F63,G63,H63,I63,J63) -> R0-Z0-P0 | M63: BIPERIDENO CLORHIDRATO 2 mg TABLETA | N63: UNIDAD | O63: SYD COLOMBIA S.A | P63: 281 | Q63: ='ROSALPI '!V80 -> 0 | R63: =ZAMORA!W82 -> 0 | S63: =PARIS!V82 -> 0 | T63: =Q63+R63+S63 -> 0 | U63: =P63*T63 -> 0
A64: 103100077 | B64: =D64+G64+J64 -> 1200 | C64: R | D64: ='ROSALPI '!T81 -> 0 | E64: - | F64: Z | G64: =ZAMORA!U83 -> 600 | H64: - | I64: P | J64: =PARIS!T83 -> 600 | K64: =CONCATENATE(C64,D64,E64,F64,G64,H64,I64,J64) -> R0-Z600-P600 | M64: BISACODILO 5mg TABLETA | N64: UNIDAD | O64: DISMERQ SAS | P64: 57 | Q64: ='ROSALPI '!V81 -> 0 | R64: =ZAMORA!W83 -> 600 | S64: =PARIS!V83 -> 600 | T64: =Q64+R64+S64 -> 1200 | U64: =P64*T64 -> 68400
A65: 103100081 | B65: =D65+G65+J65 -> 130 | C65: R | D65: ='ROSALPI '!T82 -> 0 | E65: - | F65: Z | G65: =ZAMORA!U84 -> 30 | H65: - | I65: P | J65: =PARIS!T84 -> 100 | K65: =CONCATENATE(C65,D65,E65,F65,G65,H65,I65,J65) -> R0-Z30-P100 | M65: BROMURO DE IPRATROPIO 0.02 mg INHALADOR | N65: FCO X 200 DOSIS | O65: CLINICAL PHARMA SAS | P65: 11600 | Q65: ='ROSALPI '!V82 -> 0 | R65: =ZAMORA!W84 -> 30 | S65: =PARIS!V84 -> 100 | T65: =Q65+R65+S65 -> 130 | U65: =P65*T65 -> 1508000
A66: 103100082 | B66: =D66+G66+J66 -> 0 | C66: R | D66: ='ROSALPI '!T83 -> 0 | E66: - | F66: Z | G66: =ZAMORA!U85 -> 0 | H66: - | I66: P | J66: =PARIS!T85 -> 0 | K66: =CONCATENATE(C66,D66,E66,F66,G66,H66,I66,J66) -> R0-Z0-P0 | M66: BROMURO DE IPRATROPIO 0.025% GOTAS | N66: FRASCO | O66: #N/A | P66: #N/A | Q66: ='ROSALPI '!V83 -> 0 | R66: =ZAMORA!W85 -> 0 | S66: =PARIS!V85 -> 0 | T66: =Q66+R66+S66 -> 0 | U66: 0
